Workbook
Name ConstructionList: OFFSET(Engine!$AB$2,0,0,Engine!$AB$1+1,1)
Name ElementList: OFFSET(Engine!$AJ$2,0,0,8,1)
Name RegionList: OFFSET(Engine!$AF$2,0,0,Engine!$AF$1+1,1)
Name SubtypeList: OFFSET(Engine!$AD$2,0,0,Engine!$AD$1+1,1)
Name TypeList: OFFSET(Engine!$Z$2,0,0,Engine!$Z$1+1,1)
Name YearList: OFFSET(Engine!$AH$2,0,0,Engine!$AH$1+1,1)

Sheet Finder
K1: =Engine!$BB$1 -> 0
A2: NCM Default U-Value Finder | H2: buildingperformanceexplained.com | K2: =Engine!$BB$2 -> 0
A3: Work down the dropdowns. Each one only offers choices that still exist after the ones above it — leave anything you do not know as Any. | K3: =Engine!$BB$3 -> 0
K4: =Engine!$BB$4 -> 0
K5: =Engine!$BB$5 -> 0
B6: 1 ELEMENT | D6: 2 TYPE / GROUP | F6: 3 CONSTRUCTION / MATERIAL | K6: =Engine!$BB$6 -> 0
B7: Wall | D7: Any | F7: Any | K7: =Engine!$AD$1 -> 0
K8: =Engine!$BB$7 -> 0
B9: 4 SUBTYPE (GLAZING ONLY) | D9: 5 REGION | F9: 6 YEAR / DETAIL
B10: Any | D10: Any | F10: 1990
B12: KEYWORD (OPTIONAL)
D13: Leave blank unless you want to narrow further. Wood, wooden and timber all find the same rows.
A15: =IF($K$8>0,"Some choices no longer apply — reset the amber boxes to Any.",IF(SUM(Engine!$W$2:$W$419)=0,"No matches. Set one of the dropdowns back to Any.",IF(SUM(Engine!$W$2:$W$419)>100,TEXT(SUM(Engine!$W$2:$W$419),"0")&" matches — showing the first 100. Use another dropdown to narrow it down.",TEXT(SUM(Engine!$W$2:$W$419),"0")&IF(SUM(Engine!$W$2:$W$419)=1," match found."," matches found."))))&IF(Engine!$BA$16="",""," (Only the first 8 keyword words were used.)") -> 5 matches found.
A16: # | B16: Element | C16: Type / group | D16: Construction / frame | E16: Subtype | F16: Region | G16: Year / detail | H16: Regulation | I16: U-value (W/m²K)
A17: =IF($B17="","",1) -> 1 | B17: =IFERROR(INDEX('All Data'!$B$2:$B$419,MATCH(1,Engine!$X$2:$X$419,0))&"","") -> Wall | C17: =IFERROR(INDEX('All Data'!$C$2:$C$419,MATCH(1,Engine!$X$2:$X$419,0))&"","") -> Solid (Masonry) Wall | D17: =IFERROR(INDEX('All Data'!$D$2:$D$419,MATCH(1,Engine!$X$2:$X$419,0))&"","") -> Solid wall | E17: =IFERROR(INDEX('All Data'!$E$2:$E$419,MATCH(1,Engine!$X$2:$X$419,0))&"","") | F17: =IFERROR(INDEX('All Data'!$F$2:$F$419,MATCH(1,Engine!$X$2:$X$419,0))&"","") -> England & Wales | G17: =IFERROR(INDEX('All Data'!$G$2:$G$419,MATCH(1,Engine!$X$2:$X$419,0))&"","") -> 1990 | H17: =IFERROR(INDEX('All Data'!$H$2:$H$419,MATCH(1,Engine!$X$2:$X$419,0))&"","") -> Part L | I17: =IFERROR(INDEX('All Data'!$I$2:$I$419,MATCH(1,Engine!$X$2:$X$419,0)),"") -> 0.45
A18: =IF($B18="","",2) -> 2 | B18: =IFERROR(INDEX('All Data'!$B$2:$B$419,MATCH(2,Engine!$X$2:$X$419,0))&"","") -> Wall | C18: =IFERROR(INDEX('All Data'!$C$2:$C$419,MATCH(2,Engine!$X$2:$X$419,0))&"","") -> Cavity Wall (Full Fill) | D18: =IFERROR(INDEX('All Data'!$D$2:$D$419,MATCH(2,Engine!$X$2:$X$419,0))&"","") -> Cavity wall | E18: =IFERROR(INDEX('All Data'!$E$2:$E$419,MATCH(2,Engine!$X$2:$X$419,0))&"","") | F18: =IFERROR(INDEX('All Data'!$F$2:$F$419,MATCH(2,Engine!$X$2:$X$419,0))&"","") -> England & Wales | G18: =IFERROR(INDEX('All Data'!$G$2:$G$419,MATCH(2,Engine!$X$2:$X$419,0))&"","") -> 1990 | H18: =IFERROR(INDEX('All Data'!$H$2:$H$419,MATCH(2,Engine!$X$2:$X$419,0))&"","") -> Part L | I18: =IFERROR(INDEX('All Data'!$I$2:$I$419,MATCH(2,Engine!$X$2:$X$419,0)),"") -> 0.55
A19: =IF($B19="","",3) -> 3 | B19: =IFERROR(INDEX('All Data'!$B$2:$B$419,MATCH(3,Engine!$X$2:$X$419,0))&"","") -> Wall | C19: =IFERROR(INDEX('All Data'!$C$2:$C$419,MATCH(3,Engine!$X$2:$X$419,0))&"","") -> Non-Structural Wall (Metal) | D19: =IFERROR(INDEX('All Data'!$D$2:$D$419,MATCH(3,Engine!$X$2:$X$419,0))&"","") -> Metal cladding wall | E19: =IFERROR(INDEX('All Data'!$E$2:$E$419,MATCH(3,Engine!$X$2:$X$419,0))&"","") | F19: =IFERROR(INDEX('All Data'!$F$2:$F$419,MATCH(3,Engine!$X$2:$X$419,0))&"","") -> England & Wales | G19: =IFERROR(INDEX('All Data'!$G$2:$G$419,MATCH(3,Engine!$X$2:$X$419,0))&"","") -> 1990 | H19: =IFERROR(INDEX('All Data'!$H$2:$H$419,MATCH(3,Engine!$X$2:$X$419,0))&"","") -> Part L | I19: =IFERROR(INDEX('All Data'!$I$2:$I$419,MATCH(3,Engine!$X$2:$X$419,0)),"") -> 0.45
A20: =IF($B20="","",4) -> 4 | B20: =IFERROR(INDEX('All Data'!$B$2:$B$419,MATCH(4,Engine!$X$2:$X$419,0))&"","") -> Wall | C20: =IFERROR(INDEX('All Data'!$C$2:$C$419,MATCH(4,Engine!$X$2:$X$419,0))&"","") -> Timber Frame Wall | D20: =IFERROR(INDEX('All Data'!$D$2:$D$419,MATCH(4,Engine!$X$2:$X$419,0))&"","") -> Stud wall to roof void | E20: =IFERROR(INDEX('All Data'!$E$2:$E$419,MATCH(4,Engine!$X$2:$X$419,0))&"","") | F20: =IFERROR(INDEX('All Data'!$F$2:$F$419,MATCH(4,Engine!$X$2:$X$419,0))&"","") -> England & Wales | G20: =IFERROR(INDEX('All Data'!$G$2:$G$419,MATCH(4,Engine!$X$2:$X$419,0))&"","") -> 1990 | H20: =IFERROR(INDEX('All Data'!$H$2:$H$419,MATCH(4,Engine!$X$2:$X$419,0))&"","") -> Part L | I20: =IFERROR(INDEX('All Data'!$I$2:$I$419,MATCH(4,Engine!$X$2:$X$419,0)),"") -> 0.45
A21: =IF($B21="","",5) -> 5 | B21: =IFERROR(INDEX('All Data'!$B$2:$B$419,MATCH(5,Engine!$X$2:$X$419,0))&"","") -> Wall | C21: =IFERROR(INDEX('All Data'!$C$2:$C$419,MATCH(5,Engine!$X$2:$X$419,0))&"","") -> Timber Frame Wall | D21: =IFERROR(INDEX('All Data'!$D$2:$D$419,MATCH(5,Engine!$X$2:$X$419,0))&"","") -> Timber frame wall | E21: =IFERROR(INDEX('All Data'!$E$2:$E$419,MATCH(5,Engine!$X$2:$X$419,0))&"","") | F21: =IFERROR(INDEX('All Data'!$F$2:$F$419,MATCH(5,Engine!$X$2:$X$419,0))&"","") -> England & Wales | G21: =IFERROR(INDEX('All Data'!$G$2:$G$419,MATCH(5,Engine!$X$2:$X$419,0))&"","") -> 1990 | H21: =IFERROR(INDEX('All Data'!$H$2:$H$419,MATCH(5,Engine!$X$2:$X$419,0))&"","") -> Part L | I21: =IFERROR(INDEX('All Data'!$I$2:$I$419,MATCH(5,Engine!$X$2:$X$419,0)),"") -> 0.45
A22: =IF($B22="","",6) | B22: =IFERROR(INDEX('All Data'!$B$2:$B$419,MATCH(6,Engine!$X$2:$X$419,0))&"","") | C22: =IFERROR(INDEX('All Data'!$C$2:$C$419,MATCH(6,Engine!$X$2:$X$419,0))&"","") | D22: =IFERROR(INDEX('All Data'!$D$2:$D$419,MATCH(6,Engine!$X$2:$X$419,0))&"","") | E22: =IFERROR(INDEX('All Data'!$E$2:$E$419,MATCH(6,Engine!$X$2:$X$419,0))&"","") | F22: =IFERROR(INDEX('All Data'!$F$2:$F$419,MATCH(6,Engine!$X$2:$X$419,0))&"","") | G22: =IFERROR(INDEX('All Data'!$G$2:$G$419,MATCH(6,Engine!$X$2:$X$419,0))&"","") | H22: =IFERROR(INDEX('All Data'!$H$2:$H$419,MATCH(6,Engine!$X$2:$X$419,0))&"","") | I22: =IFERROR(INDEX('All Data'!$I$2:$I$419,MATCH(6,Engine!$X$2:$X$419,0)),"")
A23: =IF($B23="","",7) | B23: =IFERROR(INDEX('All Data'!$B$2:$B$419,MATCH(7,Engine!$X$2:$X$419,0))&"","") | C23: =IFERROR(INDEX('All Data'!$C$2:$C$419,MATCH(7,Engine!$X$2:$X$419,0))&"","") | D23: =IFERROR(INDEX('All Data'!$D$2:$D$419,MATCH(7,Engine!$X$2:$X$419,0))&"","") | E23: =IFERROR(INDEX('All Data'!$E$2:$E$419,MATCH(7,Engine!$X$2:$X$419,0))&"","") | F23: =IFERROR(INDEX('All Data'!$F$2:$F$419,MATCH(7,Engine!$X$2:$X$419,0))&"","") | G23: =IFERROR(INDEX('All Data'!$G$2:$G$419,MATCH(7,Engine!$X$2:$X$419,0))&"","") | H23: =IFERROR(INDEX('All Data'!$H$2:$H$419,MATCH(7,Engine!$X$2:$X$419,0))&"","") | I23: =IFERROR(INDEX('All Data'!$I$2:$I$419,MATCH(7,Engine!$X$2:$X$419,0)),"")
A24: =IF($B24="","",8) | B24: =IFERROR(INDEX('All Data'!$B$2:$B$419,MATCH(8,Engine!$X$2:$X$419,0))&"","") | C24: =IFERROR(INDEX('All Data'!$C$2:$C$419,MATCH(8,Engine!$X$2:$X$419,0))&"","") | D24: =IFERROR(INDEX('All Data'!$D$2:$D$419,MATCH(8,Engine!$X$2:$X$419,0))&"","") | E24: =IFERROR(INDEX('All Data'!$E$2:$E$419,MATCH(8,Engine!$X$2:$X$419,0))&"","") | F24: =IFERROR(INDEX('All Data'!$F$2:$F$419,MATCH(8,Engine!$X$2:$X$419,0))&"","") | G24: =IFERROR(INDEX('All Data'!$G$2:$G$419,MATCH(8,Engine!$X$2:$X$419,0))&"","") | H24: =IFERROR(INDEX('All Data'!$H$2:$H$419,MATCH(8,Engine!$X$2:$X$419,0))&"","") | I24: =IFERROR(INDEX('All Data'!$I$2:$I$419,MATCH(8,Engine!$X$2:$X$419,0)),"")
A25: =IF($B25="","",9) | B25: =IFERROR(INDEX('All Data'!$B$2:$B$419,MATCH(9,Engine!$X$2:$X$419,0))&"","") | C25: =IFERROR(INDEX('All Data'!$C$2:$C$419,MATCH(9,Engine!$X$2:$X$419,0))&"","") | D25: =IFERROR(INDEX('All Data'!$D$2:$D$419,MATCH(9,Engine!$X$2:$X$419,0))&"","") | E25: =IFERROR(INDEX('All Data'!$E$2:$E$419,MATCH(9,Engine!$X$2:$X$419,0))&"","") | F25: =IFERROR(INDEX('All Data'!$F$2:$F$419,MATCH(9,Engine!$X$2:$X$419,0))&"","") | G25: =IFERROR(INDEX('All Data'!$G$2:$G$419,MATCH(9,Engine!$X$2:$X$419,0))&"","") | H25: =IFERROR(INDEX('All Data'!$H$2:$H$419,MATCH(9,Engine!$X$2:$X$419,0))&"","") | I25: =IFERROR(INDEX('All Data'!$I$2:$I$419,MATCH(9,Engine!$X$2:$X$419,0)),"")
A26: =IF($B26="","",10) | B26: =IFERROR(INDEX('All Data'!$B$2:$B$419,MATCH(10,Engine!$X$2:$X$419,0))&"","") | C26: =IFERROR(INDEX('All Data'!$C$2:$C$419,MATCH(10,Engine!$X$2:$X$419,0))&"","") | D26: =IFERROR(INDEX('All Data'!$D$2:$D$419,MATCH(10,Engine!$X$2:$X$419,0))&"","") | E26: =IFERROR(INDEX('All Data'!$E$2:$E$419,MATCH(10,Engine!$X$2:$X$419,0))&"","") | F26: =IFERROR(INDEX('All Data'!$F$2:$F$419,MATCH(10,Engine!$X$2:$X$419,0))&"","") | G26: =IFERROR(INDEX('All Data'!$G$2:$G$419,MATCH(10,Engine!$X$2:$X$419,0))&"","") | H26: =IFERROR(INDEX('All Data'!$H$2:$H$419,MATCH(10,Engine!$X$2:$X$419,0))&"","") | I26: =IFERROR(INDEX('All Data'!$I$2:$I$419,MATCH(10,Engine!$X$2:$X$419,0)),"")
A27: =IF($B27="","",11) | B27: =IFERROR(INDEX('All Data'!$B$2:$B$419,MATCH(11,Engine!$X$2:$X$419,0))&"","") | C27: =IFERROR(INDEX('All Data'!$C$2:$C$419,MATCH(11,Engine!$X$2:$X$419,0))&"","") | D27: =IFERROR(INDEX('All Data'!$D$2:$D$419,MATCH(11,Engine!$X$2:$X$419,0))&"","") | E27: =IFERROR(INDEX('All Data'!$E$2:$E$419,MATCH(11,Engine!$X$2:$X$419,0))&"","") | F27: =IFERROR(INDEX('All Data'!$F$2:$F$419,MATCH(11,Engine!$X$2:$X$419,0))&"","") | G27: =IFERROR(INDEX('All Data'!$G$2:$G$419,MATCH(11,Engine!$X$2:$X$419,0))&"","") | H27: =IFERROR(INDEX('All Data'!$H$2:$H$419,MATCH(11,Engine!$X$2:$X$419,0))&"","") | I27: =IFERROR(INDEX('All Data'!$I$2:$I$419,MATCH(11,Engine!$X$2:$X$419,0)),"")
A28: =IF($B28="","",12) | B28: =IFERROR(INDEX('All Data'!$B$2:$B$419,MATCH(12,Engine!$X$2:$X$419,0))&"","") | C28: =IFERROR(INDEX('All Data'!$C$2:$C$419,MATCH(12,Engine!$X$2:$X$419,0))&"","") | D28: =IFERROR(INDEX('All Data'!$D$2:$D$419,MATCH(12,Engine!$X$2:$X$419,0))&"","") | E28: =IFERROR(INDEX('All Data'!$E$2:$E$419,MATCH(12,Engine!$X$2:$X$419,0))&"","") | F28: =IFERROR(INDEX('All Data'!$F$2:$F$419,MATCH(12,Engine!$X$2:$X$419,0))&"","") | G28: =IFERROR(INDEX('All Data'!$G$2:$G$419,MATCH(12,Engine!$X$2:$X$419,0))&"","") | H28: =IFERROR(INDEX('All Data'!$H$2:$H$419,MATCH(12,Engine!$X$2:$X$419,0))&"","") | I28: =IFERROR(INDEX('All Data'!$I$2:$I$419,MATCH(12,Engine!$X$2:$X$419,0)),"")
A29: =IF($B29="","",13) | B29: =IFERROR(INDEX('All Data'!$B$2:$B$419,MATCH(13,Engine!$X$2:$X$419,0))&"","") | C29: =IFERROR(INDEX('All Data'!$C$2:$C$419,MATCH(13,Engine!$X$2:$X$419,0))&"","") | D29: =IFERROR(INDEX('All Data'!$D$2:$D$419,MATCH(13,Engine!$X$2:$X$419,0))&"","") | E29: =IFERROR(INDEX('All Data'!$E$2:$E$419,MATCH(13,Engine!$X$2:$X$419,0))&"","") | F29: =IFERROR(INDEX('All Data'!$F$2:$F$419,MATCH(13,Engine!$X$2:$X$419,0))&"","") | G29: =IFERROR(INDEX('All Data'!$G$2:$G$419,MATCH(13,Engine!$X$2:$X$419,0))&"","") | H29: =IFERROR(INDEX('All Data'!$H$2:$H$419,MATCH(13,Engine!$X$2:$X$419,0))&"","") | I29: =IFERROR(INDEX('All Data'!$I$2:$I$419,MATCH(13,Engine!$X$2:$X$419,0)),"")
A30: =IF($B30="","",14) | B30: =IFERROR(INDEX('All Data'!$B$2:$B$419,MATCH(14,Engine!$X$2:$X$419,0))&"","") | C30: =IFERROR(INDEX('All Data'!$C$2:$C$419,MATCH(14,Engine!$X$2:$X$419,0))&"","") | D30: =IFERROR(INDEX('All Data'!$D$2:$D$419,MATCH(14,Engine!$X$2:$X$419,0))&"","") | E30: =IFERROR(INDEX('All Data'!$E$2:$E$419,MATCH(14,Engine!$X$2:$X$419,0))&"","") | F30: =IFERROR(INDEX('All Data'!$F$2:$F$419,MATCH(14,Engine!$X$2:$X$419,0))&"","") | G30: =IFERROR(INDEX('All Data'!$G$2:$G$419,MATCH(14,Engine!$X$2:$X$419,0))&"","") | H30: =IFERROR(INDEX('All Data'!$H$2:$H$419,MATCH(14,Engine!$X$2:$X$419,0))&"","") | I30: =IFERROR(INDEX('All Data'!$I$2:$I$419,MATCH(14,Engine!$X$2:$X$419,0)),"")
A31: =IF($B31="","",15) | B31: =IFERROR(INDEX('All Data'!$B$2:$B$419,MATCH(15,Engine!$X$2:$X$419,0))&"","") | C31: =IFERROR(INDEX('All Data'!$C$2:$C$419,MATCH(15,Engine!$X$2:$X$419,0))&"","") | D31: =IFERROR(INDEX('All Data'!$D$2:$D$419,MATCH(15,Engine!$X$2:$X$419,0))&"","") | E31: =IFERROR(INDEX('All Data'!$E$2:$E$419,MATCH(15,Engine!$X$2:$X$419,0))&"","") | F31: =IFERROR(INDEX('All Data'!$F$2:$F$419,MATCH(15,Engine!$X$2:$X$419,0))&"","") | G31: =IFERROR(INDEX('All Data'!$G$2:$G$419,MATCH(15,Engine!$X$2:$X$419,0))&"","") | H31: =IFERROR(INDEX('All Data'!$H$2:$H$419,MATCH(15,Engine!$X$2:$X$419,0))&"","") | I31: =IFERROR(INDEX('All Data'!$I$2:$I$419,MATCH(15,Engine!$X$2:$X$419,0)),"")
A32: =IF($B32="","",16) | B32: =IFERROR(INDEX('All Data'!$B$2:$B$419,MATCH(16,Engine!$X$2:$X$419,0))&"","") | C32: =IFERROR(INDEX('All Data'!$C$2:$C$419,MATCH(16,Engine!$X$2:$X$419,0))&"","") | D32: =IFERROR(INDEX('All Data'!$D$2:$D$419,MATCH(16,Engine!$X$2:$X$419,0))&"","") | E32: =IFERROR(INDEX('All Data'!$E$2:$E$419,MATCH(16,Engine!$X$2:$X$419,0))&"","") | F32: =IFERROR(INDEX('All Data'!$F$2:$F$419,MATCH(16,Engine!$X$2:$X$419,0))&"","") | G32: =IFERROR(INDEX('All Data'!$G$2:$G$419,MATCH(16,Engine!$X$2:$X$419,0))&"","") | H32: =IFERROR(INDEX('All Data'!$H$2:$H$419,MATCH(16,Engine!$X$2:$X$419,0))&"","") | I32: =IFERROR(INDEX('All Data'!$I$2:$I$419,MATCH(16,Engine!$X$2:$X$419,0)),"")
A33: =IF($B33="","",17) | B33: =IFERROR(INDEX('All Data'!$B$2:$B$419,MATCH(17,Engine!$X$2:$X$419,0))&"","") | C33: =IFERROR(INDEX('All Data'!$C$2:$C$419,MATCH(17,Engine!$X$2:$X$419,0))&"","") | D33: =IFERROR(INDEX('All Data'!$D$2:$D$419,MATCH(17,Engine!$X$2:$X$419,0))&"","") | E33: =IFERROR(INDEX('All Data'!$E$2:$E$419,MATCH(17,Engine!$X$2:$X$419,0))&"","") | F33: =IFERROR(INDEX('All Data'!$F$2:$F$419,MATCH(17,Engine!$X$2:$X$419,0))&"","") | G33: =IFERROR(INDEX('All Data'!$G$2:$G$419,MATCH(17,Engine!$X$2:$X$419,0))&"","") | H33: =IFERROR(INDEX('All Data'!$H$2:$H$419,MATCH(17,Engine!$X$2:$X$419,0))&"","") | I33: =IFERROR(INDEX('All Data'!$I$2:$I$419,MATCH(17,Engine!$X$2:$X$419,0)),"")
A34: =IF($B34="","",18) | B34: =IFERROR(INDEX('All Data'!$B$2:$B$419,MATCH(18,Engine!$X$2:$X$419,0))&"","") | C34: =IFERROR(INDEX('All Data'!$C$2:$C$419,MATCH(18,Engine!$X$2:$X$419,0))&"","") | D34: =IFERROR(INDEX('All Data'!$D$2:$D$419,MATCH(18,Engine!$X$2:$X$419,0))&"","") | E34: =IFERROR(INDEX('All Data'!$E$2:$E$419,MATCH(18,Engine!$X$2:$X$419,0))&"","") | F34: =IFERROR(INDEX('All Data'!$F$2:$F$419,MATCH(18,Engine!$X$2:$X$419,0))&"","") | G34: =IFERROR(INDEX('All Data'!$G$2:$G$419,MATCH(18,Engine!$X$2:$X$419,0))&"","") | H34: =IFERROR(INDEX('All Data'!$H$2:$H$419,MATCH(18,Engine!$X$2:$X$419,0))&"","") | I34: =IFERROR(INDEX('All Data'!$I$2:$I$419,MATCH(18,Engine!$X$2:$X$419,0)),"")
A35: =IF($B35="","",19) | B35: =IFERROR(INDEX('All Data'!$B$2:$B$419,MATCH(19,Engine!$X$2:$X$419,0))&"","") | C35: =IFERROR(INDEX('All Data'!$C$2:$C$419,MATCH(19,Engine!$X$2:$X$419,0))&"","") | D35: =IFERROR(INDEX('All Data'!$D$2:$D$419,MATCH(19,Engine!$X$2:$X$419,0))&"","") | E35: =IFERROR(INDEX('All Data'!$E$2:$E$419,MATCH(19,Engine!$X$2:$X$419,0))&"","") | F35: =IFERROR(INDEX('All Data'!$F$2:$F$419,MATCH(19,Engine!$X$2:$X$419,0))&"","") | G35: =IFERROR(INDEX('All Data'!$G$2:$G$419,MATCH(19,Engine!$X$2:$X$419,0))&"","") | H35: =IFERROR(INDEX('All Data'!$H$2:$H$419,MATCH(19,Engine!$X$2:$X$419,0))&"","") | I35: =IFERROR(INDEX('All Data'!$I$2:$I$419,MATCH(19,Engine!$X$2:$X$419,0)),"")
A36: =IF($B36="","",20) | B36: =IFERROR(INDEX('All Data'!$B$2:$B$419,MATCH(20,Engine!$X$2:$X$419,0))&"","") | C36: =IFERROR(INDEX('All Data'!$C$2:$C$419,MATCH(20,Engine!$X$2:$X$419,0))&"","") | D36: =IFERROR(INDEX('All Data'!$D$2:$D$419,MATCH(20,Engine!$X$2:$X$419,0))&"","") | E36: =IFERROR(INDEX('All Data'!$E$2:$E$419,MATCH(20,Engine!$X$2:$X$419,0))&"","") | F36: =IFERROR(INDEX('All Data'!$F$2:$F$419,MATCH(20,Engine!$X$2:$X$419,0))&"","") | G36: =IFERROR(INDEX('All Data'!$G$2:$G$419,MATCH(20,Engine!$X$2:$X$419,0))&"","") | H36: =IFERROR(INDEX('All Data'!$H$2:$H$419,MATCH(20,Engine!$X$2:$X$419,0))&"","") | I36: =IFERROR(INDEX('All Data'!$I$2:$I$419,MATCH(20,Engine!$X$2:$X$419,0)),"")
A37: =IF($B37="","",21) | B37: =IFERROR(INDEX('All Data'!$B$2:$B$419,MATCH(21,Engine!$X$2:$X$419,0))&"","") | C37: =IFERROR(INDEX('All Data'!$C$2:$C$419,MATCH(21,Engine!$X$2:$X$419,0))&"","") | D37: =IFERROR(INDEX('All Data'!$D$2:$D$419,MATCH(21,Engine!$X$2:$X$419,0))&"","") | E37: =IFERROR(INDEX('All Data'!$E$2:$E$419,MATCH(21,Engine!$X$2:$X$419,0))&"","") | F37: =IFERROR(INDEX('All Data'!$F$2:$F$419,MATCH(21,Engine!$X$2:$X$419,0))&"","") | G37: =IFERROR(INDEX('All Data'!$G$2:$G$419,MATCH(21,Engine!$X$2:$X$419,0))&"","") | H37: =IFERROR(INDEX('All Data'!$H$2:$H$419,MATCH(21,Engine!$X$2:$X$419,0))&"","") | I37: =IFERROR(INDEX('All Data'!$I$2:$I$419,MATCH(21,Engine!$X$2:$X$419,0)),"")
A38: =IF($B38="","",22) | B38: =IFERROR(INDEX('All Data'!$B$2:$B$419,MATCH(22,Engine!$X$2:$X$419,0))&"","") | C38: =IFERROR(INDEX('All Data'!$C$2:$C$419,MATCH(22,Engine!$X$2:$X$419,0))&"","") | D38: =IFERROR(INDEX('All Data'!$D$2:$D$419,MATCH(22,Engine!$X$2:$X$419,0))&"","") | E38: =IFERROR(INDEX('All Data'!$E$2:$E$419,MATCH(22,Engine!$X$2:$X$419,0))&"","") | F38: =IFERROR(INDEX('All Data'!$F$2:$F$419,MATCH(22,Engine!$X$2:$X$419,0))&"","") | G38: =IFERROR(INDEX('All Data'!$G$2:$G$419,MATCH(22,Engine!$X$2:$X$419,0))&"","") | H38: =IFERROR(INDEX('All Data'!$H$2:$H$419,MATCH(22,Engine!$X$2:$X$419,0))&"","") | I38: =IFERROR(INDEX('All Data'!$I$2:$I$419,MATCH(22,Engine!$X$2:$X$419,0)),"")
A39: =IF($B39="","",23) | B39: =IFERROR(INDEX('All Data'!$B$2:$B$419,MATCH(23,Engine!$X$2:$X$419,0))&"","") | C39: =IFERROR(INDEX('All Data'!$C$2:$C$419,MATCH(23,Engine!$X$2:$X$419,0))&"","") | D39: =IFERROR(INDEX('All Data'!$D$2:$D$419,MATCH(23,Engine!$X$2:$X$419,0))&"","") | E39: =IFERROR(INDEX('All Data'!$E$2:$E$419,MATCH(23,Engine!$X$2:$X$419,0))&"","") | F39: =IFERROR(INDEX('All Data'!$F$2:$F$419,MATCH(23,Engine!$X$2:$X$419,0))&"","") | G39: =IFERROR(INDEX('All Data'!$G$2:$G$419,MATCH(23,Engine!$X$2:$X$419,0))&"","") | H39: =IFERROR(INDEX('All Data'!$H$2:$H$419,MATCH(23,Engine!$X$2:$X$419,0))&"","") | I39: =IFERROR(INDEX('All Data'!$I$2:$I$419,MATCH(23,Engine!$X$2:$X$419,0)),"")
A40: =IF($B40="","",24) | B40: =IFERROR(INDEX('All Data'!$B$2:$B$419,MATCH(24,Engine!$X$2:$X$419,0))&"","") | C40: =IFERROR(INDEX('All Data'!$C$2:$C$419,MATCH(24,Engine!$X$2:$X$419,0))&"","") | D40: =IFERROR(INDEX('All Data'!$D$2:$D$419,MATCH(24,Engine!$X$2:$X$419,0))&"","") | E40: =IFERROR(INDEX('All Data'!$E$2:$E$419,MATCH(24,Engine!$X$2:$X$419,0))&"","") | F40: =IFERROR(INDEX('All Data'!$F$2:$F$419,MATCH(24,Engine!$X$2:$X$419,0))&"","") | G40: =IFERROR(INDEX('All Data'!$G$2:$G$419,MATCH(24,Engine!$X$2:$X$419,0))&"","") | H40: =IFERROR(INDEX('All Data'!$H$2:$H$419,MATCH(24,Engine!$X$2:$X$419,0))&"","") | I40: =IFERROR(INDEX('All Data'!$I$2:$I$419,MATCH(24,Engine!$X$2:$X$419,0)),"")
A41: =IF($B41="","",25) | B41: =IFERROR(INDEX('All Data'!$B$2:$B$419,MATCH(25,Engine!$X$2:$X$419,0))&"","") | C41: =IFERROR(INDEX('All Data'!$C$2:$C$419,MATCH(25,Engine!$X$2:$X$419,0))&"","") | D41: =IFERROR(INDEX('All Data'!$D$2:$D$419,MATCH(25,Engine!$X$2:$X$419,0))&"","") | E41: =IFERROR(INDEX('All Data'!$E$2:$E$419,MATCH(25,Engine!$X$2:$X$419,0))&"","") | F41: =IFERROR(INDEX('All Data'!$F$2:$F$419,MATCH(25,Engine!$X$2:$X$419,0))&"","") | G41: =IFERROR(INDEX('All Data'!$G$2:$G$419,MATCH(25,Engine!$X$2:$X$419,0))&"","") | H41: =IFERROR(INDEX('All Data'!$H$2:$H$419,MATCH(25,Engine!$X$2:$X$419,0))&"","") | I41: =IFERROR(INDEX('All Data'!$I$2:$I$419,MATCH(25,Engine!$X$2:$X$419,0)),"")
A42: =IF($B42="","",26) | B42: =IFERROR(INDEX('All Data'!$B$2:$B$419,MATCH(26,Engine!$X$2:$X$419,0))&"","") | C42: =IFERROR(INDEX('All Data'!$C$2:$C$419,MATCH(26,Engine!$X$2:$X$419,0))&"","") | D42: =IFERROR(INDEX('All Data'!$D$2:$D$419,MATCH(26,Engine!$X$2:$X$419,0))&"","") | E42: =IFERROR(INDEX('All Data'!$E$2:$E$419,MATCH(26,Engine!$X$2:$X$419,0))&"","") | F42: =IFERROR(INDEX('All Data'!$F$2:$F$419,MATCH(26,Engine!$X$2:$X$419,0))&"","") | G42: =IFERROR(INDEX('All Data'!$G$2:$G$419,MATCH(26,Engine!$X$2:$X$419,0))&"","") | H42: =IFERROR(INDEX('All Data'!$H$2:$H$419,MATCH(26,Engine!$X$2:$X$419,0))&"","") | I42: =IFERROR(INDEX('All Data'!$I$2:$I$419,MATCH(26,Engine!$X$2:$X$419,0)),"")
...

Sheet All Data
A1: ID | B1: Element | C1: Type / group | D1: Construction / frame | E1: Subtype | F1: Region | G1: Year / detail | H1: Regulation / status | I1: U-value (W/m²K) | J1: Notes | K1: Search keywords | L1: Source | M1: Extra search terms
A2: UV-001 | B2: Wall | C2: Solid (Masonry) Wall | D2: Cast concrete wall | F2: Not specified | G2: Internal insulation | I2: 0.83 | K2: wall solid masonry wall cast concrete wall not specified internal insulation cast concrete wall not specified internal insulation 0.83 wall walls | L2: https://buildingperformanceexplained.com/2026/05/06/ncm-default-u-values-existing-uk-buildings/
A3: UV-002 | B3: Wall | C3: Solid (Masonry) Wall | D3: Cob wall | F3: England & Wales | G3: Pre-1982 | I3: 0.8 | K3: wall solid masonry wall cob wall england and wales pre 1982 cob wall england and wales pre 1982 0.8 england wales e and w ew wall walls | L3: https://buildingperformanceexplained.com/2026/05/06/ncm-default-u-values-existing-uk-buildings/
A4: UV-003 | B4: Wall | C4: Solid (Masonry) Wall | D4: Cob wall | F4: England & Wales | G4: 1982 onwards | I4: 0.6 | K4: wall solid masonry wall cob wall england and wales 1982 onwards cob wall england and wales 1982 onwards 0.6 england wales e and w ew wall walls | L4: https://buildingperformanceexplained.com/2026/05/06/ncm-default-u-values-existing-uk-buildings/
A5: UV-004 | B5: Wall | C5: Solid (Masonry) Wall | D5: Cob wall | F5: Not specified | G5: External insulation | I5: 0.39 | K5: wall solid masonry wall cob wall not specified external insulation cob wall not specified external insulation 0.39 wall walls | L5: https://buildingperformanceexplained.com/2026/05/06/ncm-default-u-values-existing-uk-buildings/
A6: UV-005 | B6: Wall | C6: Solid (Masonry) Wall | D6: Cob wall | F6: Not specified | G6: Internal insulation | I6: 0.41 | K6: wall solid masonry wall cob wall not specified internal insulation cob wall not specified internal insulation 0.41 wall walls | L6: https://buildingperformanceexplained.com/2026/05/06/ncm-default-u-values-existing-uk-buildings/
A7: UV-006 | B7: Wall | C7: Solid (Masonry) Wall | D7: Heavy partition wall | F7: Not specified | G7: — | I7: 3.5 | K7: wall solid masonry wall heavy partition wall not specified heavy partition wall not specified 3.5 wall walls | L7: https://buildingperformanceexplained.com/2026/05/06/ncm-default-u-values-existing-uk-buildings/
A8: UV-007 | B8: Wall | C8: Solid (Masonry) Wall | D8: Masonry wall with rainscreen | F8: Not specified | G8: — | I8: 1.7 | K8: wall solid masonry wall masonry wall with rainscreen not specified masonry wall with rainscreen not specified 1.7 wall walls | L8: https://buildingperformanceexplained.com/2026/05/06/ncm-default-u-values-existing-uk-buildings/
A9: UV-008 | B9: Wall | C9: Solid (Masonry) Wall | D9: Solid brick wall, 110mm | F9: England & Wales | G9: Uninsulated | I9: 3.1 | K9: wall solid masonry wall solid brick wall 110mm england and wales uninsulated solid brick wall 110mm england and wales uninsulated 3.1 england wales e and w ew wall walls | L9: https://buildingperformanceexplained.com/2026/05/06/ncm-default-u-values-existing-uk-buildings/
A10: UV-009 | B10: Wall | C10: Solid (Masonry) Wall | D10: Solid brick wall, 110mm | F10: England & Wales | G10: Dry lined | I10: 1.9 | K10: wall solid masonry wall solid brick wall 110mm england and wales dry lined solid brick wall 110mm england and wales dry lined 1.9 england wales e and w ew wall walls | L10: https://buildingperformanceexplained.com/2026/05/06/ncm-default-u-values-existing-uk-buildings/
A11: UV-010 | B11: Wall | C11: Solid (Masonry) Wall | D11: Solid brick wall, 110mm | F11: England & Wales | G11: Insulated | I11: 0.6 | K11: wall solid masonry wall solid brick wall 110mm england and wales insulated solid brick wall 110mm england and wales insulated 0.6 england wales e and w ew wall walls | L11: https://buildingperformanceexplained.com/2026/05/06/ncm-default-u-values-existing-uk-buildings/
A12: UV-011 | B12: Wall | C12: Solid (Masonry) Wall | D12: Solid brick wall, 225mm | F12: Not specified | G12: Pre-1919 uninsulated | I12: 1.7 | K12: wall solid masonry wall solid brick wall 225mm not specified pre 1919 uninsulated solid brick wall 225mm not specified pre 1919 uninsulated 1.7 wall walls | L12: https://buildingperformanceexplained.com/2026/05/06/ncm-default-u-values-existing-uk-buildings/
A13: UV-012 | B13: Wall | C13: Solid (Masonry) Wall | D13: Solid brick wall, 230mm | F13: England & Wales | G13: Dry lined | I13: 1.41 | K13: wall solid masonry wall solid brick wall 230mm england and wales dry lined solid brick wall 230mm england and wales dry lined 1.41 england wales e and w ew wall walls | L13: https://buildingperformanceexplained.com/2026/05/06/ncm-default-u-values-existing-uk-buildings/
... A27: UV-026 | B27: Wall | C27: Solid (Masonry) Wall | D27: Solid wall | F27: England & Wales | G27: 1974-1980 | I27: 1.7 | K27: wall solid masonry wall solid wall england and wales 1974 1980 solid wall england and wales 1974 1980 1.7 england wales e and w ew wall walls | L27: https://buildingperformanceexplained.com/2026/05/06/ncm-default-u-values-existing-uk-buildings/
A28: UV-027 | B28: Wall | C28: Solid (Masonry) Wall | D28: Solid wall | F28: England & Wales | G28: 1980/85 | H28: Part L | I28: 0.6 | K28: wall solid masonry wall solid wall england and wales 1980 85 part l solid wall england and wales 1980 85 part l 0.6 england wales e and w ew wall walls | L28: https://buildingperformanceexplained.com/2026/05/06/ncm-default-u-values-existing-uk-buildings/
A29: UV-028 | B29: Wall | C29: Solid (Masonry) Wall | D29: Solid wall | F29: England & Wales | G29: 1990 | H29: Part L | I29: 0.45 | K29: wall solid masonry wall solid wall england and wales 1990 part l solid wall england and wales 1990 part l 0.45 england wales e and w ew wall walls | L29: https://buildingperformanceexplained.com/2026/05/06/ncm-default-u-values-existing-uk-buildings/
A30: UV-029 | B30: Wall | C30: Solid (Masonry) Wall | D30: Solid wall | F30: England & Wales | G30: 1995 | H30: Part L | I30: 0.45 | K30: wall solid masonry wall solid wall england and wales 1995 part l solid wall england and wales 1995 part l 0.45 england wales e and w ew wall walls | L30: https://buildingperformanceexplained.com/2026/05/06/ncm-default-u-values-existing-uk-buildings/
A31: UV-030 | B31: Wall | C31: Solid (Masonry) Wall | D31: Solid wall | F31: England & Wales | G31: 2002 | H31: Part L | I31: 0.35 | K31: wall solid masonry wall solid wall england and wales 2002 part l solid wall england and wales 2002 part l 0.35 england wales e and w ew wall walls | L31: https://buildingperformanceexplained.com/2026/05/06/ncm-default-u-values-existing-uk-buildings/
A32: UV-031 | B32: Wall | C32: Solid (Masonry) Wall | D32: Solid wall | F32: England & Wales | G32: 2006/2010 | H32: Part L | I32: 0.35 | K32: wall solid masonry wall solid wall england and wales 2006 2010 part l solid wall england and wales 2006 2010 part l 0.35 england wales e and w ew wall walls | L32: https://buildingperformanceexplained.com/2026/05/06/ncm-default-u-values-existing-uk-buildings/
A33: UV-032 | B33: Wall | C33: Solid (Masonry) Wall | D33: Solid wall | F33: Northern Ireland | G33: 2006 | H33: Part F | I33: 0.35 | K33: wall solid masonry wall solid wall northern ireland 2006 part f solid wall northern ireland 2006 part f 0.35 northern ireland ni wall walls | L33: https://buildingperformanceexplained.com/2026/05/06/ncm-default-u-values-existing-uk-buildings/
A34: UV-033 | B34: Wall | C34: Solid (Masonry) Wall | D34: Solid wall | F34: Scotland | G34: 1975-1981 | I34: 1 | K34: wall solid masonry wall solid wall scotland 1975 1981 solid wall scotland 1975 1981 1 scotland sco wall walls | L34: https://buildingperformanceexplained.com/2026/05/06/ncm-default-u-values-existing-uk-buildings/
A35: UV-034 | B35: Wall | C35: Solid (Masonry) Wall | D35: Solid wall | F35: Scotland | G35: 1982-1990 | I35: 0.6 | K35: wall solid masonry wall solid wall scotland 1982 1990 solid wall scotland 1982 1990 0.6 scotland sco wall walls | L35: https://buildingperformanceexplained.com/2026/05/06/ncm-default-u-values-existing-uk-buildings/
A36: UV-035 | B36: Wall | C36: Solid (Masonry) Wall | D36: Solid wall | F36: Scotland | G36: 1991-1996 | I36: 0.45 | K36: wall solid masonry wall solid wall scotland 1991 1996 solid wall scotland 1991 1996 0.45 scotland sco wall walls | L36: https://buildingperformanceexplained.com/2026/05/06/ncm-default-u-values-existing-uk-buildings/
A37: UV-036 | B37: Wall | C37: Solid (Masonry) Wall | D37: Solid wall | F37: Scotland | G37: 1997-2001 | I37: 0.45 | K37: wall solid masonry wall solid wall scotland 1997 2001 solid wall scotland 1997 2001 0.45 scotland sco wall walls | L37: https://buildingperformanceexplained.com/2026/05/06/ncm-default-u-values-existing-uk-buildings/
A38: UV-037 | B38: Wall | C38: Solid (Masonry) Wall | D38: Solid wall | F38: Scotland | G38: 2002 | H38: Part J | I38: 0.3 | K38: wall solid masonry wall solid wall scotland 2002 part j solid wall scotland 2002 part j 0.3 scotland sco wall walls | L38: https://buildingperformanceexplained.com/2026/05/06/ncm-default-u-values-existing-uk-buildings/
A39: UV-038 | B39: Wall | C39: Solid (Masonry) Wall | D39: Solid wall | F39: Scotland | G39: 2007 | H39: Section 6 | I39: 0.25 | K39: wall solid masonry wall solid wall scotland 2007 section 6 solid wall scotland 2007 section 6 0.25 scotland sco wall walls | L39: https://buildingperformanceexplained.com/2026/05/06/ncm-default-u-values-existing-uk-buildings/
A40: UV-039 | B40: Wall | C40: Solid (Masonry) Wall | D40: Solid wall | F40: Not specified | G40: External insulation | I40: 0.33 | K40: wall solid masonry wall solid wall not specified external insulation solid wall not specified external insulation 0.33 wall walls | L40: https://buildingperformanceexplained.com/2026/05/06/ncm-default-u-values-existing-uk-buildings/
A41: UV-040 | B41: Wall | C41: Cavity Wall (Clear) | D41: Clear cavity wall | F41: England & Wales | G41: Pre-1974 | I41: 1.6 | K41: wall cavity wall clear clear cavity wall england and wales pre 1974 clear cavity wall england and wales pre 1974 1.6 england wales e and w ew wall walls | L41: https://buildingperformanceexplained.com/2026/05/06/ncm-default-u-values-existing-uk-buildings/
A42: UV-041 | B42: Wall | C42: Cavity Wall (Clear) | D42: Clear cavity wall | F42: England & Wales | G42: 1974-1980 | I42: 1 | K42: wall cavity wall clear clear cavity wall england and wales 1974 1980 clear cavity wall england and wales 1974 1980 1 england wales e and w ew wall walls | L42: https://buildingperformanceexplained.com/2026/05/06/ncm-default-u-values-existing-uk-buildings/
A43: UV-042 | B43: Wall | C43: Cavity Wall (Clear) | D43: Clear cavity wall | F43: Northern Ireland | G43: 1977 or earlier | I43: 1.7 | K43: wall cavity wall clear clear cavity wall northern ireland 1977 or earlier clear cavity wall northern ireland 1977 or earlier 1.7 northern ireland ni wall walls | L43: https://buildingperformanceexplained.com/2026/05/06/ncm-default-u-values-existing-uk-buildings/
A44: UV-043 | B44: Wall | C44: Cavity Wall (Clear) | D44: Clear cavity wall | F44: Northern Ireland | G44: 1978-1983 | I44: 1 | K44: wall cavity wall clear clear cavity wall northern ireland 1978 1983 clear cavity wall northern ireland 1978 1983 1 northern ireland ni wall walls | L44: https://buildingperformanceexplained.com/2026/05/06/ncm-default-u-values-existing-uk-buildings/
A45: UV-044 | B45: Wall | C45: Cavity Wall (Clear) | D45: Clear cavity wall | F45: Scotland | G45: Pre-1975 | I45: 2.4 | K45: wall cavity wall clear clear cavity wall scotland pre 1975 clear cavity wall scotland pre 1975 2.4 scotland sco wall walls | L45: https://buildingperformanceexplained.com/2026/05/06/ncm-default-u-values-existing-uk-buildings/
A46: UV-045 | B46: Wall | C46: Cavity Wall (Clear) | D46: Clear cavity wall | F46: Scotland | G46: 1975-1981 | I46: 1 | K46: wall cavity wall clear clear cavity wall scotland 1975 1981 clear cavity wall scotland 1975 1981 1 scotland sco wall walls | L46: https://buildingperformanceexplained.com/2026/05/06/ncm-default-u-values-existing-uk-buildings/
A47: UV-046 | B47: Wall | C47: Cavity Wall (Clear) | D47: Clear cavity wall | F47: Scotland | G47: 1982-1990 | I47: 0.6 | K47: wall cavity wall clear clear cavity wall scotland 1982 1990 clear cavity wall scotland 1982 1990 0.6 scotland sco wall walls | L47: https://buildingperformanceexplained.com/2026/05/06/ncm-default-u-values-existing-uk-buildings/
A48: UV-047 | B48: Wall | C48: Cavity Wall (Clear) | D48: Clear cavity wall | F48: Scotland | G48: 1991-1996 | I48: 0.45 | K48: wall cavity wall clear clear cavity wall scotland 1991 1996 clear cavity wall scotland 1991 1996 0.45 scotland sco wall walls | L48: https://buildingperformanceexplained.com/2026/05/06/ncm-default-u-values-existing-uk-buildings/
A49: UV-048 | B49: Wall | C49: Cavity Wall (Clear) | D49: Clear cavity wall | F49: Scotland | G49: 1997-2001 | I49: 0.45 | K49: wall cavity wall clear clear cavity wall scotland 1997 2001 clear cavity wall scotland 1997 2001 0.45 scotland sco wall walls | L49: https://buildingperformanceexplained.com/2026/05/06/ncm-default-u-values-existing-uk-buildings/
A50: UV-049 | B50: Wall | C50: Cavity Wall (Clear) | D50: Clear cavity wall | F50: Scotland | G50: 2002-2006 | I50: 0.3 | K50: wall cavity wall clear clear cavity wall scotland 2002 2006 clear cavity wall scotland 2002 2006 0.3 scotland sco wall walls | L50: https://buildingperformanceexplained.com/2026/05/06/ncm-default-u-values-existing-uk-buildings/
A51: UV-050 | B51: Wall | C51: Cavity Wall (Clear) | D51: Clear cavity wall | F51: Scotland | G51: 2007 | H51: Section 6 | I51: 0.25 | K51: wall cavity wall clear clear cavity wall scotland 2007 section 6 clear cavity wall scotland 2007 section 6 0.25 scotland sco wall walls | L51: https://buildingperformanceexplained.com/2026/05/06/ncm-default-u-values-existing-uk-buildings/
A52: UV-051 | B52: Wall | C52: Cavity Wall (Full Fill) | D52: Cavity wall | F52: England & Wales | G52: 1980/85 | H52: Part L | I52: 0.65 | K52: wall cavity wall full fill cavity wall england and wales 1980 85 part l cavity wall england and wales 1980 85 part l 0.65 england wales e and w ew wall walls | L52: https://buildingperformanceexplained.com/2026/05/06/ncm-default-u-values-existing-uk-buildings/
A53: UV-052 | B53: Wall | C53: Cavity Wall (Full Fill) | D53: Cavity wall | F53: England & Wales | G53: 1990 | H53: Part L | I53: 0.55 | K53: wall cavity wall full fill cavity wall england and wales 1990 part l cavity wall england and wales 1990 part l 0.55 england wales e and w ew wall walls | L53: https://buildingperformanceexplained.com/2026/05/06/ncm-default-u-values-existing-uk-buildings/
...

Sheet Engine
A1: match B | B1: match C | C1: match D | D1: match E | E1: match F | F1: match G | G1: match keyword | H1: Type upstream | K1: Construct upstream | N1: Subtype upstream | Q1: Region upstream | T1: Year upstream | W1: final match | X1: final rank | Z1: =SUM($I$2:$I$419) -> 7 | AB1: =SUM($L$2:$L$419) -> 37 | AD1: =SUM($O$2:$O$419) -> 0 | AF1: =SUM($R$2:$R$419) -> 4 | AH1: =SUM($U$2:$U$419) -> 56 | BA1: =Finder!$B$7 -> Wall | BB1: =IF(OR($BA1="Any",$BA1=""),0,IF(COUNTIF(ElementList,$BA1)=0,1,0)) -> 0
A2: =IF(OR($BA1="Any",$BA1=""),1,IF('All Data'!$B2=$BA1,1,0)) -> 1 | B2: =IF(OR($BA2="Any",$BA2=""),1,IF('All Data'!$C2=$BA2,1,0)) -> 1 | C2: =IF(OR($BA3="Any",$BA3=""),1,IF('All Data'!$D2=$BA3,1,0)) -> 1 | D2: =IF(OR($BA4="Any",$BA4=""),1,IF('All Data'!$E2=$BA4,1,0)) -> 1 | E2: =IF(OR($BA5="Any",$BA5=""),1,IF('All Data'!$F2=$BA5,1,0)) -> 1 | F2: =IF(OR($BA6="Any",$BA6=""),1,IF('All Data'!$G2=$BA6,1,0)) -> 0 | G2: =IF(AND(OR($BA$8="",ISNUMBER(SEARCH($BA$8,'All Data'!$K2&" "&'All Data'!$M2))),OR($BA$9="",ISNUMBER(SEARCH($BA$9,'All Data'!$K2&" "&'All Data'!$M2))),OR($BA$10="",ISNUMBER(SEARCH($BA$10,'All Data'!$K2&" "&'All Data'!$M2))),OR($BA$11="",ISNUMBER(SEARCH($BA$11,'All Data'!$K2&" "&'All Data'!$M2))),OR($BA$12="",ISNUMBER(SEARCH($BA$12,'All Data'!$K2&" "&'All Data'!$M2))),OR($BA$13="",ISNUMBER(SEARCH($BA$13,'All Data'!$K2&" "&'All Data'!$M2))),OR($BA$14="",ISNUMBER(SEARCH($BA$14,'All Data'!$K2&" "&'All Data'!$M2))),OR($BA$15="",ISNUMBER(SEARCH($BA$15,'All Data'!$K2&" "&'All Data'!$M2)))),1,0) -> 1 | H2: =$A2 -> 1 | I2: =IF(AND($H2=1,'All Data'!$C2<>""),1,0) -> 1 | J2: =IF($I2=1,SUM($I$2:I2),"") -> 1 | K2: =$A2*$B2 -> 1 | L2: =IF(AND($K2=1,'All Data'!$D2<>""),1,0) -> 1 | M2: =IF($L2=1,SUM($L$2:L2),"") -> 1 | N2: =$A2*$B2*$C2 -> 1 | O2: =IF(AND($N2=1,'All Data'!$E2<>""),1,0) -> 0 | P2: =IF($O2=1,SUM($O$2:O2),"") | Q2: =$A2*$B2*$C2*$D2 -> 1 | R2: =IF(AND($Q2=1,'All Data'!$F2<>""),1,0) -> 1 | S2: =IF($R2=1,SUM($R$2:R2),"") -> 1 | T2: =$A2*$B2*$C2*$D2*$E2 -> 1 | U2: =IF(AND($T2=1,'All Data'!$G2<>""),1,0) -> 1 | V2: =IF($U2=1,SUM($U$2:U2),"") -> 1 | W2: =$A2*$B2*$C2*$D2*$E2*$F2*$G2 -> 0 | X2: =IF($W2=1,SUM($W$2:W2),"") | Z2: Any | AB2: Any | AD2: Any | AF2: Any | AH2: Any | AJ2: Any | BA2: =Finder!$D$7 -> Any | BB2: =IF(OR($BA2="Any",$BA2=""),0,IF(COUNTIF(TypeList,$BA2)=0,1,0)) -> 0
A3: =IF(OR($BA1="Any",$BA1=""),1,IF('All Data'!$B3=$BA1,1,0)) -> 1 | B3: =IF(OR($BA2="Any",$BA2=""),1,IF('All Data'!$C3=$BA2,1,0)) -> 1 | C3: =IF(OR($BA3="Any",$BA3=""),1,IF('All Data'!$D3=$BA3,1,0)) -> 1 | D3: =IF(OR($BA4="Any",$BA4=""),1,IF('All Data'!$E3=$BA4,1,0)) -> 1 | E3: =IF(OR($BA5="Any",$BA5=""),1,IF('All Data'!$F3=$BA5,1,0)) -> 1 | F3: =IF(OR($BA6="Any",$BA6=""),1,IF('All Data'!$G3=$BA6,1,0)) -> 0 | G3: =IF(AND(OR($BA$8="",ISNUMBER(SEARCH($BA$8,'All Data'!$K3&" "&'All Data'!$M3))),OR($BA$9="",ISNUMBER(SEARCH($BA$9,'All Data'!$K3&" "&'All Data'!$M3))),OR($BA$10="",ISNUMBER(SEARCH($BA$10,'All Data'!$K3&" "&'All Data'!$M3))),OR($BA$11="",ISNUMBER(SEARCH($BA$11,'All Data'!$K3&" "&'All Data'!$M3))),OR($BA$12="",ISNUMBER(SEARCH($BA$12,'All Data'!$K3&" "&'All Data'!$M3))),OR($BA$13="",ISNUMBER(SEARCH($BA$13,'All Data'!$K3&" "&'All Data'!$M3))),OR($BA$14="",ISNUMBER(SEARCH($BA$14,'All Data'!$K3&" "&'All Data'!$M3))),OR($BA$15="",ISNUMBER(SEARCH($BA$15,'All Data'!$K3&" "&'All Data'!$M3)))),1,0) -> 1 | H3: =$A3 -> 1 | I3: =IF(AND($H3=1,'All Data'!$C3<>"",COUNTIFS($H$2:H2,1,'All Data'!$C$2:$C2,'All Data'!$C3)=0),1,0) -> 0 | J3: =IF($I3=1,SUM($I$2:I3),"") | K3: =$A3*$B3 -> 1 | L3: =IF(AND($K3=1,'All Data'!$D3<>"",COUNTIFS($K$2:K2,1,'All Data'!$D$2:$D2,'All Data'!$D3)=0),1,0) -> 1 | M3: =IF($L3=1,SUM($L$2:L3),"") -> 2 | N3: =$A3*$B3*$C3 -> 1 | O3: =IF(AND($N3=1,'All Data'!$E3<>"",COUNTIFS($N$2:N2,1,'All Data'!$E$2:$E2,'All Data'!$E3)=0),1,0) -> 0 | P3: =IF($O3=1,SUM($O$2:O3),"") | Q3: =$A3*$B3*$C3*$D3 -> 1 | R3: =IF(AND($Q3=1,'All Data'!$F3<>"",COUNTIFS($Q$2:Q2,1,'All Data'!$F$2:$F2,'All Data'!$F3)=0),1,0) -> 1 | S3: =IF($R3=1,SUM($R$2:R3),"") -> 2 | T3: =$A3*$B3*$C3*$D3*$E3 -> 1 | U3: =IF(AND($T3=1,'All Data'!$G3<>"",COUNTIFS($T$2:T2,1,'All Data'!$G$2:$G2,'All Data'!$G3)=0),1,0) -> 1 | V3: =IF($U3=1,SUM($U$2:U3),"") -> 2 | W3: =$A3*$B3*$C3*$D3*$E3*$F3*$G3 -> 0 | X3: =IF($W3=1,SUM($W$2:W3),"") | Z3: =IFERROR(INDEX('All Data'!$C$2:$C$419,MATCH(1,$J$2:$J$419,0))&"","") -> Solid (Masonry) Wall | AB3: =IFERROR(INDEX('All Data'!$D$2:$D$419,MATCH(1,$M$2:$M$419,0))&"","") -> Cast concrete wall | AD3: =IFERROR(INDEX('All Data'!$E$2:$E$419,MATCH(1,$P$2:$P$419,0))&"","") | AF3: =IFERROR(INDEX('All Data'!$F$2:$F$419,MATCH(1,$S$2:$S$419,0))&"","") -> Not specified | AH3: =IFERROR(INDEX('All Data'!$G$2:$G$419,MATCH(1,$V$2:$V$419,0))&"","") -> Internal insulation | AJ3: Wall | BA3: =Finder!$F$7 -> Any | BB3: =IF(OR($BA3="Any",$BA3=""),0,IF(COUNTIF(ConstructionList,$BA3)=0,1,0)) -> 0
A4: =IF(OR($BA1="Any",$BA1=""),1,IF('All Data'!$B4=$BA1,1,0)) -> 1 | B4: =IF(OR($BA2="Any",$BA2=""),1,IF('All Data'!$C4=$BA2,1,0)) -> 1 | C4: =IF(OR($BA3="Any",$BA3=""),1,IF('All Data'!$D4=$BA3,1,0)) -> 1 | D4: =IF(OR($BA4="Any",$BA4=""),1,IF('All Data'!$E4=$BA4,1,0)) -> 1 | E4: =IF(OR($BA5="Any",$BA5=""),1,IF('All Data'!$F4=$BA5,1,0)) -> 1 | F4: =IF(OR($BA6="Any",$BA6=""),1,IF('All Data'!$G4=$BA6,1,0)) -> 0 | G4: =IF(AND(OR($BA$8="",ISNUMBER(SEARCH($BA$8,'All Data'!$K4&" "&'All Data'!$M4))),OR($BA$9="",ISNUMBER(SEARCH($BA$9,'All Data'!$K4&" "&'All Data'!$M4))),OR($BA$10="",ISNUMBER(SEARCH($BA$10,'All Data'!$K4&" "&'All Data'!$M4))),OR($BA$11="",ISNUMBER(SEARCH($BA$11,'All Data'!$K4&" "&'All Data'!$M4))),OR($BA$12="",ISNUMBER(SEARCH($BA$12,'All Data'!$K4&" "&'All Data'!$M4))),OR($BA$13="",ISNUMBER(SEARCH($BA$13,'All Data'!$K4&" "&'All Data'!$M4))),OR($BA$14="",ISNUMBER(SEARCH($BA$14,'All Data'!$K4&" "&'All Data'!$M4))),OR($BA$15="",ISNUMBER(SEARCH($BA$15,'All Data'!$K4&" "&'All Data'!$M4)))),1,0) -> 1 | H4: =$A4 -> 1 | I4: =IF(AND($H4=1,'All Data'!$C4<>"",COUNTIFS($H$2:H3,1,'All Data'!$C$2:$C3,'All Data'!$C4)=0),1,0) -> 0 | J4: =IF($I4=1,SUM($I$2:I4),"") | K4: =$A4*$B4 -> 1 | L4: =IF(AND($K4=1,'All Data'!$D4<>"",COUNTIFS($K$2:K3,1,'All Data'!$D$2:$D3,'All Data'!$D4)=0),1,0) -> 0 | M4: =IF($L4=1,SUM($L$2:L4),"") | N4: =$A4*$B4*$C4 -> 1 | O4: =IF(AND($N4=1,'All Data'!$E4<>"",COUNTIFS($N$2:N3,1,'All Data'!$E$2:$E3,'All Data'!$E4)=0),1,0) -> 0 | P4: =IF($O4=1,SUM($O$2:O4),"") | Q4: =$A4*$B4*$C4*$D4 -> 1 | R4: =IF(AND($Q4=1,'All Data'!$F4<>"",COUNTIFS($Q$2:Q3,1,'All Data'!$F$2:$F3,'All Data'!$F4)=0),1,0) -> 0 | S4: =IF($R4=1,SUM($R$2:R4),"") | T4: =$A4*$B4*$C4*$D4*$E4 -> 1 | U4: =IF(AND($T4=1,'All Data'!$G4<>"",COUNTIFS($T$2:T3,1,'All Data'!$G$2:$G3,'All Data'!$G4)=0),1,0) -> 1 | V4: =IF($U4=1,SUM($U$2:U4),"") -> 3 | W4: =$A4*$B4*$C4*$D4*$E4*$F4*$G4 -> 0 | X4: =IF($W4=1,SUM($W$2:W4),"") | Z4: =IFERROR(INDEX('All Data'!$C$2:$C$419,MATCH(2,$J$2:$J$419,0))&"","") -> Cavity Wall (Clear) | AB4: =IFERROR(INDEX('All Data'!$D$2:$D$419,MATCH(2,$M$2:$M$419,0))&"","") -> Cob wall | AD4: =IFERROR(INDEX('All Data'!$E$2:$E$419,MATCH(2,$P$2:$P$419,0))&"","") | AF4: =IFERROR(INDEX('All Data'!$F$2:$F$419,MATCH(2,$S$2:$S$419,0))&"","") -> England & Wales | AH4: =IFERROR(INDEX('All Data'!$G$2:$G$419,MATCH(2,$V$2:$V$419,0))&"","") -> Pre-1982 | AJ4: Roof | BA4: =Finder!$B$10 -> Any | BB4: =IF(OR($BA4="Any",$BA4=""),0,IF(COUNTIF(SubtypeList,$BA4)=0,1,0)) -> 0
A5: =IF(OR($BA1="Any",$BA1=""),1,IF('All Data'!$B5=$BA1,1,0)) -> 1 | B5: =IF(OR($BA2="Any",$BA2=""),1,IF('All Data'!$C5=$BA2,1,0)) -> 1 | C5: =IF(OR($BA3="Any",$BA3=""),1,IF('All Data'!$D5=$BA3,1,0)) -> 1 | D5: =IF(OR($BA4="Any",$BA4=""),1,IF('All Data'!$E5=$BA4,1,0)) -> 1 | E5: =IF(OR($BA5="Any",$BA5=""),1,IF('All Data'!$F5=$BA5,1,0)) -> 1 | F5: =IF(OR($BA6="Any",$BA6=""),1,IF('All Data'!$G5=$BA6,1,0)) -> 0 | G5: =IF(AND(OR($BA$8="",ISNUMBER(SEARCH($BA$8,'All Data'!$K5&" "&'All Data'!$M5))),OR($BA$9="",ISNUMBER(SEARCH($BA$9,'All Data'!$K5&" "&'All Data'!$M5))),OR($BA$10="",ISNUMBER(SEARCH($BA$10,'All Data'!$K5&" "&'All Data'!$M5))),OR($BA$11="",ISNUMBER(SEARCH($BA$11,'All Data'!$K5&" "&'All Data'!$M5))),OR($BA$12="",ISNUMBER(SEARCH($BA$12,'All Data'!$K5&" "&'All Data'!$M5))),OR($BA$13="",ISNUMBER(SEARCH($BA$13,'All Data'!$K5&" "&'All Data'!$M5))),OR($BA$14="",ISNUMBER(SEARCH($BA$14,'All Data'!$K5&" "&'All Data'!$M5))),OR($BA$15="",ISNUMBER(SEARCH($BA$15,'All Data'!$K5&" "&'All Data'!$M5)))),1,0) -> 1 | H5: =$A5 -> 1 | I5: =IF(AND($H5=1,'All Data'!$C5<>"",COUNTIFS($H$2:H4,1,'All Data'!$C$2:$C4,'All Data'!$C5)=0),1,0) -> 0 | J5: =IF($I5=1,SUM($I$2:I5),"") | K5: =$A5*$B5 -> 1 | L5: =IF(AND($K5=1,'All Data'!$D5<>"",COUNTIFS($K$2:K4,1,'All Data'!$D$2:$D4,'All Data'!$D5)=0),1,0) -> 0 | M5: =IF($L5=1,SUM($L$2:L5),"") | N5: =$A5*$B5*$C5 -> 1 | O5: =IF(AND($N5=1,'All Data'!$E5<>"",COUNTIFS($N$2:N4,1,'All Data'!$E$2:$E4,'All Data'!$E5)=0),1,0) -> 0 | P5: =IF($O5=1,SUM($O$2:O5),"") | Q5: =$A5*$B5*$C5*$D5 -> 1 | R5: =IF(AND($Q5=1,'All Data'!$F5<>"",COUNTIFS($Q$2:Q4,1,'All Data'!$F$2:$F4,'All Data'!$F5)=0),1,0) -> 0 | S5: =IF($R5=1,SUM($R$2:R5),"") | T5: =$A5*$B5*$C5*$D5*$E5 -> 1 | U5: =IF(AND($T5=1,'All Data'!$G5<>"",COUNTIFS($T$2:T4,1,'All Data'!$G$2:$G4,'All Data'!$G5)=0),1,0) -> 1 | V5: =IF($U5=1,SUM($U$2:U5),"") -> 4 | W5: =$A5*$B5*$C5*$D5*$E5*$F5*$G5 -> 0 | X5: =IF($W5=1,SUM($W$2:W5),"") | Z5: =IFERROR(INDEX('All Data'!$C$2:$C$419,MATCH(3,$J$2:$J$419,0))&"","") -> Cavity Wall (Full Fill) | AB5: =IFERROR(INDEX('All Data'!$D$2:$D$419,MATCH(3,$M$2:$M$419,0))&"","") -> Heavy partition wall | AD5: =IFERROR(INDEX('All Data'!$E$2:$E$419,MATCH(3,$P$2:$P$419,0))&"","") | AF5: =IFERROR(INDEX('All Data'!$F$2:$F$419,MATCH(3,$S$2:$S$419,0))&"","") -> Northern Ireland | AH5: =IFERROR(INDEX('All Data'!$G$2:$G$419,MATCH(3,$V$2:$V$419,0))&"","") -> 1982 onwards | AJ5: Floor | BA5: =Finder!$D$10 -> Any | BB5: =IF(OR($BA5="Any",$BA5=""),0,IF(COUNTIF(RegionList,$BA5)=0,1,0)) -> 0
A6: =IF(OR($BA1="Any",$BA1=""),1,IF('All Data'!$B6=$BA1,1,0)) -> 1 | B6: =IF(OR($BA2="Any",$BA2=""),1,IF('All Data'!$C6=$BA2,1,0)) -> 1 | C6: =IF(OR($BA3="Any",$BA3=""),1,IF('All Data'!$D6=$BA3,1,0)) -> 1 | D6: =IF(OR($BA4="Any",$BA4=""),1,IF('All Data'!$E6=$BA4,1,0)) -> 1 | E6: =IF(OR($BA5="Any",$BA5=""),1,IF('All Data'!$F6=$BA5,1,0)) -> 1 | F6: =IF(OR($BA6="Any",$BA6=""),1,IF('All Data'!$G6=$BA6,1,0)) -> 0 | G6: =IF(AND(OR($BA$8="",ISNUMBER(SEARCH($BA$8,'All Data'!$K6&" "&'All Data'!$M6))),OR($BA$9="",ISNUMBER(SEARCH($BA$9,'All Data'!$K6&" "&'All Data'!$M6))),OR($BA$10="",ISNUMBER(SEARCH($BA$10,'All Data'!$K6&" "&'All Data'!$M6))),OR($BA$11="",ISNUMBER(SEARCH($BA$11,'All Data'!$K6&" "&'All Data'!$M6))),OR($BA$12="",ISNUMBER(SEARCH($BA$12,'All Data'!$K6&" "&'All Data'!$M6))),OR($BA$13="",ISNUMBER(SEARCH($BA$13,'All Data'!$K6&" "&'All Data'!$M6))),OR($BA$14="",ISNUMBER(SEARCH($BA$14,'All Data'!$K6&" "&'All Data'!$M6))),OR($BA$15="",ISNUMBER(SEARCH($BA$15,'All Data'!$K6&" "&'All Data'!$M6)))),1,0) -> 1 | H6: =$A6 -> 1 | I6: =IF(AND($H6=1,'All Data'!$C6<>"",COUNTIFS($H$2:H5,1,'All Data'!$C$2:$C5,'All Data'!$C6)=0),1,0) -> 0 | J6: =IF($I6=1,SUM($I$2:I6),"") | K6: =$A6*$B6 -> 1 | L6: =IF(AND($K6=1,'All Data'!$D6<>"",COUNTIFS($K$2:K5,1,'All Data'!$D$2:$D5,'All Data'!$D6)=0),1,0) -> 0 | M6: =IF($L6=1,SUM($L$2:L6),"") | N6: =$A6*$B6*$C6 -> 1 | O6: =IF(AND($N6=1,'All Data'!$E6<>"",COUNTIFS($N$2:N5,1,'All Data'!$E$2:$E5,'All Data'!$E6)=0),1,0) -> 0 | P6: =IF($O6=1,SUM($O$2:O6),"") | Q6: =$A6*$B6*$C6*$D6 -> 1 | R6: =IF(AND($Q6=1,'All Data'!$F6<>"",COUNTIFS($Q$2:Q5,1,'All Data'!$F$2:$F5,'All Data'!$F6)=0),1,0) -> 0 | S6: =IF($R6=1,SUM($R$2:R6),"") | T6: =$A6*$B6*$C6*$D6*$E6 -> 1 | U6: =IF(AND($T6=1,'All Data'!$G6<>"",COUNTIFS($T$2:T5,1,'All Data'!$G$2:$G5,'All Data'!$G6)=0),1,0) -> 0 | V6: =IF($U6=1,SUM($U$2:U6),"") | W6: =$A6*$B6*$C6*$D6*$E6*$F6*$G6 -> 0 | X6: =IF($W6=1,SUM($W$2:W6),"") | Z6: =IFERROR(INDEX('All Data'!$C$2:$C$419,MATCH(4,$J$2:$J$419,0))&"","") -> Cavity Wall (Partial Fill) | AB6: =IFERROR(INDEX('All Data'!$D$2:$D$419,MATCH(4,$M$2:$M$419,0))&"","") -> Masonry wall with rainscreen | AD6: =IFERROR(INDEX('All Data'!$E$2:$E$419,MATCH(4,$P$2:$P$419,0))&"","") | AF6: =IFERROR(INDEX('All Data'!$F$2:$F$419,MATCH(4,$S$2:$S$419,0))&"","") -> Scotland | AH6: =IFERROR(INDEX('All Data'!$G$2:$G$419,MATCH(4,$V$2:$V$419,0))&"","") -> External insulation | AJ6: Window / Glazing | BA6: =Finder!$F$10 -> 1990 | BB6: =IF(OR($BA6="Any",$BA6=""),0,IF(COUNTIF(YearList,$BA6)=0,1,0)) -> 0
A7: =IF(OR($BA1="Any",$BA1=""),1,IF('All Data'!$B7=$BA1,1,0)) -> 1 | B7: =IF(OR($BA2="Any",$BA2=""),1,IF('All Data'!$C7=$BA2,1,0)) -> 1 | C7: =IF(OR($BA3="Any",$BA3=""),1,IF('All Data'!$D7=$BA3,1,0)) -> 1 | D7: =IF(OR($BA4="Any",$BA4=""),1,IF('All Data'!$E7=$BA4,1,0)) -> 1 | E7: =IF(OR($BA5="Any",$BA5=""),1,IF('All Data'!$F7=$BA5,1,0)) -> 1 | F7: =IF(OR($BA6="Any",$BA6=""),1,IF('All Data'!$G7=$BA6,1,0)) -> 0 | G7: =IF(AND(OR($BA$8="",ISNUMBER(SEARCH($BA$8,'All Data'!$K7&" "&'All Data'!$M7))),OR($BA$9="",ISNUMBER(SEARCH($BA$9,'All Data'!$K7&" "&'All Data'!$M7))),OR($BA$10="",ISNUMBER(SEARCH($BA$10,'All Data'!$K7&" "&'All Data'!$M7))),OR($BA$11="",ISNUMBER(SEARCH($BA$11,'All Data'!$K7&" "&'All Data'!$M7))),OR($BA$12="",ISNUMBER(SEARCH($BA$12,'All Data'!$K7&" "&'All Data'!$M7))),OR($BA$13="",ISNUMBER(SEARCH($BA$13,'All Data'!$K7&" "&'All Data'!$M7))),OR($BA$14="",ISNUMBER(SEARCH($BA$14,'All Data'!$K7&" "&'All Data'!$M7))),OR($BA$15="",ISNUMBER(SEARCH($BA$15,'All Data'!$K7&" "&'All Data'!$M7)))),1,0) -> 1 | H7: =$A7 -> 1 | I7: =IF(AND($H7=1,'All Data'!$C7<>"",COUNTIFS($H$2:H6,1,'All Data'!$C$2:$C6,'All Data'!$C7)=0),1,0) -> 0 | J7: =IF($I7=1,SUM($I$2:I7),"") | K7: =$A7*$B7 -> 1 | L7: =IF(AND($K7=1,'All Data'!$D7<>"",COUNTIFS($K$2:K6,1,'All Data'!$D$2:$D6,'All Data'!$D7)=0),1,0) -> 1 | M7: =IF($L7=1,SUM($L$2:L7),"") -> 3 | N7: =$A7*$B7*$C7 -> 1 | O7: =IF(AND($N7=1,'All Data'!$E7<>"",COUNTIFS($N$2:N6,1,'All Data'!$E$2:$E6,'All Data'!$E7)=0),1,0) -> 0 | P7: =IF($O7=1,SUM($O$2:O7),"") | Q7: =$A7*$B7*$C7*$D7 -> 1 | R7: =IF(AND($Q7=1,'All Data'!$F7<>"",COUNTIFS($Q$2:Q6,1,'All Data'!$F$2:$F6,'All Data'!$F7)=0),1,0) -> 0 | S7: =IF($R7=1,SUM($R$2:R7),"") | T7: =$A7*$B7*$C7*$D7*$E7 -> 1 | U7: =IF(AND($T7=1,'All Data'!$G7<>"",COUNTIFS($T$2:T6,1,'All Data'!$G$2:$G6,'All Data'!$G7)=0),1,0) -> 1 | V7: =IF($U7=1,SUM($U$2:U7),"") -> 5 | W7: =$A7*$B7*$C7*$D7*$E7*$F7*$G7 -> 0 | X7: =IF($W7=1,SUM($W$2:W7),"") | Z7: =IFERROR(INDEX('All Data'!$C$2:$C$419,MATCH(5,$J$2:$J$419,0))&"","") -> Non-Structural Wall (Metal) | AB7: =IFERROR(INDEX('All Data'!$D$2:$D$419,MATCH(5,$M$2:$M$419,0))&"","") -> Solid brick wall, 110mm | AD7: =IFERROR(INDEX('All Data'!$E$2:$E$419,MATCH(5,$P$2:$P$419,0))&"","") | AF7: =IFERROR(INDEX('All Data'!$F$2:$F$419,MATCH(5,$S$2:$S$419,0))&"","") | AH7: =IFERROR(INDEX('All Data'!$G$2:$G$419,MATCH(5,$V$2:$V$419,0))&"","") -> — | AJ7: Door | BA7: =TRIM(SUBSTITUTE(SUBSTITUTE(SUBSTITUTE(SUBSTITUTE(SUBSTITUTE(SUBSTITUTE(SUBSTITUTE(SUBSTITUTE(SUBSTITUTE(SUBSTITUTE(SUBSTITUTE(SUBSTITUTE(LOWER(Finder!$B$13),"&"," and "),"-"," "),","," "),"/"," "),"("," "),")"," "),"*",""),"?",""),"~",""),"""","")," "," ")," "," ")) | BB7: =SUM($BB$1:$BB$6) -> 0
A8: =IF(OR($BA1="Any",$BA1=""),1,IF('All Data'!$B8=$BA1,1,0)) -> 1 | B8: =IF(OR($BA2="Any",$BA2=""),1,IF('All Data'!$C8=$BA2,1,0)) -> 1 | C8: =IF(OR($BA3="Any",$BA3=""),1,IF('All Data'!$D8=$BA3,1,0)) -> 1 | D8: =IF(OR($BA4="Any",$BA4=""),1,IF('All Data'!$E8=$BA4,1,0)) -> 1 | E8: =IF(OR($BA5="Any",$BA5=""),1,IF('All Data'!$F8=$BA5,1,0)) -> 1 | F8: =IF(OR($BA6="Any",$BA6=""),1,IF('All Data'!$G8=$BA6,1,0)) -> 0 | G8: =IF(AND(OR($BA$8="",ISNUMBER(SEARCH($BA$8,'All Data'!$K8&" "&'All Data'!$M8))),OR($BA$9="",ISNUMBER(SEARCH($BA$9,'All Data'!$K8&" "&'All Data'!$M8))),OR($BA$10="",ISNUMBER(SEARCH($BA$10,'All Data'!$K8&" "&'All Data'!$M8))),OR($BA$11="",ISNUMBER(SEARCH($BA$11,'All Data'!$K8&" "&'All Data'!$M8))),OR($BA$12="",ISNUMBER(SEARCH($BA$12,'All Data'!$K8&" "&'All Data'!$M8))),OR($BA$13="",ISNUMBER(SEARCH($BA$13,'All Data'!$K8&" "&'All Data'!$M8))),OR($BA$14="",ISNUMBER(SEARCH($BA$14,'All Data'!$K8&" "&'All Data'!$M8))),OR($BA$15="",ISNUMBER(SEARCH($BA$15,'All Data'!$K8&" "&'All Data'!$M8)))),1,0) -> 1 | H8: =$A8 -> 1 | I8: =IF(AND($H8=1,'All Data'!$C8<>"",COUNTIFS($H$2:H7,1,'All Data'!$C$2:$C7,'All Data'!$C8)=0),1,0) -> 0 | J8: =IF($I8=1,SUM($I$2:I8),"") | K8: =$A8*$B8 -> 1 | L8: =IF(AND($K8=1,'All Data'!$D8<>"",COUNTIFS($K$2:K7,1,'All Data'!$D$2:$D7,'All Data'!$D8)=0),1,0) -> 1 | M8: =IF($L8=1,SUM($L$2:L8),"") -> 4 | N8: =$A8*$B8*$C8 -> 1 | O8: =IF(AND($N8=1,'All Data'!$E8<>"",COUNTIFS($N$2:N7,1,'All Data'!$E$2:$E7,'All Data'!$E8)=0),1,0) -> 0 | P8: =IF($O8=1,SUM($O$2:O8),"") | Q8: =$A8*$B8*$C8*$D8 -> 1 | R8: =IF(AND($Q8=1,'All Data'!$F8<>"",COUNTIFS($Q$2:Q7,1,'All Data'!$F$2:$F7,'All Data'!$F8)=0),1,0) -> 0 | S8: =IF($R8=1,SUM($R$2:R8),"") | T8: =$A8*$B8*$C8*$D8*$E8 -> 1 | U8: =IF(AND($T8=1,'All Data'!$G8<>"",COUNTIFS($T$2:T7,1,'All Data'!$G$2:$G7,'All Data'!$G8)=0),1,0) -> 0 | V8: =IF($U8=1,SUM($U$2:U8),"") | W8: =$A8*$B8*$C8*$D8*$E8*$F8*$G8 -> 0 | X8: =IF($W8=1,SUM($W$2:W8),"") | Z8: =IFERROR(INDEX('All Data'!$C$2:$C$419,MATCH(6,$J$2:$J$419,0))&"","") -> Timber Frame Wall | AB8: =IFERROR(INDEX('All Data'!$D$2:$D$419,MATCH(6,$M$2:$M$419,0))&"","") -> Solid brick wall, 225mm | AD8: =IFERROR(INDEX('All Data'!$E$2:$E$419,MATCH(6,$P$2:$P$419,0))&"","") | AF8: =IFERROR(INDEX('All Data'!$F$2:$F$419,MATCH(6,$S$2:$S$419,0))&"","") | AH8: =IFERROR(INDEX('All Data'!$G$2:$G$419,MATCH(6,$V$2:$V$419,0))&"","") -> Uninsulated | AJ8: Curtain Wall | BA8: =TRIM(MID(SUBSTITUTE($BA$7," ",REPT(" ",99)),1,99))
A9: =IF(OR($BA1="Any",$BA1=""),1,IF('All Data'!$B9=$BA1,1,0)) -> 1 | B9: =IF(OR($BA2="Any",$BA2=""),1,IF('All Data'!$C9=$BA2,1,0)) -> 1 | C9: =IF(OR($BA3="Any",$BA3=""),1,IF('All Data'!$D9=$BA3,1,0)) -> 1 | D9: =IF(OR($BA4="Any",$BA4=""),1,IF('All Data'!$E9=$BA4,1,0)) -> 1 | E9: =IF(OR($BA5="Any",$BA5=""),1,IF('All Data'!$F9=$BA5,1,0)) -> 1 | F9: =IF(OR($BA6="Any",$BA6=""),1,IF('All Data'!$G9=$BA6,1,0)) -> 0 | G9: =IF(AND(OR($BA$8="",ISNUMBER(SEARCH($BA$8,'All Data'!$K9&" "&'All Data'!$M9))),OR($BA$9="",ISNUMBER(SEARCH($BA$9,'All Data'!$K9&" "&'All Data'!$M9))),OR($BA$10="",ISNUMBER(SEARCH($BA$10,'All Data'!$K9&" "&'All Data'!$M9))),OR($BA$11="",ISNUMBER(SEARCH($BA$11,'All Data'!$K9&" "&'All Data'!$M9))),OR($BA$12="",ISNUMBER(SEARCH($BA$12,'All Data'!$K9&" "&'All Data'!$M9))),OR($BA$13="",ISNUMBER(SEARCH($BA$13,'All Data'!$K9&" "&'All Data'!$M9))),OR($BA$14="",ISNUMBER(SEARCH($BA$14,'All Data'!$K9&" "&'All Data'!$M9))),OR($BA$15="",ISNUMBER(SEARCH($BA$15,'All Data'!$K9&" "&'All Data'!$M9)))),1,0) -> 1 | H9: =$A9 -> 1 | I9: =IF(AND($H9=1,'All Data'!$C9<>"",COUNTIFS($H$2:H8,1,'All Data'!$C$2:$C8,'All Data'!$C9)=0),1,0) -> 0 | J9: =IF($I9=1,SUM($I$2:I9),"") | K9: =$A9*$B9 -> 1 | L9: =IF(AND($K9=1,'All Data'!$D9<>"",COUNTIFS($K$2:K8,1,'All Data'!$D$2:$D8,'All Data'!$D9)=0),1,0) -> 1 | M9: =IF($L9=1,SUM($L$2:L9),"") -> 5 | N9: =$A9*$B9*$C9 -> 1 | O9: =IF(AND($N9=1,'All Data'!$E9<>"",COUNTIFS($N$2:N8,1,'All Data'!$E$2:$E8,'All Data'!$E9)=0),1,0) -> 0 | P9: =IF($O9=1,SUM($O$2:O9),"") | Q9: =$A9*$B9*$C9*$D9 -> 1 | R9: =IF(AND($Q9=1,'All Data'!$F9<>"",COUNTIFS($Q$2:Q8,1,'All Data'!$F$2:$F8,'All Data'!$F9)=0),1,0) -> 0 | S9: =IF($R9=1,SUM($R$2:R9),"") | T9: =$A9*$B9*$C9*$D9*$E9 -> 1 | U9: =IF(AND($T9=1,'All Data'!$G9<>"",COUNTIFS($T$2:T8,1,'All Data'!$G$2:$G8,'All Data'!$G9)=0),1,0) -> 1 | V9: =IF($U9=1,SUM($U$2:U9),"") -> 6 | W9: =$A9*$B9*$C9*$D9*$E9*$F9*$G9 -> 0 | X9: =IF($W9=1,SUM($W$2:W9),"") | Z9: =IFERROR(INDEX('All Data'!$C$2:$C$419,MATCH(7,$J$2:$J$419,0))&"","") -> Light steel framing | AB9: =IFERROR(INDEX('All Data'!$D$2:$D$419,MATCH(7,$M$2:$M$419,0))&"","") -> Solid brick wall, 230mm | AD9: =IFERROR(INDEX('All Data'!$E$2:$E$419,MATCH(7,$P$2:$P$419,0))&"","") | AF9: =IFERROR(INDEX('All Data'!$F$2:$F$419,MATCH(7,$S$2:$S$419,0))&"","") | AH9: =IFERROR(INDEX('All Data'!$G$2:$G$419,MATCH(7,$V$2:$V$419,0))&"","") -> Dry lined | AJ9: Internal Wall | BA9: =TRIM(MID(SUBSTITUTE($BA$7," ",REPT(" ",99)),100,99))
A10: =IF(OR($BA1="Any",$BA1=""),1,IF('All Data'!$B10=$BA1,1,0)) -> 1 | B10: =IF(OR($BA2="Any",$BA2=""),1,IF('All Data'!$C10=$BA2,1,0)) -> 1 | C10: =IF(OR($BA3="Any",$BA3=""),1,IF('All Data'!$D10=$BA3,1,0)) -> 1 | D10: =IF(OR($BA4="Any",$BA4=""),1,IF('All Data'!$E10=$BA4,1,0)) -> 1 | E10: =IF(OR($BA5="Any",$BA5=""),1,IF('All Data'!$F10=$BA5,1,0)) -> 1 | F10: =IF(OR($BA6="Any",$BA6=""),1,IF('All Data'!$G10=$BA6,1,0)) -> 0 | G10: =IF(AND(OR($BA$8="",ISNUMBER(SEARCH($BA$8,'All Data'!$K10&" "&'All Data'!$M10))),OR($BA$9="",ISNUMBER(SEARCH($BA$9,'All Data'!$K10&" "&'All Data'!$M10))),OR($BA$10="",ISNUMBER(SEARCH($BA$10,'All Data'!$K10&" "&'All Data'!$M10))),OR($BA$11="",ISNUMBER(SEARCH($BA$11,'All Data'!$K10&" "&'All Data'!$M10))),OR($BA$12="",ISNUMBER(SEARCH($BA$12,'All Data'!$K10&" "&'All Data'!$M10))),OR($BA$13="",ISNUMBER(SEARCH($BA$13,'All Data'!$K10&" "&'All Data'!$M10))),OR($BA$14="",ISNUMBER(SEARCH($BA$14,'All Data'!$K10&" "&'All Data'!$M10))),OR($BA$15="",ISNUMBER(SEARCH($BA$15,'All Data'!$K10&" "&'All Data'!$M10)))),1,0) -> 1 | H10: =$A10 -> 1 | I10: =IF(AND($H10=1,'All Data'!$C10<>"",COUNTIFS($H$2:H9,1,'All Data'!$C$2:$C9,'All Data'!$C10)=0),1,0) -> 0 | J10: =IF($I10=1,SUM($I$2:I10),"") | K10: =$A10*$B10 -> 1 | L10: =IF(AND($K10=1,'All Data'!$D10<>"",COUNTIFS($K$2:K9,1,'All Data'!$D$2:$D9,'All Data'!$D10)=0),1,0) -> 0 | M10: =IF($L10=1,SUM($L$2:L10),"") | N10: =$A10*$B10*$C10 -> 1 | O10: =IF(AND($N10=1,'All Data'!$E10<>"",COUNTIFS($N$2:N9,1,'All Data'!$E$2:$E9,'All Data'!$E10)=0),1,0) -> 0 | P10: =IF($O10=1,SUM($O$2:O10),"") | Q10: =$A10*$B10*$C10*$D10 -> 1 | R10: =IF(AND($Q10=1,'All Data'!$F10<>"",COUNTIFS($Q$2:Q9,1,'All Data'!$F$2:$F9,'All Data'!$F10)=0),1,0) -> 0 | S10: =IF($R10=1,SUM($R$2:R10),"") | T10: =$A10*$B10*$C10*$D10*$E10 -> 1 | U10: =IF(AND($T10=1,'All Data'!$G10<>"",COUNTIFS($T$2:T9,1,'All Data'!$G$2:$G9,'All Data'!$G10)=0),1,0) -> 1 | V10: =IF($U10=1,SUM($U$2:U10),"") -> 7 | W10: =$A10*$B10*$C10*$D10*$E10*$F10*$G10 -> 0 | X10: =IF($W10=1,SUM($W$2:W10),"") | Z10: =IFERROR(INDEX('All Data'!$C$2:$C$419,MATCH(8,$J$2:$J$419,0))&"","") | AB10: =IFERROR(INDEX('All Data'!$D$2:$D$419,MATCH(8,$M$2:$M$419,0))&"","") -> Solid brick wall, 340mm | AD10: =IFERROR(INDEX('All Data'!$E$2:$E$419,MATCH(8,$P$2:$P$419,0))&"","") | AF10: =IFERROR(INDEX('All Data'!$F$2:$F$419,MATCH(8,$S$2:$S$419,0))&"","") | AH10: =IFERROR(INDEX('All Data'!$G$2:$G$419,MATCH(8,$V$2:$V$419,0))&"","") -> Insulated | BA10: =TRIM(MID(SUBSTITUTE($BA$7," ",REPT(" ",99)),199,99))
A11: =IF(OR($BA1="Any",$BA1=""),1,IF('All Data'!$B11=$BA1,1,0)) -> 1 | B11: =IF(OR($BA2="Any",$BA2=""),1,IF('All Data'!$C11=$BA2,1,0)) -> 1 | C11: =IF(OR($BA3="Any",$BA3=""),1,IF('All Data'!$D11=$BA3,1,0)) -> 1 | D11: =IF(OR($BA4="Any",$BA4=""),1,IF('All Data'!$E11=$BA4,1,0)) -> 1 | E11: =IF(OR($BA5="Any",$BA5=""),1,IF('All Data'!$F11=$BA5,1,0)) -> 1 | F11: =IF(OR($BA6="Any",$BA6=""),1,IF('All Data'!$G11=$BA6,1,0)) -> 0 | G11: =IF(AND(OR($BA$8="",ISNUMBER(SEARCH($BA$8,'All Data'!$K11&" "&'All Data'!$M11))),OR($BA$9="",ISNUMBER(SEARCH($BA$9,'All Data'!$K11&" "&'All Data'!$M11))),OR($BA$10="",ISNUMBER(SEARCH($BA$10,'All Data'!$K11&" "&'All Data'!$M11))),OR($BA$11="",ISNUMBER(SEARCH($BA$11,'All Data'!$K11&" "&'All Data'!$M11))),OR($BA$12="",ISNUMBER(SEARCH($BA$12,'All Data'!$K11&" "&'All Data'!$M11))),OR($BA$13="",ISNUMBER(SEARCH($BA$13,'All Data'!$K11&" "&'All Data'!$M11))),OR($BA$14="",ISNUMBER(SEARCH($BA$14,'All Data'!$K11&" "&'All Data'!$M11))),OR($BA$15="",ISNUMBER(SEARCH($BA$15,'All Data'!$K11&" "&'All Data'!$M11)))),1,0) -> 1 | H11: =$A11 -> 1 | I11: =IF(AND($H11=1,'All Data'!$C11<>"",COUNTIFS($H$2:H10,1,'All Data'!$C$2:$C10,'All Data'!$C11)=0),1,0) -> 0 | J11: =IF($I11=1,SUM($I$2:I11),"") | K11: =$A11*$B11 -> 1 | L11: =IF(AND($K11=1,'All Data'!$D11<>"",COUNTIFS($K$2:K10,1,'All Data'!$D$2:$D10,'All Data'!$D11)=0),1,0) -> 0 | M11: =IF($L11=1,SUM($L$2:L11),"") | N11: =$A11*$B11*$C11 -> 1 | O11: =IF(AND($N11=1,'All Data'!$E11<>"",COUNTIFS($N$2:N10,1,'All Data'!$E$2:$E10,'All Data'!$E11)=0),1,0) -> 0 | P11: =IF($O11=1,SUM($O$2:O11),"") | Q11: =$A11*$B11*$C11*$D11 -> 1 | R11: =IF(AND($Q11=1,'All Data'!$F11<>"",COUNTIFS($Q$2:Q10,1,'All Data'!$F$2:$F10,'All Data'!$F11)=0),1,0) -> 0 | S11: =IF($R11=1,SUM($R$2:R11),"") | T11: =$A11*$B11*$C11*$D11*$E11 -> 1 | U11: =IF(AND($T11=1,'All Data'!$G11<>"",COUNTIFS($T$2:T10,1,'All Data'!$G$2:$G10,'All Data'!$G11)=0),1,0) -> 1 | V11: =IF($U11=1,SUM($U$2:U11),"") -> 8 | W11: =$A11*$B11*$C11*$D11*$E11*$F11*$G11 -> 0 | X11: =IF($W11=1,SUM($W$2:W11),"") | Z11: =IFERROR(INDEX('All Data'!$C$2:$C$419,MATCH(9,$J$2:$J$419,0))&"","") | AB11: =IFERROR(INDEX('All Data'!$D$2:$D$419,MATCH(9,$M$2:$M$419,0))&"","") -> Solid concrete wall | AD11: =IFERROR(INDEX('All Data'!$E$2:$E$419,MATCH(9,$P$2:$P$419,0))&"","") | AF11: =IFERROR(INDEX('All Data'!$F$2:$F$419,MATCH(9,$S$2:$S$419,0))&"","") | AH11: =IFERROR(INDEX('All Data'!$G$2:$G$419,MATCH(9,$V$2:$V$419,0))&"","") -> Pre-1919 uninsulated | BA11: =TRIM(MID(SUBSTITUTE($BA$7," ",REPT(" ",99)),298,99))
