Workbook
Name ConstructionList: OFFSET(Engine!$AB$2,0,0,Engine!$AB$1+1,1)
Name ElementList: OFFSET(Engine!$AJ$2,0,0,8,1)
Name RegionList: OFFSET(Engine!$AF$2,0,0,Engine!$AF$1+1,1)
Name SubtypeList: OFFSET(Engine!$AD$2,0,0,Engine!$AD$1+1,1)
Name TypeList: OFFSET(Engine!$Z$2,0,0,Engine!$Z$1+1,1)
Name YearList: OFFSET(Engine!$AH$2,0,0,Engine!$AH$1+1,1)

Sheet Finder
K1: =Engine!$BB$1 -> 0
A2: NCM Default U-Value Finder | H2: buildingperformanceexplained.com | K2: =Engine!$BB$2 -> 0
A3: Work down the dropdowns. Each one only offers choices that still exist after the ones above it — leave anything you do not know as Any. | K3: =Engine!$BB$3 -> 0
K4: =Engine!$BB$4 -> 0
K5: =Engine!$BB$5 -> 0
B6: 1 ELEMENT | D6: 2 TYPE / GROUP | F6: 3 CONSTRUCTION / MATERIAL | K6: =Engine!$BB$6 -> 0
B7: Wall | D7: Any | F7: Any | K7: =Engine!$AD$1 -> 0
K8: =Engine!$BB$7 -> 0
B9: 4 SUBTYPE (GLAZING ONLY) | D9: 5 REGION | F9: 6 YEAR / DETAIL
B10: Any | D10: Any | F10: 1990
B12: KEYWORD (OPTIONAL)
D13: Leave blank unless you want to narrow further. Wood, wooden and timber all find the same rows.
A15: =IF($K$8>0,"Some choices no longer apply — reset the amber boxes to Any.",IF(SUM(Engine!$W$2:$W$419)=0,"No matches. Set one of the dropdowns back to Any.",IF(SUM(Engine!$W$2:$W$419)>100,TEXT(SUM(Engine!$W$2:$W$419),"0")&" matches — showing the first 100. Use another dropdown to narrow it down.",TEXT(SUM(Engine!$W$2:$W$419),"0")&IF(SUM(Engine!$W$2:$W$419)=1," match found."," matches found."))))&IF(Engine!$BA$16="",""," (Only the first 8 keyword words were used.)") -> 5 matches found.
A16: # | B16: Element | C16: Type / group | D16: Construction / frame | E16: Subtype | F16: Region | G16: Year / detail | H16: Regulation | I16: U-value (W/m²K)
A17: =IF($B17="","",1) -> 1 | B17: =IFERROR(INDEX('All Data'!$B$2:$B$419,MATCH(1,Engine!$X$2:$X$419,0))&"","") -> Wall | C17: =IFERROR(INDEX('All Data'!$C$2:$C$419,MATCH(1,Engine!$X$2:$X$419,0))&"","") -> Solid (Masonry) Wall | D17: =IFERROR(INDEX('All Data'!$D$2:$D$419,MATCH(1,Engine!$X$2:$X$419,0))&"","") -> Solid wall | E17: =IFERROR(INDEX('All Data'!$E$2:$E$419,MATCH(1,Engine!$X$2:$X$419,0))&"","") | F17: =IFERROR(INDEX('All Data'!$F$2:$F$419,MATCH(1,Engine!$X$2:$X$419,0))&"","") -> England & Wales | G17: =IFERROR(INDEX('All Data'!$G$2:$G$419,MATCH(1,Engine!$X$2:$X$419,0))&"","") -> 1990 | H17: =IFERROR(INDEX('All Data'!$H$2:$H$419,MATCH(1,Engine!$X$2:$X$419,0))&"","") -> Part L | I17: =IFERROR(INDEX('All Data'!$I$2:$I$419,MATCH(1,Engine!$X$2:$X$419,0)),"") -> 0.45
A18: =IF($B18="","",2) -> 2 | B18: =IFERROR(INDEX('All Data'!$B$2:$B$419,MATCH(2,Engine!$X$2:$X$419,0))&"","") -> Wall | C18: =IFERROR(INDEX('All Data'!$C$2:$C$419,MATCH(2,Engine!$X$2:$X$419,0))&"","") -> Cavity Wall (Full Fill) | D18: =IFERROR(INDEX('All Data'!$D$2:$D$419,MATCH(2,Engine!$X$2:$X$419,0))&"","") -> Cavity wall | E18: =IFERROR(INDEX('All Data'!$E$2:$E$419,MATCH(2,Engine!$X$2:$X$419,0))&"","") | F18: =IFERROR(INDEX('All Data'!$F$2:$F$419,MATCH(2,Engine!$X$2:$X$419,0))&"","") -> England & Wales | G18: =IFERROR(INDEX('All Data'!$G$2:$G$419,MATCH(2,Engine!$X$2:$X$419,0))&"","") -> 1990 | H18: =IFERROR(INDEX('All Data'!$H$2:$H$419,MATCH(2,Engine!$X$2:$X$419,0))&"","") -> Part L | I18: =IFERROR(INDEX('All Data'!$I$2:$I$419,MATCH(2,Engine!$X$2:$X$419,0)),"") -> 0.55
A19: =IF($B19="","",3) -> 3 | B19: =IFERROR(INDEX('All Data'!$B$2:$B$419,MATCH(3,Engine!$X$2:$X$419,0))&"","") -> Wall | C19: =IFERROR(INDEX('All Data'!$C$2:$C$419,MATCH(3,Engine!$X$2:$X$419,0))&"","") -> Non-Structural Wall (Metal) | D19: =IFERROR(INDEX('All Data'!$D$2:$D$419,MATCH(3,Engine!$X$2:$X$419,0))&"","") -> Metal cladding wall | E19: =IFERROR(INDEX('All Data'!$E$2:$E$419,MATCH(3,Engine!$X$2:$X$419,0))&"","") | F19: =IFERROR(INDEX('All Data'!$F$2:$F$419,MATCH(3,Engine!$X$2:$X$419,0))&"","") -> England & Wales | G19: =IFERROR(INDEX('All Data'!$G$2:$G$419,MATCH(3,Engine!$X$2:$X$419,0))&"","") -> 1990 | H19: =IFERROR(INDEX('All Data'!$H$2:$H$419,MATCH(3,Engine!$X$2:$X$419,0))&"","") -> Part L | I19: =IFERROR(INDEX('All Data'!$I$2:$I$419,MATCH(3,Engine!$X$2:$X$419,0)),"") -> 0.45
A20: =IF($B20="","",4) -> 4 | B20: =IFERROR(INDEX('All Data'!$B$2:$B$419,MATCH(4,Engine!$X$2:$X$419,0))&"","") -> Wall | C20: =IFERROR(INDEX('All Data'!$C$2:$C$419,MATCH(4,Engine!$X$2:$X$419,0))&"","") -> Timber Frame Wall | D20: =IFERROR(INDEX('All Data'!$D$2:$D$419,MATCH(4,Engine!$X$2:$X$419,0))&"","") -> Stud wall to roof void | E20: =IFERROR(INDEX('All Data'!$E$2:$E$419,MATCH(4,Engine!$X$2:$X$419,0))&"","") | F20: =IFERROR(INDEX('All Data'!$F$2:$F$419,MATCH(4,Engine!$X$2:$X$419,0))&"","") -> England & Wales | G20: =IFERROR(INDEX('All Data'!$G$2:$G$419,MATCH(4,Engine!$X$2:$X$419,0))&"","") -> 1990 | H20: =IFERROR(INDEX('All Data'!$H$2:$H$419,MATCH(4,Engine!$X$2:$X$419,0))&"","") -> Part L | I20: =IFERROR(INDEX('All Data'!$I$2:$I$419,MATCH(4,Engine!$X$2:$X$419,0)),"") -> 0.45
A21: =IF($B21="","",5) -> 5 | B21: =IFERROR(INDEX('All Data'!$B$2:$B$419,MATCH(5,Engine!$X$2:$X$419,0))&"","") -> Wall | C21: =IFERROR(INDEX('All Data'!$C$2:$C$419,MATCH(5,Engine!$X$2:$X$419,0))&"","") -> Timber Frame Wall | D21: =IFERROR(INDEX('All Data'!$D$2:$D$419,MATCH(5,Engine!$X$2:$X$419,0))&"","") -> Timber frame wall | E21: =IFERROR(INDEX('All Data'!$E$2:$E$419,MATCH(5,Engine!$X$2:$X$419,0))&"","") | F21: =IFERROR(INDEX('All Data'!$F$2:$F$419,MATCH(5,Engine!$X$2:$X$419,0))&"","") -> England & Wales | G21: =IFERROR(INDEX('All Data'!$G$2:$G$419,MATCH(5,Engine!$X$2:$X$419,0))&"","") -> 1990 | H21: =IFERROR(INDEX('All Data'!$H$2:$H$419,MATCH(5,Engine!$X$2:$X$419,0))&"","") -> Part L | I21: =IFERROR(INDEX('All Data'!$I$2:$I$419,MATCH(5,Engine!$X$2:$X$419,0)),"") -> 0.45
A22: =IF($B22="","",6) | B22: =IFERROR(INDEX('All Data'!$B$2:$B$419,MATCH(6,Engine!$X$2:$X$419,0))&"","") | C22: =IFERROR(INDEX('All Data'!$C$2:$C$419,MATCH(6,Engine!$X$2:$X$419,0))&"","") | D22: =IFERROR(INDEX('All Data'!$D$2:$D$419,MATCH(6,Engine!$X$2:$X$419,0))&"","") | E22: =IFERROR(INDEX('All Data'!$E$2:$E$419,MATCH(6,Engine!$X$2:$X$419,0))&"","") | F22: =IFERROR(INDEX('All Data'!$F$2:$F$419,MATCH(6,Engine!$X$2:$X$419,0))&"","") | G22: =IFERROR(INDEX('All Data'!$G$2:$G$419,MATCH(6,Engine!$X$2:$X$419,0))&"","") | H22: =IFERROR(INDEX('All Data'!$H$2:$H$419,MATCH(6,Engine!$X$2:$X$419,0))&"","") | I22: =IFERROR(INDEX('All Data'!$I$2:$I$419,MATCH(6,Engine!$X$2:$X$419,0)),"")
A23: =IF($B23="","",7) | B23: =IFERROR(INDEX('All Data'!$B$2:$B$419,MATCH(7,Engine!$X$2:$X$419,0))&"","") | C23: =IFERROR(INDEX('All Data'!$C$2:$C$419,MATCH(7,Engine!$X$2:$X$419,0))&"","") | D23: =IFERROR(INDEX('All Data'!$D$2:$D$419,MATCH(7,Engine!$X$2:$X$419,0))&"","") | E23: =IFERROR(INDEX('All Data'!$E$2:$E$419,MATCH(7,Engine!$X$2:$X$419,0))&"","") | F23: =IFERROR(INDEX('All Data'!$F$2:$F$419,MATCH(7,Engine!$X$2:$X$419,0))&"","") | G23: =IFERROR(INDEX('All Data'!$G$2:$G$419,MATCH(7,Engine!$X$2:$X$419,0))&"","") | H23: =IFERROR(INDEX('All Data'!$H$2:$H$419,MATCH(7,Engine!$X$2:$X$419,0))&"","") | I23: =IFERROR(INDEX('All Data'!$I$2:$I$419,MATCH(7,Engine!$X$2:$X$419,0)),"")
A24: =IF($B24="","",8) | B24: =IFERROR(INDEX('All Data'!$B$2:$B$419,MATCH(8,Engine!$X$2:$X$419,0))&"","") | C24: =IFERROR(INDEX('All Data'!$C$2:$C$419,MATCH(8,Engine!$X$2:$X$419,0))&"","") | D24: =IFERROR(INDEX('All Data'!$D$2:$D$419,MATCH(8,Engine!$X$2:$X$419,0))&"","") | E24: =IFERROR(INDEX('All Data'!$E$2:$E$419,MATCH(8,Engine!$X$2:$X$419,0))&"","") | F24: =IFERROR(INDEX('All Data'!$F$2:$F$419,MATCH(8,Engine!$X$2:$X$419,0))&"","") | G24: =IFERROR(INDEX('All Data'!$G$2:$G$419,MATCH(8,Engine!$X$2:$X$419,0))&"","") | H24: =IFERROR(INDEX('All Data'!$H$2:$H$419,MATCH(8,Engine!$X$2:$X$419,0))&"","") | I24: =IFERROR(INDEX('All Data'!$I$2:$I$419,MATCH(8,Engine!$X$2:$X$419,0)),"")
A25: =IF($B25="","",9) | B25: =IFERROR(INDEX('All Data'!$B$2:$B$419,MATCH(9,Engine!$X$2:$X$419,0))&"","") | C25: =IFERROR(INDEX('All Data'!$C$2:$C$419,MATCH(9,Engine!$X$2:$X$419,0))&"","") | D25: =IFERROR(INDEX('All Data'!$D$2:$D$419,MATCH(9,Engine!$X$2:$X$419,0))&"","") | E25: =IFERROR(INDEX('All Data'!$E$2:$E$419,MATCH(9,Engine!$X$2:$X$419,0))&"","") | F25: =IFERROR(INDEX('All Data'!$F$2:$F$419,MATCH(9,Engine!$X$2:$X$419,0))&"","") | G25: =IFERROR(INDEX('All Data'!$G$2:$G$419,MATCH(9,Engine!$X$2:$X$419,0))&"","") | H25: =IFERROR(INDEX('All Data'!$H$2:$H$419,MATCH(9,Engine!$X$2:$X$419,0))&"","") | I25: =IFERROR(INDEX('All Data'!$I$2:$I$419,MATCH(9,Engine!$X$2:$X$419,0)),"")
A26: =IF($B26="","",10) | B26: =IFERROR(INDEX('All Data'!$B$2:$B$419,MATCH(10,Engine!$X$2:$X$419,0))&"","") | C26: =IFERROR(INDEX('All Data'!$C$2:$C$419,MATCH(10,Engine!$X$2:$X$419,0))&"","") | D26: =IFERROR(INDEX('All Data'!$D$2:$D$419,MATCH(10,Engine!$X$2:$X$419,0))&"","") | E26: =IFERROR(INDEX('All Data'!$E$2:$E$419,MATCH(10,Engine!$X$2:$X$419,0))&"","") | F26: =IFERROR(INDEX('All Data'!$F$2:$F$419,MATCH(10,Engine!$X$2:$X$419,0))&"","") | G26: =IFERROR(INDEX('All Data'!$G$2:$G$419,MATCH(10,Engine!$X$2:$X$419,0))&"","") | H26: =IFERROR(INDEX('All Data'!$H$2:$H$419,MATCH(10,Engine!$X$2:$X$419,0))&"","") | I26: =IFERROR(INDEX('All Data'!$I$2:$I$419,MATCH(10,Engine!$X$2:$X$419,0)),"")
A27: =IF($B27="","",11) | B27: =IFERROR(INDEX('All Data'!$B$2:$B$419,MATCH(11,Engine!$X$2:$X$419,0))&"","") | C27: =IFERROR(INDEX('All Data'!$C$2:$C$419,MATCH(11,Engine!$X$2:$X$419,0))&"","") | D27: =IFERROR(INDEX('All Data'!$D$2:$D$419,MATCH(11,Engine!$X$2:$X$419,0))&"","") | E27: =IFERROR(INDEX('All Data'!$E$2:$E$419,MATCH(11,Engine!$X$2:$X$419,0))&"","") | F27: =IFERROR(INDEX('All Data'!$F$2:$F$419,MATCH(11,Engine!$X$2:$X$419,0))&"","") | G27: =IFERROR(INDEX('All Data'!$G$2:$G$419,MATCH(11,Engine!$X$2:$X$419,0))&"","") | H27: =IFERROR(INDEX('All Data'!$H$2:$H$419,MATCH(11,Engine!$X$2:$X$419,0))&"","") | I27: =IFERROR(INDEX('All Data'!$I$2:$I$419,MATCH(11,Engine!$X$2:$X$419,0)),"")
A28: =IF($B28="","",12) | B28: =IFERROR(INDEX('All Data'!$B$2:$B$419,MATCH(12,Engine!$X$2:$X$419,0))&"","") | C28: =IFERROR(INDEX('All Data'!$C$2:$C$419,MATCH(12,Engine!$X$2:$X$419,0))&"","") | D28: =IFERROR(INDEX('All Data'!$D$2:$D$419,MATCH(12,Engine!$X$2:$X$419,0))&"","") | E28: =IFERROR(INDEX('All Data'!$E$2:$E$419,MATCH(12,Engine!$X$2:$X$419,0))&"","") | F28: =IFERROR(INDEX('All Data'!$F$2:$F$419,MATCH(12,Engine!$X$2:$X$419,0))&"","") | G28: =IFERROR(INDEX('All Data'!$G$2:$G$419,MATCH(12,Engine!$X$2:$X$419,0))&"","") | H28: =IFERROR(INDEX('All Data'!$H$2:$H$419,MATCH(12,Engine!$X$2:$X$419,0))&"","") | I28: =IFERROR(INDEX('All Data'!$I$2:$I$419,MATCH(12,Engine!$X$2:$X$419,0)),"")
A29: =IF($B29="","",13) | B29: =IFERROR(INDEX('All Data'!$B$2:$B$419,MATCH(13,Engine!$X$2:$X$419,0))&"","") | C29: =IFERROR(INDEX('All Data'!$C$2:$C$419,MATCH(13,Engine!$X$2:$X$419,0))&"","") | D29: =IFERROR(INDEX('All Data'!$D$2:$D$419,MATCH(13,Engine!$X$2:$X$419,0))&"","") | E29: =IFERROR(INDEX('All Data'!$E$2:$E$419,MATCH(13,Engine!$X$2:$X$419,0))&"","") | F29: =IFERROR(INDEX('All Data'!$F$2:$F$419,MATCH(13,Engine!$X$2:$X$419,0))&"","") | G29: =IFERROR(INDEX('All Data'!$G$2:$G$419,MATCH(13,Engine!$X$2:$X$419,0))&"","") | H29: =IFERROR(INDEX('All Data'!$H$2:$H$419,MATCH(13,Engine!$X$2:$X$419,0))&"","") | I29: =IFERROR(INDEX('All Data'!$I$2:$I$419,MATCH(13,Engine!$X$2:$X$419,0)),"")
A30: =IF($B30="","",14) | B30: =IFERROR(INDEX('All Data'!$B$2:$B$419,MATCH(14,Engine!$X$2:$X$419,0))&"","") | C30: =IFERROR(INDEX('All Data'!$C$2:$C$419,MATCH(14,Engine!$X$2:$X$419,0))&"","") | D30: =IFERROR(INDEX('All Data'!$D$2:$D$419,MATCH(14,Engine!$X$2:$X$419,0))&"","") | E30: =IFERROR(INDEX('All Data'!$E$2:$E$419,MATCH(14,Engine!$X$2:$X$419,0))&"","") | F30: =IFERROR(INDEX('All Data'!$F$2:$F$419,MATCH(14,Engine!$X$2:$X$419,0))&"","") | G30: =IFERROR(INDEX('All Data'!$G$2:$G$419,MATCH(14,Engine!$X$2:$X$419,0))&"","") | H30: =IFERROR(INDEX('All Data'!$H$2:$H$419,MATCH(14,Engine!$X$2:$X$419,0))&"","") | I30: =IFERROR(INDEX('All Data'!$I$2:$I$419,MATCH(14,Engine!$X$2:$X$419,0)),"")
A31: =IF($B31="","",15) | B31: =IFERROR(INDEX('All Data'!$B$2:$B$419,MATCH(15,Engine!$X$2:$X$419,0))&"","") | C31: =IFERROR(INDEX('All Data'!$C$2:$C$419,MATCH(15,Engine!$X$2:$X$419,0))&"","") | D31: =IFERROR(INDEX('All Data'!$D$2:$D$419,MATCH(15,Engine!$X$2:$X$419,0))&"","") | E31: =IFERROR(INDEX('All Data'!$E$2:$E$419,MATCH(15,Engine!$X$2:$X$419,0))&"","") | F31: =IFERROR(INDEX('All Data'!$F$2:$F$419,MATCH(15,Engine!$X$2:$X$419,0))&"","") | G31: =IFERROR(INDEX('All Data'!$G$2:$G$419,MATCH(15,Engine!$X$2:$X$419,0))&"","") | H31: =IFERROR(INDEX('All Data'!$H$2:$H$419,MATCH(15,Engine!$X$2:$X$419,0))&"","") | I31: =IFERROR(INDEX('All Data'!$I$2:$I$419,MATCH(15,Engine!$X$2:$X$419,0)),"")
A32: =IF($B32="","",16) | B32: =IFERROR(INDEX('All Data'!$B$2:$B$419,MATCH(16,Engine!$X$2:$X$419,0))&"","") | C32: =IFERROR(INDEX('All Data'!$C$2:$C$419,MATCH(16,Engine!$X$2:$X$419,0))&"","") | D32: =IFERROR(INDEX('All Data'!$D$2:$D$419,MATCH(16,Engine!$X$2:$X$419,0))&"","") | E32: =IFERROR(INDEX('All Data'!$E$2:$E$419,MATCH(16,Engine!$X$2:$X$419,0))&"","") | F32: =IFERROR(INDEX('All Data'!$F$2:$F$419,MATCH(16,Engine!$X$2:$X$419,0))&"","") | G32: =IFERROR(INDEX('All Data'!$G$2:$G$419,MATCH(16,Engine!$X$2:$X$419,0))&"","") | H32: =IFERROR(INDEX('All Data'!$H$2:$H$419,MATCH(16,Engine!$X$2:$X$419,0))&"","") | I32: =IFERROR(INDEX('All Data'!$I$2:$I$419,MATCH(16,Engine!$X$2:$X$419,0)),"")
A33: =IF($B33="","",17) | B33: =IFERROR(INDEX('All Data'!$B$2:$B$419,MATCH(17,Engine!$X$2:$X$419,0))&"","") | C33: =IFERROR(INDEX('All Data'!$C$2:$C$419,MATCH(17,Engine!$X$2:$X$419,0))&"","") | D33: =IFERROR(INDEX('All Data'!$D$2:$D$419,MATCH(17,Engine!$X$2:$X$419,0))&"","") | E33: =IFERROR(INDEX('All Data'!$E$2:$E$419,MATCH(17,Engine!$X$2:$X$419,0))&"","") | F33: =IFERROR(INDEX('All Data'!$F$2:$F$419,MATCH(17,Engine!$X$2:$X$419,0))&"","") | G33: =IFERROR(INDEX('All Data'!$G$2:$G$419,MATCH(17,Engine!$X$2:$X$419,0))&"","") | H33: =IFERROR(INDEX('All Data'!$H$2:$H$419,MATCH(17,Engine!$X$2:$X$419,0))&"","") | I33: =IFERROR(INDEX('All Data'!$I$2:$I$419,MATCH(17,Engine!$X$2:$X$419,0)),"")
A34: =IF($B34="","",18) | B34: =IFERROR(INDEX('All Data'!$B$2:$B$419,MATCH(18,Engine!$X$2:$X$419,0))&"","") | C34: =IFERROR(INDEX('All Data'!$C$2:$C$419,MATCH(18,Engine!$X$2:$X$419,0))&"","") | D34: =IFERROR(INDEX('All Data'!$D$2:$D$419,MATCH(18,Engine!$X$2:$X$419,0))&"","") | E34: =IFERROR(INDEX('All Data'!$E$2:$E$419,MATCH(18,Engine!$X$2:$X$419,0))&"","") | F34: =IFERROR(INDEX('All Data'!$F$2:$F$419,MATCH(18,Engine!$X$2:$X$419,0))&"","") | G34: =IFERROR(INDEX('All Data'!$G$2:$G$419,MATCH(18,Engine!$X$2:$X$419,0))&"","") | H34: =IFERROR(INDEX('All Data'!$H$2:$H$419,MATCH(18,Engine!$X$2:$X$419,0))&"","") | I34: =IFERROR(INDEX('All Data'!$I$2:$I$419,MATCH(18,Engine!$X$2:$X$419,0)),"")
A35: =IF($B35="","",19) | B35: =IFERROR(INDEX('All Data'!$B$2:$B$419,MATCH(19,Engine!$X$2:$X$419,0))&"","") | C35: =IFERROR(INDEX('All Data'!$C$2:$C$419,MATCH(19,Engine!$X$2:$X$419,0))&"","") | D35: =IFERROR(INDEX('All Data'!$D$2:$D$419,MATCH(19,Engine!$X$2:$X$419,0))&"","") | E35: =IFERROR(INDEX('All Data'!$E$2:$E$419,MATCH(19,Engine!$X$2:$X$419,0))&"","") | F35: =IFERROR(INDEX('All Data'!$F$2:$F$419,MATCH(19,Engine!$X$2:$X$419,0))&"","") | G35: =IFERROR(INDEX('All Data'!$G$2:$G$419,MATCH(19,Engine!$X$2:$X$419,0))&"","") | H35: =IFERROR(INDEX('All Data'!$H$2:$H$419,MATCH(19,Engine!$X$2:$X$419,0))&"","") | I35: =IFERROR(INDEX('All Data'!$I$2:$I$419,MATCH(19,Engine!$X$2:$X$419,0)),"")
A36: =IF($B36="","",20) | B36: =IFERROR(INDEX('All Data'!$B$2:$B$419,MATCH(20,Engine!$X$2:$X$419,0))&"","") | C36: =IFERROR(INDEX('All Data'!$C$2:$C$419,MATCH(20,Engine!$X$2:$X$419,0))&"","") | D36: =IFERROR(INDEX('All Data'!$D$2:$D$419,MATCH(20,Engine!$X$2:$X$419,0))&"","") | E36: =IFERROR(INDEX('All Data'!$E$2:$E$419,MATCH(20,Engine!$X$2:$X$419,0))&"","") | F36: =IFERROR(INDEX('All Data'!$F$2:$F$419,MATCH(20,Engine!$X$2:$X$419,0))&"","") | G36: =IFERROR(INDEX('All Data'!$G$2:$G$419,MATCH(20,Engine!$X$2:$X$419,0))&"","") | H36: =IFERROR(INDEX('All Data'!$H$2:$H$419,MATCH(20,Engine!$X$2:$X$419,0))&"","") | I36: =IFERROR(INDEX('All Data'!$I$2:$I$419,MATCH(20,Engine!$X$2:$X$419,0)),"")
A37: =IF($B37="","",21) | B37: =IFERROR(INDEX('All Data'!$B$2:$B$419,MATCH(21,Engine!$X$2:$X$419,0))&"","") | C37: =IFERROR(INDEX('All Data'!$C$2:$C$419,MATCH(21,Engine!$X$2:$X$419,0))&"","") | D37: =IFERROR(INDEX('All Data'!$D$2:$D$419,MATCH(21,Engine!$X$2:$X$419,0))&"","") | E37: =IFERROR(INDEX('All Data'!$E$2:$E$419,MATCH(21,Engine!$X$2:$X$419,0))&"","") | F37: =IFERROR(INDEX('All Data'!$F$2:$F$419,MATCH(21,Engine!$X$2:$X$419,0))&"","") | G37: =IFERROR(INDEX('All Data'!$G$2:$G$419,MATCH(21,Engine!$X$2:$X$419,0))&"","") | H37: =IFERROR(INDEX('All Data'!$H$2:$H$419,MATCH(21,Engine!$X$2:$X$419,0))&"","") | I37: =IFERROR(INDEX('All Data'!$I$2:$I$419,MATCH(21,Engine!$X$2:$X$419,0)),"")
A38: =IF($B38="","",22) | B38: =IFERROR(INDEX('All Data'!$B$2:$B$419,MATCH(22,Engine!$X$2:$X$419,0))&"","") | C38: =IFERROR(INDEX('All Data'!$C$2:$C$419,MATCH(22,Engine!$X$2:$X$419,0))&"","") | D38: =IFERROR(INDEX('All Data'!$D$2:$D$419,MATCH(22,Engine!$X$2:$X$419,0))&"","") | E38: =IFERROR(INDEX('All Data'!$E$2:$E$419,MATCH(22,Engine!$X$2:$X$419,0))&"","") | F38: =IFERROR(INDEX('All Data'!$F$2:$F$419,MATCH(22,Engine!$X$2:$X$419,0))&"","") | G38: =IFERROR(INDEX('All Data'!$G$2:$G$419,MATCH(22,Engine!$X$2:$X$419,0))&"","") | H38: =IFERROR(INDEX('All Data'!$H$2:$H$419,MATCH(22,Engine!$X$2:$X$419,0))&"","") | I38: =IFERROR(INDEX('All Data'!$I$2:$I$419,MATCH(22,Engine!$X$2:$X$419,0)),"")
A39: =IF($B39="","",23) | B39: =IFERROR(INDEX('All Data'!$B$2:$B$419,MATCH(23,Engine!$X$2:$X$419,0))&"","") | C39: =IFERROR(INDEX('All Data'!$C$2:$C$419,MATCH(23,Engine!$X$2:$X$419,0))&"","") | D39: =IFERROR(INDEX('All Data'!$D$2:$D$419,MATCH(23,Engine!$X$2:$X$419,0))&"","") | E39: =IFERROR(INDEX('All Data'!$E$2:$E$419,MATCH(23,Engine!$X$2:$X$419,0))&"","") | F39: =IFERROR(INDEX('All Data'!$F$2:$F$419,MATCH(23,Engine!$X$2:$X$419,0))&"","") | G39: =IFERROR(INDEX('All Data'!$G$2:$G$419,MATCH(23,Engine!$X$2:$X$419,0))&"","") | H39: =IFERROR(INDEX('All Data'!$H$2:$H$419,MATCH(23,Engine!$X$2:$X$419,0))&"","") | I39: =IFERROR(INDEX('All Data'!$I$2:$I$419,MATCH(23,Engine!$X$2:$X$419,0)),"")
A40: =IF($B40="","",24) | B40: =IFERROR(INDEX('All Data'!$B$2:$B$419,MATCH(24,Engine!$X$2:$X$419,0))&"","") | C40: =IFERROR(INDEX('All Data'!$C$2:$C$419,MATCH(24,Engine!$X$2:$X$419,0))&"","") | D40: =IFERROR(INDEX('All Data'!$D$2:$D$419,MATCH(24,Engine!$X$2:$X$419,0))&"","") | E40: =IFERROR(INDEX('All Data'!$E$2:$E$419,MATCH(24,Engine!$X$2:$X$419,0))&"","") | F40: =IFERROR(INDEX('All Data'!$F$2:$F$419,MATCH(24,Engine!$X$2:$X$419,0))&"","") | G40: =IFERROR(INDEX('All Data'!$G$2:$G$419,MATCH(24,Engine!$X$2:$X$419,0))&"","") | H40: =IFERROR(INDEX('All Data'!$H$2:$H$419,MATCH(24,Engine!$X$2:$X$419,0))&"","") | I40: =IFERROR(INDEX('All Data'!$I$2:$I$419,MATCH(24,Engine!$X$2:$X$419,0)),"")
A41: =IF($B41="","",25) | B41: =IFERROR(INDEX('All Data'!$B$2:$B$419,MATCH(25,Engine!$X$2:$X$419,0))&"","") | C41: =IFERROR(INDEX('All Data'!$C$2:$C$419,MATCH(25,Engine!$X$2:$X$419,0))&"","") | D41: =IFERROR(INDEX('All Data'!$D$2:$D$419,MATCH(25,Engine!$X$2:$X$419,0))&"","") | E41: =IFERROR(INDEX('All Data'!$E$2:$E$419,MATCH(25,Engine!$X$2:$X$419,0))&"","") | F41: =IFERROR(INDEX('All Data'!$F$2:$F$419,MATCH(25,Engine!$X$2:$X$419,0))&"","") | G41: =IFERROR(INDEX('All Data'!$G$2:$G$419,MATCH(25,Engine!$X$2:$X$419,0))&"","") | H41: =IFERROR(INDEX('All Data'!$H$2:$H$419,MATCH(25,Engine!$X$2:$X$419,0))&"","") | I41: =IFERROR(INDEX('All Data'!$I$2:$I$419,MATCH(25,Engine!$X$2:$X$419,0)),"")
A42: =IF($B42="","",26) | B42: =IFERROR(INDEX('All Data'!$B$2:$B$419,MATCH(26,Engine!$X$2:$X$419,0))&"","") | C42: =IFERROR(INDEX('All Data'!$C$2:$C$419,MATCH(26,Engine!$X$2:$X$419,0))&"","") | D42: =IFERROR(INDEX('All Data'!$D$2:$D$419,MATCH(26,Engine!$X$2:$X$419,0))&"","") | E42: =IFERROR(INDEX('All Data'!$E$2:$E$419,MATCH(26,Engine!$X$2:$X$419,0))&"","") | F42: =IFERROR(INDEX('All Data'!$F$2:$F$419,MATCH(26,Engine!$X$2:$X$419,0))&"","") | G42: =IFERROR(INDEX('All Data'!$G$2:$G$419,MATCH(26,Engine!$X$2:$X$419,0))&"","") | H42: =IFERROR(INDEX('All Data'!$H$2:$H$419,MATCH(26,Engine!$X$2:$X$419,0))&"","") | I42: =IFERROR(INDEX('All Data'!$I$2:$I$419,MATCH(26,Engine!$X$2:$X$419,0)),"")
A43: =IF($B43="","",27) | B43: =IFERROR(INDEX('All Data'!$B$2:$B$419,MATCH(27,Engine!$X$2:$X$419,0))&"","") | C43: =IFERROR(INDEX('All Data'!$C$2:$C$419,MATCH(27,Engine!$X$2:$X$419,0))&"","") | D43: =IFERROR(INDEX('All Data'!$D$2:$D$419,MATCH(27,Engine!$X$2:$X$419,0))&"","") | E43: =IFERROR(INDEX('All Data'!$E$2:$E$419,MATCH(27,Engine!$X$2:$X$419,0))&"","") | F43: =IFERROR(INDEX('All Data'!$F$2:$F$419,MATCH(27,Engine!$X$2:$X$419,0))&"","") | G43: =IFERROR(INDEX('All Data'!$G$2:$G$419,MATCH(27,Engine!$X$2:$X$419,0))&"","") | H43: =IFERROR(INDEX('All Data'!$H$2:$H$419,MATCH(27,Engine!$X$2:$X$419,0))&"","") | I43: =IFERROR(INDEX('All Data'!$I$2:$I$419,MATCH(27,Engine!$X$2:$X$419,0)),"")
A44: =IF($B44="","",28) | B44: =IFERROR(INDEX('All Data'!$B$2:$B$419,MATCH(28,Engine!$X$2:$X$419,0))&"","") | C44: =IFERROR(INDEX('All Data'!$C$2:$C$419,MATCH(28,Engine!$X$2:$X$419,0))&"","") | D44: =IFERROR(INDEX('All Data'!$D$2:$D$419,MATCH(28,Engine!$X$2:$X$419,0))&"","") | E44: =IFERROR(INDEX('All Data'!$E$2:$E$419,MATCH(28,Engine!$X$2:$X$419,0))&"","") | F44: =IFERROR(INDEX('All Data'!$F$2:$F$419,MATCH(28,Engine!$X$2:$X$419,0))&"","") | G44: =IFERROR(INDEX('All Data'!$G$2:$G$419,MATCH(28,Engine!$X$2:$X$419,0))&"","") | H44: =IFERROR(INDEX('All Data'!$H$2:$H$419,MATCH(28,Engine!$X$2:$X$419,0))&"","") | I44: =IFERROR(INDEX('All Data'!$I$2:$I$419,MATCH(28,Engine!$X$2:$X$419,0)),"")
A45: =IF($B45="","",29) | B45: =IFERROR(INDEX('All Data'!$B$2:$B$419,MATCH(29,Engine!$X$2:$X$419,0))&"","") | C45: =IFERROR(INDEX('All Data'!$C$2:$C$419,MATCH(29,Engine!$X$2:$X$419,0))&"","") | D45: =IFERROR(INDEX('All Data'!$D$2:$D$419,MATCH(29,Engine!$X$2:$X$419,0))&"","") | E45: =IFERROR(INDEX('All Data'!$E$2:$E$419,MATCH(29,Engine!$X$2:$X$419,0))&"","") | F45: =IFERROR(INDEX('All Data'!$F$2:$F$419,MATCH(29,Engine!$X$2:$X$419,0))&"","") | G45: =IFERROR(INDEX('All Data'!$G$2:$G$419,MATCH(29,Engine!$X$2:$X$419,0))&"","") | H45: =IFERROR(INDEX('All Data'!$H$2:$H$419,MATCH(29,Engine!$X$2:$X$419,0))&"","") | I45: =IFERROR(INDEX('All Data'!$I$2:$I$419,MATCH(29,Engine!$X$2:$X$419,0)),"")
A46: =IF($B46="","",30) | B46: =IFERROR(INDEX('All Data'!$B$2:$B$419,MATCH(30,Engine!$X$2:$X$419,0))&"","") | C46: =IFERROR(INDEX('All Data'!$C$2:$C$419,MATCH(30,Engine!$X$2:$X$419,0))&"","") | D46: =IFERROR(INDEX('All Data'!$D$2:$D$419,MATCH(30,Engine!$X$2:$X$419,0))&"","") | E46: =IFERROR(INDEX('All Data'!$E$2:$E$419,MATCH(30,Engine!$X$2:$X$419,0))&"","") | F46: =IFERROR(INDEX('All Data'!$F$2:$F$419,MATCH(30,Engine!$X$2:$X$419,0))&"","") | G46: =IFERROR(INDEX('All Data'!$G$2:$G$419,MATCH(30,Engine!$X$2:$X$419,0))&"","") | H46: =IFERROR(INDEX('All Data'!$H$2:$H$419,MATCH(30,Engine!$X$2:$X$419,0))&"","") | I46: =IFERROR(INDEX('All Data'!$I$2:$I$419,MATCH(30,Engine!$X$2:$X$419,0)),"")
A47: =IF($B47="","",31) | B47: =IFERROR(INDEX('All Data'!$B$2:$B$419,MATCH(31,Engine!$X$2:$X$419,0))&"","") | C47: =IFERROR(INDEX('All Data'!$C$2:$C$419,MATCH(31,Engine!$X$2:$X$419,0))&"","") | D47: =IFERROR(INDEX('All Data'!$D$2:$D$419,MATCH(31,Engine!$X$2:$X$419,0))&"","") | E47: =IFERROR(INDEX('All Data'!$E$2:$E$419,MATCH(31,Engine!$X$2:$X$419,0))&"","") | F47: =IFERROR(INDEX('All Data'!$F$2:$F$419,MATCH(31,Engine!$X$2:$X$419,0))&"","") | G47: =IFERROR(INDEX('All Data'!$G$2:$G$419,MATCH(31,Engine!$X$2:$X$419,0))&"","") | H47: =IFERROR(INDEX('All Data'!$H$2:$H$419,MATCH(31,Engine!$X$2:$X$419,0))&"","") | I47: =IFERROR(INDEX('All Data'!$I$2:$I$419,MATCH(31,Engine!$X$2:$X$419,0)),"")
A48: =IF($B48="","",32) | B48: =IFERROR(INDEX('All Data'!$B$2:$B$419,MATCH(32,Engine!$X$2:$X$419,0))&"","") | C48: =IFERROR(INDEX('All Data'!$C$2:$C$419,MATCH(32,Engine!$X$2:$X$419,0))&"","") | D48: =IFERROR(INDEX('All Data'!$D$2:$D$419,MATCH(32,Engine!$X$2:$X$419,0))&"","") | E48: =IFERROR(INDEX('All Data'!$E$2:$E$419,MATCH(32,Engine!$X$2:$X$419,0))&"","") | F48: =IFERROR(INDEX('All Data'!$F$2:$F$419,MATCH(32,Engine!$X$2:$X$419,0))&"","") | G48: =IFERROR(INDEX('All Data'!$G$2:$G$419,MATCH(32,Engine!$X$2:$X$419,0))&"","") | H48: =IFERROR(INDEX('All Data'!$H$2:$H$419,MATCH(32,Engine!$X$2:$X$419,0))&"","") | I48: =IFERROR(INDEX('All Data'!$I$2:$I$419,MATCH(32,Engine!$X$2:$X$419,0)),"")
A49: =IF($B49="","",33) | B49: =IFERROR(INDEX('All Data'!$B$2:$B$419,MATCH(33,Engine!$X$2:$X$419,0))&"","") | C49: =IFERROR(INDEX('All Data'!$C$2:$C$419,MATCH(33,Engine!$X$2:$X$419,0))&"","") | D49: =IFERROR(INDEX('All Data'!$D$2:$D$419,MATCH(33,Engine!$X$2:$X$419,0))&"","") | E49: =IFERROR(INDEX('All Data'!$E$2:$E$419,MATCH(33,Engine!$X$2:$X$419,0))&"","") | F49: =IFERROR(INDEX('All Data'!$F$2:$F$419,MATCH(33,Engine!$X$2:$X$419,0))&"","") | G49: =IFERROR(INDEX('All Data'!$G$2:$G$419,MATCH(33,Engine!$X$2:$X$419,0))&"","") | H49: =IFERROR(INDEX('All Data'!$H$2:$H$419,MATCH(33,Engine!$X$2:$X$419,0))&"","") | I49: =IFERROR(INDEX('All Data'!$I$2:$I$419,MATCH(33,Engine!$X$2:$X$419,0)),"")
A50: =IF($B50="","",34) | B50: =IFERROR(INDEX('All Data'!$B$2:$B$419,MATCH(34,Engine!$X$2:$X$419,0))&"","") | C50: =IFERROR(INDEX('All Data'!$C$2:$C$419,MATCH(34,Engine!$X$2:$X$419,0))&"","") | D50: =IFERROR(INDEX('All Data'!$D$2:$D$419,MATCH(34,Engine!$X$2:$X$419,0))&"","") | E50: =IFERROR(INDEX('All Data'!$E$2:$E$419,MATCH(34,Engine!$X$2:$X$419,0))&"","") | F50: =IFERROR(INDEX('All Data'!$F$2:$F$419,MATCH(34,Engine!$X$2:$X$419,0))&"","") | G50: =IFERROR(INDEX('All Data'!$G$2:$G$419,MATCH(34,Engine!$X$2:$X$419,0))&"","") | H50: =IFERROR(INDEX('All Data'!$H$2:$H$419,MATCH(34,Engine!$X$2:$X$419,0))&"","") | I50: =IFERROR(INDEX('All Data'!$I$2:$I$419,MATCH(34,Engine!$X$2:$X$419,0)),"")
A51: =IF($B51="","",35) | B51: =IFERROR(INDEX('All Data'!$B$2:$B$419,MATCH(35,Engine!$X$2:$X$419,0))&"","") | C51: =IFERROR(INDEX('All Data'!$C$2:$C$419,MATCH(35,Engine!$X$2:$X$419,0))&"","") | D51: =IFERROR(INDEX('All Data'!$D$2:$D$419,MATCH(35,Engine!$X$2:$X$419,0))&"","") | E51: =IFERROR(INDEX('All Data'!$E$2:$E$419,MATCH(35,Engine!$X$2:$X$419,0))&"","") | F51: =IFERROR(INDEX('All Data'!$F$2:$F$419,MATCH(35,Engine!$X$2:$X$419,0))&"","") | G51: =IFERROR(INDEX('All Data'!$G$2:$G$419,MATCH(35,Engine!$X$2:$X$419,0))&"","") | H51: =IFERROR(INDEX('All Data'!$H$2:$H$419,MATCH(35,Engine!$X$2:$X$419,0))&"","") | I51: =IFERROR(INDEX('All Data'!$I$2:$I$419,MATCH(35,Engine!$X$2:$X$419,0)),"")
A52: =IF($B52="","",36) | B52: =IFERROR(INDEX('All Data'!$B$2:$B$419,MATCH(36,Engine!$X$2:$X$419,0))&"","") | C52: =IFERROR(INDEX('All Data'!$C$2:$C$419,MATCH(36,Engine!$X$2:$X$419,0))&"","") | D52: =IFERROR(INDEX('All Data'!$D$2:$D$419,MATCH(36,Engine!$X$2:$X$419,0))&"","") | E52: =IFERROR(INDEX('All Data'!$E$2:$E$419,MATCH(36,Engine!$X$2:$X$419,0))&"","") | F52: =IFERROR(INDEX('All Data'!$F$2:$F$419,MATCH(36,Engine!$X$2:$X$419,0))&"","") | G52: =IFERROR(INDEX('All Data'!$G$2:$G$419,MATCH(36,Engine!$X$2:$X$419,0))&"","") | H52: =IFERROR(INDEX('All Data'!$H$2:$H$419,MATCH(36,Engine!$X$2:$X$419,0))&"","") | I52: =IFERROR(INDEX('All Data'!$I$2:$I$419,MATCH(36,Engine!$X$2:$X$419,0)),"")
A53: =IF($B53="","",37) | B53: =IFERROR(INDEX('All Data'!$B$2:$B$419,MATCH(37,Engine!$X$2:$X$419,0))&"","") | C53: =IFERROR(INDEX('All Data'!$C$2:$C$419,MATCH(37,Engine!$X$2:$X$419,0))&"","") | D53: =IFERROR(INDEX('All Data'!$D$2:$D$419,MATCH(37,Engine!$X$2:$X$419,0))&"","") | E53: =IFERROR(INDEX('All Data'!$E$2:$E$419,MATCH(37,Engine!$X$2:$X$419,0))&"","") | F53: =IFERROR(INDEX('All Data'!$F$2:$F$419,MATCH(37,Engine!$X$2:$X$419,0))&"","") | G53: =IFERROR(INDEX('All Data'!$G$2:$G$419,MATCH(37,Engine!$X$2:$X$419,0))&"","") | H53: =IFERROR(INDEX('All Data'!$H$2:$H$419,MATCH(37,Engine!$X$2:$X$419,0))&"","") | I53: =IFERROR(INDEX('All Data'!$I$2:$I$419,MATCH(37,Engine!$X$2:$X$419,0)),"")
A54: =IF($B54="","",38) | B54: =IFERROR(INDEX('All Data'!$B$2:$B$419,MATCH(38,Engine!$X$2:$X$419,0))&"","") | C54: =IFERROR(INDEX('All Data'!$C$2:$C$419,MATCH(38,Engine!$X$2:$X$419,0))&"","") | D54: =IFERROR(INDEX('All Data'!$D$2:$D$419,MATCH(38,Engine!$X$2:$X$419,0))&"","") | E54: =IFERROR(INDEX('All Data'!$E$2:$E$419,MATCH(38,Engine!$X$2:$X$419,0))&"","") | F54: =IFERROR(INDEX('All Data'!$F$2:$F$419,MATCH(38,Engine!$X$2:$X$419,0))&"","") | G54: =IFERROR(INDEX('All Data'!$G$2:$G$419,MATCH(38,Engine!$X$2:$X$419,0))&"","") | H54: =IFERROR(INDEX('All Data'!$H$2:$H$419,MATCH(38,Engine!$X$2:$X$419,0))&"","") | I54: =IFERROR(INDEX('All Data'!$I$2:$I$419,MATCH(38,Engine!$X$2:$X$419,0)),"")
A55: =IF($B55="","",39) | B55: =IFERROR(INDEX('All Data'!$B$2:$B$419,MATCH(39,Engine!$X$2:$X$419,0))&"","") | C55: =IFERROR(INDEX('All Data'!$C$2:$C$419,MATCH(39,Engine!$X$2:$X$419,0))&"","") | D55: =IFERROR(INDEX('All Data'!$D$2:$D$419,MATCH(39,Engine!$X$2:$X$419,0))&"","") | E55: =IFERROR(INDEX('All Data'!$E$2:$E$419,MATCH(39,Engine!$X$2:$X$419,0))&"","") | F55: =IFERROR(INDEX('All Data'!$F$2:$F$419,MATCH(39,Engine!$X$2:$X$419,0))&"","") | G55: =IFERROR(INDEX('All Data'!$G$2:$G$419,MATCH(39,Engine!$X$2:$X$419,0))&"","") | H55: =IFERROR(INDEX('All Data'!$H$2:$H$419,MATCH(39,Engine!$X$2:$X$419,0))&"","") | I55: =IFERROR(INDEX('All Data'!$I$2:$I$419,MATCH(39,Engine!$X$2:$X$419,0)),"")
A56: =IF($B56="","",40) | B56: =IFERROR(INDEX('All Data'!$B$2:$B$419,MATCH(40,Engine!$X$2:$X$419,0))&"","") | C56: =IFERROR(INDEX('All Data'!$C$2:$C$419,MATCH(40,Engine!$X$2:$X$419,0))&"","") | D56: =IFERROR(INDEX('All Data'!$D$2:$D$419,MATCH(40,Engine!$X$2:$X$419,0))&"","") | E56: =IFERROR(INDEX('All Data'!$E$2:$E$419,MATCH(40,Engine!$X$2:$X$419,0))&"","") | F56: =IFERROR(INDEX('All Data'!$F$2:$F$419,MATCH(40,Engine!$X$2:$X$419,0))&"","") | G56: =IFERROR(INDEX('All Data'!$G$2:$G$419,MATCH(40,Engine!$X$2:$X$419,0))&"","") | H56: =IFERROR(INDEX('All Data'!$H$2:$H$419,MATCH(40,Engine!$X$2:$X$419,0))&"","") | I56: =IFERROR(INDEX('All Data'!$I$2:$I$419,MATCH(40,Engine!$X$2:$X$419,0)),"")
A57: =IF($B57="","",41) | B57: =IFERROR(INDEX('All Data'!$B$2:$B$419,MATCH(41,Engine!$X$2:$X$419,0))&"","") | C57: =IFERROR(INDEX('All Data'!$C$2:$C$419,MATCH(41,Engine!$X$2:$X$419,0))&"","") | D57: =IFERROR(INDEX('All Data'!$D$2:$D$419,MATCH(41,Engine!$X$2:$X$419,0))&"","") | E57: =IFERROR(INDEX('All Data'!$E$2:$E$419,MATCH(41,Engine!$X$2:$X$419,0))&"","") | F57: =IFERROR(INDEX('All Data'!$F$2:$F$419,MATCH(41,Engine!$X$2:$X$419,0))&"","") | G57: =IFERROR(INDEX('All Data'!$G$2:$G$419,MATCH(41,Engine!$X$2:$X$419,0))&"","") | H57: =IFERROR(INDEX('All Data'!$H$2:$H$419,MATCH(41,Engine!$X$2:$X$419,0))&"","") | I57: =IFERROR(INDEX('All Data'!$I$2:$I$419,MATCH(41,Engine!$X$2:$X$419,0)),"")
A58: =IF($B58="","",42) | B58: =IFERROR(INDEX('All Data'!$B$2:$B$419,MATCH(42,Engine!$X$2:$X$419,0))&"","") | C58: =IFERROR(INDEX('All Data'!$C$2:$C$419,MATCH(42,Engine!$X$2:$X$419,0))&"","") | D58: =IFERROR(INDEX('All Data'!$D$2:$D$419,MATCH(42,Engine!$X$2:$X$419,0))&"","") | E58: =IFERROR(INDEX('All Data'!$E$2:$E$419,MATCH(42,Engine!$X$2:$X$419,0))&"","") | F58: =IFERROR(INDEX('All Data'!$F$2:$F$419,MATCH(42,Engine!$X$2:$X$419,0))&"","") | G58: =IFERROR(INDEX('All Data'!$G$2:$G$419,MATCH(42,Engine!$X$2:$X$419,0))&"","") | H58: =IFERROR(INDEX('All Data'!$H$2:$H$419,MATCH(42,Engine!$X$2:$X$419,0))&"","") | I58: =IFERROR(INDEX('All Data'!$I$2:$I$419,MATCH(42,Engine!$X$2:$X$419,0)),"")
A59: =IF($B59="","",43) | B59: =IFERROR(INDEX('All Data'!$B$2:$B$419,MATCH(43,Engine!$X$2:$X$419,0))&"","") | C59: =IFERROR(INDEX('All Data'!$C$2:$C$419,MATCH(43,Engine!$X$2:$X$419,0))&"","") | D59: =IFERROR(INDEX('All Data'!$D$2:$D$419,MATCH(43,Engine!$X$2:$X$419,0))&"","") | E59: =IFERROR(INDEX('All Data'!$E$2:$E$419,MATCH(43,Engine!$X$2:$X$419,0))&"","") | F59: =IFERROR(INDEX('All Data'!$F$2:$F$419,MATCH(43,Engine!$X$2:$X$419,0))&"","") | G59: =IFERROR(INDEX('All Data'!$G$2:$G$419,MATCH(43,Engine!$X$2:$X$419,0))&"","") | H59: =IFERROR(INDEX('All Data'!$H$2:$H$419,MATCH(43,Engine!$X$2:$X$419,0))&"","") | I59: =IFERROR(INDEX('All Data'!$I$2:$I$419,MATCH(43,Engine!$X$2:$X$419,0)),"")
A60: =IF($B60="","",44) | B60: =IFERROR(INDEX('All Data'!$B$2:$B$419,MATCH(44,Engine!$X$2:$X$419,0))&"","") | C60: =IFERROR(INDEX('All Data'!$C$2:$C$419,MATCH(44,Engine!$X$2:$X$419,0))&"","") | D60: =IFERROR(INDEX('All Data'!$D$2:$D$419,MATCH(44,Engine!$X$2:$X$419,0))&"","") | E60: =IFERROR(INDEX('All Data'!$E$2:$E$419,MATCH(44,Engine!$X$2:$X$419,0))&"","") | F60: =IFERROR(INDEX('All Data'!$F$2:$F$419,MATCH(44,Engine!$X$2:$X$419,0))&"","") | G60: =IFERROR(INDEX('All Data'!$G$2:$G$419,MATCH(44,Engine!$X$2:$X$419,0))&"","") | H60: =IFERROR(INDEX('All Data'!$H$2:$H$419,MATCH(44,Engine!$X$2:$X$419,0))&"","") | I60: =IFERROR(INDEX('All Data'!$I$2:$I$419,MATCH(44,Engine!$X$2:$X$419,0)),"")
A61: =IF($B61="","",45) | B61: =IFERROR(INDEX('All Data'!$B$2:$B$419,MATCH(45,Engine!$X$2:$X$419,0))&"","") | C61: =IFERROR(INDEX('All Data'!$C$2:$C$419,MATCH(45,Engine!$X$2:$X$419,0))&"","") | D61: =IFERROR(INDEX('All Data'!$D$2:$D$419,MATCH(45,Engine!$X$2:$X$419,0))&"","") | E61: =IFERROR(INDEX('All Data'!$E$2:$E$419,MATCH(45,Engine!$X$2:$X$419,0))&"","") | F61: =IFERROR(INDEX('All Data'!$F$2:$F$419,MATCH(45,Engine!$X$2:$X$419,0))&"","") | G61: =IFERROR(INDEX('All Data'!$G$2:$G$419,MATCH(45,Engine!$X$2:$X$419,0))&"","") | H61: =IFERROR(INDEX('All Data'!$H$2:$H$419,MATCH(45,Engine!$X$2:$X$419,0))&"","") | I61: =IFERROR(INDEX('All Data'!$I$2:$I$419,MATCH(45,Engine!$X$2:$X$419,0)),"")
A62: =IF($B62="","",46) | B62: =IFERROR(INDEX('All Data'!$B$2:$B$419,MATCH(46,Engine!$X$2:$X$419,0))&"","") | C62: =IFERROR(INDEX('All Data'!$C$2:$C$419,MATCH(46,Engine!$X$2:$X$419,0))&"","") | D62: =IFERROR(INDEX('All Data'!$D$2:$D$419,MATCH(46,Engine!$X$2:$X$419,0))&"","") | E62: =IFERROR(INDEX('All Data'!$E$2:$E$419,MATCH(46,Engine!$X$2:$X$419,0))&"","") | F62: =IFERROR(INDEX('All Data'!$F$2:$F$419,MATCH(46,Engine!$X$2:$X$419,0))&"","") | G62: =IFERROR(INDEX('All Data'!$G$2:$G$419,MATCH(46,Engine!$X$2:$X$419,0))&"","") | H62: =IFERROR(INDEX('All Data'!$H$2:$H$419,MATCH(46,Engine!$X$2:$X$419,0))&"","") | I62: =IFERROR(INDEX('All Data'!$I$2:$I$419,MATCH(46,Engine!$X$2:$X$419,0)),"")
A63: =IF($B63="","",47) | B63: =IFERROR(INDEX('All Data'!$B$2:$B$419,MATCH(47,Engine!$X$2:$X$419,0))&"","") | C63: =IFERROR(INDEX('All Data'!$C$2:$C$419,MATCH(47,Engine!$X$2:$X$419,0))&"","") | D63: =IFERROR(INDEX('All Data'!$D$2:$D$419,MATCH(47,Engine!$X$2:$X$419,0))&"","") | E63: =IFERROR(INDEX('All Data'!$E$2:$E$419,MATCH(47,Engine!$X$2:$X$419,0))&"","") | F63: =IFERROR(INDEX('All Data'!$F$2:$F$419,MATCH(47,Engine!$X$2:$X$419,0))&"","") | G63: =IFERROR(INDEX('All Data'!$G$2:$G$419,MATCH(47,Engine!$X$2:$X$419,0))&"","") | H63: =IFERROR(INDEX('All Data'!$H$2:$H$419,MATCH(47,Engine!$X$2:$X$419,0))&"","") | I63: =IFERROR(INDEX('All Data'!$I$2:$I$419,MATCH(47,Engine!$X$2:$X$419,0)),"")
A64: =IF($B64="","",48) | B64: =IFERROR(INDEX('All Data'!$B$2:$B$419,MATCH(48,Engine!$X$2:$X$419,0))&"","") | C64: =IFERROR(INDEX('All Data'!$C$2:$C$419,MATCH(48,Engine!$X$2:$X$419,0))&"","") | D64: =IFERROR(INDEX('All Data'!$D$2:$D$419,MATCH(48,Engine!$X$2:$X$419,0))&"","") | E64: =IFERROR(INDEX('All Data'!$E$2:$E$419,MATCH(48,Engine!$X$2:$X$419,0))&"","") | F64: =IFERROR(INDEX('All Data'!$F$2:$F$419,MATCH(48,Engine!$X$2:$X$419,0))&"","") | G64: =IFERROR(INDEX('All Data'!$G$2:$G$419,MATCH(48,Engine!$X$2:$X$419,0))&"","") | H64: =IFERROR(INDEX('All Data'!$H$2:$H$419,MATCH(48,Engine!$X$2:$X$419,0))&"","") | I64: =IFERROR(INDEX('All Data'!$I$2:$I$419,MATCH(48,Engine!$X$2:$X$419,0)),"")
A65: =IF($B65="","",49) | B65: =IFERROR(INDEX('All Data'!$B$2:$B$419,MATCH(49,Engine!$X$2:$X$419,0))&"","") | C65: =IFERROR(INDEX('All Data'!$C$2:$C$419,MATCH(49,Engine!$X$2:$X$419,0))&"","") | D65: =IFERROR(INDEX('All Data'!$D$2:$D$419,MATCH(49,Engine!$X$2:$X$419,0))&"","") | E65: =IFERROR(INDEX('All Data'!$E$2:$E$419,MATCH(49,Engine!$X$2:$X$419,0))&"","") | F65: =IFERROR(INDEX('All Data'!$F$2:$F$419,MATCH(49,Engine!$X$2:$X$419,0))&"","") | G65: =IFERROR(INDEX('All Data'!$G$2:$G$419,MATCH(49,Engine!$X$2:$X$419,0))&"","") | H65: =IFERROR(INDEX('All Data'!$H$2:$H$419,MATCH(49,Engine!$X$2:$X$419,0))&"","") | I65: =IFERROR(INDEX('All Data'!$I$2:$I$419,MATCH(49,Engine!$X$2:$X$419,0)),"")
A66: =IF($B66="","",50) | B66: =IFERROR(INDEX('All Data'!$B$2:$B$419,MATCH(50,Engine!$X$2:$X$419,0))&"","") | C66: =IFERROR(INDEX('All Data'!$C$2:$C$419,MATCH(50,Engine!$X$2:$X$419,0))&"","") | D66: =IFERROR(INDEX('All Data'!$D$2:$D$419,MATCH(50,Engine!$X$2:$X$419,0))&"","") | E66: =IFERROR(INDEX('All Data'!$E$2:$E$419,MATCH(50,Engine!$X$2:$X$419,0))&"","") | F66: =IFERROR(INDEX('All Data'!$F$2:$F$419,MATCH(50,Engine!$X$2:$X$419,0))&"","") | G66: =IFERROR(INDEX('All Data'!$G$2:$G$419,MATCH(50,Engine!$X$2:$X$419,0))&"","") | H66: =IFERROR(INDEX('All Data'!$H$2:$H$419,MATCH(50,Engine!$X$2:$X$419,0))&"","") | I66: =IFERROR(INDEX('All Data'!$I$2:$I$419,MATCH(50,Engine!$X$2:$X$419,0)),"")
A67: =IF($B67="","",51) | B67: =IFERROR(INDEX('All Data'!$B$2:$B$419,MATCH(51,Engine!$X$2:$X$419,0))&"","") | C67: =IFERROR(INDEX('All Data'!$C$2:$C$419,MATCH(51,Engine!$X$2:$X$419,0))&"","") | D67: =IFERROR(INDEX('All Data'!$D$2:$D$419,MATCH(51,Engine!$X$2:$X$419,0))&"","") | E67: =IFERROR(INDEX('All Data'!$E$2:$E$419,MATCH(51,Engine!$X$2:$X$419,0))&"","") | F67: =IFERROR(INDEX('All Data'!$F$2:$F$419,MATCH(51,Engine!$X$2:$X$419,0))&"","") | G67: =IFERROR(INDEX('All Data'!$G$2:$G$419,MATCH(51,Engine!$X$2:$X$419,0))&"","") | H67: =IFERROR(INDEX('All Data'!$H$2:$H$419,MATCH(51,Engine!$X$2:$X$419,0))&"","") | I67: =IFERROR(INDEX('All Data'!$I$2:$I$419,MATCH(51,Engine!$X$2:$X$419,0)),"")
A68: =IF($B68="","",52) | B68: =IFERROR(INDEX('All Data'!$B$2:$B$419,MATCH(52,Engine!$X$2:$X$419,0))&"","") | C68: =IFERROR(INDEX('All Data'!$C$2:$C$419,MATCH(52,Engine!$X$2:$X$419,0))&"","") | D68: =IFERROR(INDEX('All Data'!$D$2:$D$419,MATCH(52,Engine!$X$2:$X$419,0))&"","") | E68: =IFERROR(INDEX('All Data'!$E$2:$E$419,MATCH(52,Engine!$X$2:$X$419,0))&"","") | F68: =IFERROR(INDEX('All Data'!$F$2:$F$419,MATCH(52,Engine!$X$2:$X$419,0))&"","") | G68: =IFERROR(INDEX('All Data'!$G$2:$G$419,MATCH(52,Engine!$X$2:$X$419,0))&"","") | H68: =IFERROR(INDEX('All Data'!$H$2:$H$419,MATCH(52,Engine!$X$2:$X$419,0))&"","") | I68: =IFERROR(INDEX('All Data'!$I$2:$I$419,MATCH(52,Engine!$X$2:$X$419,0)),"")
A69: =IF($B69="","",53) | B69: =IFERROR(INDEX('All Data'!$B$2:$B$419,MATCH(53,Engine!$X$2:$X$419,0))&"","") | C69: =IFERROR(INDEX('All Data'!$C$2:$C$419,MATCH(53,Engine!$X$2:$X$419,0))&"","") | D69: =IFERROR(INDEX('All Data'!$D$2:$D$419,MATCH(53,Engine!$X$2:$X$419,0))&"","") | E69: =IFERROR(INDEX('All Data'!$E$2:$E$419,MATCH(53,Engine!$X$2:$X$419,0))&"","") | F69: =IFERROR(INDEX('All Data'!$F$2:$F$419,MATCH(53,Engine!$X$2:$X$419,0))&"","") | G69: =IFERROR(INDEX('All Data'!$G$2:$G$419,MATCH(53,Engine!$X$2:$X$419,0))&"","") | H69: =IFERROR(INDEX('All Data'!$H$2:$H$419,MATCH(53,Engine!$X$2:$X$419,0))&"","") | I69: =IFERROR(INDEX('All Data'!$I$2:$I$419,MATCH(53,Engine!$X$2:$X$419,0)),"")
A70: =IF($B70="","",54) | B70: =IFERROR(INDEX('All Data'!$B$2:$B$419,MATCH(54,Engine!$X$2:$X$419,0))&"","") | C70: =IFERROR(INDEX('All Data'!$C$2:$C$419,MATCH(54,Engine!$X$2:$X$419,0))&"","") | D70: =IFERROR(INDEX('All Data'!$D$2:$D$419,MATCH(54,Engine!$X$2:$X$419,0))&"","") | E70: =IFERROR(INDEX('All Data'!$E$2:$E$419,MATCH(54,Engine!$X$2:$X$419,0))&"","") | F70: =IFERROR(INDEX('All Data'!$F$2:$F$419,MATCH(54,Engine!$X$2:$X$419,0))&"","") | G70: =IFERROR(INDEX('All Data'!$G$2:$G$419,MATCH(54,Engine!$X$2:$X$419,0))&"","") | H70: =IFERROR(INDEX('All Data'!$H$2:$H$419,MATCH(54,Engine!$X$2:$X$419,0))&"","") | I70: =IFERROR(INDEX('All Data'!$I$2:$I$419,MATCH(54,Engine!$X$2:$X$419,0)),"")
A71: =IF($B71="","",55) | B71: =IFERROR(INDEX('All Data'!$B$2:$B$419,MATCH(55,Engine!$X$2:$X$419,0))&"","") | C71: =IFERROR(INDEX('All Data'!$C$2:$C$419,MATCH(55,Engine!$X$2:$X$419,0))&"","") | D71: =IFERROR(INDEX('All Data'!$D$2:$D$419,MATCH(55,Engine!$X$2:$X$419,0))&"","") | E71: =IFERROR(INDEX('All Data'!$E$2:$E$419,MATCH(55,Engine!$X$2:$X$419,0))&"","") | F71: =IFERROR(INDEX('All Data'!$F$2:$F$419,MATCH(55,Engine!$X$2:$X$419,0))&"","") | G71: =IFERROR(INDEX('All Data'!$G$2:$G$419,MATCH(55,Engine!$X$2:$X$419,0))&"","") | H71: =IFERROR(INDEX('All Data'!$H$2:$H$419,MATCH(55,Engine!$X$2:$X$419,0))&"","") | I71: =IFERROR(INDEX('All Data'!$I$2:$I$419,MATCH(55,Engine!$X$2:$X$419,0)),"")
A72: =IF($B72="","",56) | B72: =IFERROR(INDEX('All Data'!$B$2:$B$419,MATCH(56,Engine!$X$2:$X$419,0))&"","") | C72: =IFERROR(INDEX('All Data'!$C$2:$C$419,MATCH(56,Engine!$X$2:$X$419,0))&"","") | D72: =IFERROR(INDEX('All Data'!$D$2:$D$419,MATCH(56,Engine!$X$2:$X$419,0))&"","") | E72: =IFERROR(INDEX('All Data'!$E$2:$E$419,MATCH(56,Engine!$X$2:$X$419,0))&"","") | F72: =IFERROR(INDEX('All Data'!$F$2:$F$419,MATCH(56,Engine!$X$2:$X$419,0))&"","") | G72: =IFERROR(INDEX('All Data'!$G$2:$G$419,MATCH(56,Engine!$X$2:$X$419,0))&"","") | H72: =IFERROR(INDEX('All Data'!$H$2:$H$419,MATCH(56,Engine!$X$2:$X$419,0))&"","") | I72: =IFERROR(INDEX('All Data'!$I$2:$I$419,MATCH(56,Engine!$X$2:$X$419,0)),"")
A73: =IF($B73="","",57) | B73: =IFERROR(INDEX('All Data'!$B$2:$B$419,MATCH(57,Engine!$X$2:$X$419,0))&"","") | C73: =IFERROR(INDEX('All Data'!$C$2:$C$419,MATCH(57,Engine!$X$2:$X$419,0))&"","") | D73: =IFERROR(INDEX('All Data'!$D$2:$D$419,MATCH(57,Engine!$X$2:$X$419,0))&"","") | E73: =IFERROR(INDEX('All Data'!$E$2:$E$419,MATCH(57,Engine!$X$2:$X$419,0))&"","") | F73: =IFERROR(INDEX('All Data'!$F$2:$F$419,MATCH(57,Engine!$X$2:$X$419,0))&"","") | G73: =IFERROR(INDEX('All Data'!$G$2:$G$419,MATCH(57,Engine!$X$2:$X$419,0))&"","") | H73: =IFERROR(INDEX('All Data'!$H$2:$H$419,MATCH(57,Engine!$X$2:$X$419,0))&"","") | I73: =IFERROR(INDEX('All Data'!$I$2:$I$419,MATCH(57,Engine!$X$2:$X$419,0)),"")
A74: =IF($B74="","",58) | B74: =IFERROR(INDEX('All Data'!$B$2:$B$419,MATCH(58,Engine!$X$2:$X$419,0))&"","") | C74: =IFERROR(INDEX('All Data'!$C$2:$C$419,MATCH(58,Engine!$X$2:$X$419,0))&"","") | D74: =IFERROR(INDEX('All Data'!$D$2:$D$419,MATCH(58,Engine!$X$2:$X$419,0))&"","") | E74: =IFERROR(INDEX('All Data'!$E$2:$E$419,MATCH(58,Engine!$X$2:$X$419,0))&"","") | F74: =IFERROR(INDEX('All Data'!$F$2:$F$419,MATCH(58,Engine!$X$2:$X$419,0))&"","") | G74: =IFERROR(INDEX('All Data'!$G$2:$G$419,MATCH(58,Engine!$X$2:$X$419,0))&"","") | H74: =IFERROR(INDEX('All Data'!$H$2:$H$419,MATCH(58,Engine!$X$2:$X$419,0))&"","") | I74: =IFERROR(INDEX('All Data'!$I$2:$I$419,MATCH(58,Engine!$X$2:$X$419,0)),"")
A75: =IF($B75="","",59) | B75: =IFERROR(INDEX('All Data'!$B$2:$B$419,MATCH(59,Engine!$X$2:$X$419,0))&"","") | C75: =IFERROR(INDEX('All Data'!$C$2:$C$419,MATCH(59,Engine!$X$2:$X$419,0))&"","") | D75: =IFERROR(INDEX('All Data'!$D$2:$D$419,MATCH(59,Engine!$X$2:$X$419,0))&"","") | E75: =IFERROR(INDEX('All Data'!$E$2:$E$419,MATCH(59,Engine!$X$2:$X$419,0))&"","") | F75: =IFERROR(INDEX('All Data'!$F$2:$F$419,MATCH(59,Engine!$X$2:$X$419,0))&"","") | G75: =IFERROR(INDEX('All Data'!$G$2:$G$419,MATCH(59,Engine!$X$2:$X$419,0))&"","") | H75: =IFERROR(INDEX('All Data'!$H$2:$H$419,MATCH(59,Engine!$X$2:$X$419,0))&"","") | I75: =IFERROR(INDEX('All Data'!$I$2:$I$419,MATCH(59,Engine!$X$2:$X$419,0)),"")
A76: =IF($B76="","",60) | B76: =IFERROR(INDEX('All Data'!$B$2:$B$419,MATCH(60,Engine!$X$2:$X$419,0))&"","") | C76: =IFERROR(INDEX('All Data'!$C$2:$C$419,MATCH(60,Engine!$X$2:$X$419,0))&"","") | D76: =IFERROR(INDEX('All Data'!$D$2:$D$419,MATCH(60,Engine!$X$2:$X$419,0))&"","") | E76: =IFERROR(INDEX('All Data'!$E$2:$E$419,MATCH(60,Engine!$X$2:$X$419,0))&"","") | F76: =IFERROR(INDEX('All Data'!$F$2:$F$419,MATCH(60,Engine!$X$2:$X$419,0))&"","") | G76: =IFERROR(INDEX('All Data'!$G$2:$G$419,MATCH(60,Engine!$X$2:$X$419,0))&"","") | H76: =IFERROR(INDEX('All Data'!$H$2:$H$419,MATCH(60,Engine!$X$2:$X$419,0))&"","") | I76: =IFERROR(INDEX('All Data'!$I$2:$I$419,MATCH(60,Engine!$X$2:$X$419,0)),"")
A77: =IF($B77="","",61) | B77: =IFERROR(INDEX('All Data'!$B$2:$B$419,MATCH(61,Engine!$X$2:$X$419,0))&"","") | C77: =IFERROR(INDEX('All Data'!$C$2:$C$419,MATCH(61,Engine!$X$2:$X$419,0))&"","") | D77: =IFERROR(INDEX('All Data'!$D$2:$D$419,MATCH(61,Engine!$X$2:$X$419,0))&"","") | E77: =IFERROR(INDEX('All Data'!$E$2:$E$419,MATCH(61,Engine!$X$2:$X$419,0))&"","") | F77: =IFERROR(INDEX('All Data'!$F$2:$F$419,MATCH(61,Engine!$X$2:$X$419,0))&"","") | G77: =IFERROR(INDEX('All Data'!$G$2:$G$419,MATCH(61,Engine!$X$2:$X$419,0))&"","") | H77: =IFERROR(INDEX('All Data'!$H$2:$H$419,MATCH(61,Engine!$X$2:$X$419,0))&"","") | I77: =IFERROR(INDEX('All Data'!$I$2:$I$419,MATCH(61,Engine!$X$2:$X$419,0)),"")
A78: =IF($B78="","",62) | B78: =IFERROR(INDEX('All Data'!$B$2:$B$419,MATCH(62,Engine!$X$2:$X$419,0))&"","") | C78: =IFERROR(INDEX('All Data'!$C$2:$C$419,MATCH(62,Engine!$X$2:$X$419,0))&"","") | D78: =IFERROR(INDEX('All Data'!$D$2:$D$419,MATCH(62,Engine!$X$2:$X$419,0))&"","") | E78: =IFERROR(INDEX('All Data'!$E$2:$E$419,MATCH(62,Engine!$X$2:$X$419,0))&"","") | F78: =IFERROR(INDEX('All Data'!$F$2:$F$419,MATCH(62,Engine!$X$2:$X$419,0))&"","") | G78: =IFERROR(INDEX('All Data'!$G$2:$G$419,MATCH(62,Engine!$X$2:$X$419,0))&"","") | H78: =IFERROR(INDEX('All Data'!$H$2:$H$419,MATCH(62,Engine!$X$2:$X$419,0))&"","") | I78: =IFERROR(INDEX('All Data'!$I$2:$I$419,MATCH(62,Engine!$X$2:$X$419,0)),"")
A79: =IF($B79="","",63) | B79: =IFERROR(INDEX('All Data'!$B$2:$B$419,MATCH(63,Engine!$X$2:$X$419,0))&"","") | C79: =IFERROR(INDEX('All Data'!$C$2:$C$419,MATCH(63,Engine!$X$2:$X$419,0))&"","") | D79: =IFERROR(INDEX('All Data'!$D$2:$D$419,MATCH(63,Engine!$X$2:$X$419,0))&"","") | E79: =IFERROR(INDEX('All Data'!$E$2:$E$419,MATCH(63,Engine!$X$2:$X$419,0))&"","") | F79: =IFERROR(INDEX('All Data'!$F$2:$F$419,MATCH(63,Engine!$X$2:$X$419,0))&"","") | G79: =IFERROR(INDEX('All Data'!$G$2:$G$419,MATCH(63,Engine!$X$2:$X$419,0))&"","") | H79: =IFERROR(INDEX('All Data'!$H$2:$H$419,MATCH(63,Engine!$X$2:$X$419,0))&"","") | I79: =IFERROR(INDEX('All Data'!$I$2:$I$419,MATCH(63,Engine!$X$2:$X$419,0)),"")
A80: =IF($B80="","",64) | B80: =IFERROR(INDEX('All Data'!$B$2:$B$419,MATCH(64,Engine!$X$2:$X$419,0))&"","") | C80: =IFERROR(INDEX('All Data'!$C$2:$C$419,MATCH(64,Engine!$X$2:$X$419,0))&"","") | D80: =IFERROR(INDEX('All Data'!$D$2:$D$419,MATCH(64,Engine!$X$2:$X$419,0))&"","") | E80: =IFERROR(INDEX('All Data'!$E$2:$E$419,MATCH(64,Engine!$X$2:$X$419,0))&"","") | F80: =IFERROR(INDEX('All Data'!$F$2:$F$419,MATCH(64,Engine!$X$2:$X$419,0))&"","") | G80: =IFERROR(INDEX('All Data'!$G$2:$G$419,MATCH(64,Engine!$X$2:$X$419,0))&"","") | H80: =IFERROR(INDEX('All Data'!$H$2:$H$419,MATCH(64,Engine!$X$2:$X$419,0))&"","") | I80: =IFERROR(INDEX('All Data'!$I$2:$I$419,MATCH(64,Engine!$X$2:$X$419,0)),"")
A81: =IF($B81="","",65) | B81: =IFERROR(INDEX('All Data'!$B$2:$B$419,MATCH(65,Engine!$X$2:$X$419,0))&"","") | C81: =IFERROR(INDEX('All Data'!$C$2:$C$419,MATCH(65,Engine!$X$2:$X$419,0))&"","") | D81: =IFERROR(INDEX('All Data'!$D$2:$D$419,MATCH(65,Engine!$X$2:$X$419,0))&"","") | E81: =IFERROR(INDEX('All Data'!$E$2:$E$419,MATCH(65,Engine!$X$2:$X$419,0))&"","") | F81: =IFERROR(INDEX('All Data'!$F$2:$F$419,MATCH(65,Engine!$X$2:$X$419,0))&"","") | G81: =IFERROR(INDEX('All Data'!$G$2:$G$419,MATCH(65,Engine!$X$2:$X$419,0))&"","") | H81: =IFERROR(INDEX('All Data'!$H$2:$H$419,MATCH(65,Engine!$X$2:$X$419,0))&"","") | I81: =IFERROR(INDEX('All Data'!$I$2:$I$419,MATCH(65,Engine!$X$2:$X$419,0)),"")
A82: =IF($B82="","",66) | B82: =IFERROR(INDEX('All Data'!$B$2:$B$419,MATCH(66,Engine!$X$2:$X$419,0))&"","") | C82: =IFERROR(INDEX('All Data'!$C$2:$C$419,MATCH(66,Engine!$X$2:$X$419,0))&"","") | D82: =IFERROR(INDEX('All Data'!$D$2:$D$419,MATCH(66,Engine!$X$2:$X$419,0))&"","") | E82: =IFERROR(INDEX('All Data'!$E$2:$E$419,MATCH(66,Engine!$X$2:$X$419,0))&"","") | F82: =IFERROR(INDEX('All Data'!$F$2:$F$419,MATCH(66,Engine!$X$2:$X$419,0))&"","") | G82: =IFERROR(INDEX('All Data'!$G$2:$G$419,MATCH(66,Engine!$X$2:$X$419,0))&"","") | H82: =IFERROR(INDEX('All Data'!$H$2:$H$419,MATCH(66,Engine!$X$2:$X$419,0))&"","") | I82: =IFERROR(INDEX('All Data'!$I$2:$I$419,MATCH(66,Engine!$X$2:$X$419,0)),"")
A83: =IF($B83="","",67) | B83: =IFERROR(INDEX('All Data'!$B$2:$B$419,MATCH(67,Engine!$X$2:$X$419,0))&"","") | C83: =IFERROR(INDEX('All Data'!$C$2:$C$419,MATCH(67,Engine!$X$2:$X$419,0))&"","") | D83: =IFERROR(INDEX('All Data'!$D$2:$D$419,MATCH(67,Engine!$X$2:$X$419,0))&"","") | E83: =IFERROR(INDEX('All Data'!$E$2:$E$419,MATCH(67,Engine!$X$2:$X$419,0))&"","") | F83: =IFERROR(INDEX('All Data'!$F$2:$F$419,MATCH(67,Engine!$X$2:$X$419,0))&"","") | G83: =IFERROR(INDEX('All Data'!$G$2:$G$419,MATCH(67,Engine!$X$2:$X$419,0))&"","") | H83: =IFERROR(INDEX('All Data'!$H$2:$H$419,MATCH(67,Engine!$X$2:$X$419,0))&"","") | I83: =IFERROR(INDEX('All Data'!$I$2:$I$419,MATCH(67,Engine!$X$2:$X$419,0)),"")
A84: =IF($B84="","",68) | B84: =IFERROR(INDEX('All Data'!$B$2:$B$419,MATCH(68,Engine!$X$2:$X$419,0))&"","") | C84: =IFERROR(INDEX('All Data'!$C$2:$C$419,MATCH(68,Engine!$X$2:$X$419,0))&"","") | D84: =IFERROR(INDEX('All Data'!$D$2:$D$419,MATCH(68,Engine!$X$2:$X$419,0))&"","") | E84: =IFERROR(INDEX('All Data'!$E$2:$E$419,MATCH(68,Engine!$X$2:$X$419,0))&"","") | F84: =IFERROR(INDEX('All Data'!$F$2:$F$419,MATCH(68,Engine!$X$2:$X$419,0))&"","") | G84: =IFERROR(INDEX('All Data'!$G$2:$G$419,MATCH(68,Engine!$X$2:$X$419,0))&"","") | H84: =IFERROR(INDEX('All Data'!$H$2:$H$419,MATCH(68,Engine!$X$2:$X$419,0))&"","") | I84: =IFERROR(INDEX('All Data'!$I$2:$I$419,MATCH(68,Engine!$X$2:$X$419,0)),"")
A85: =IF($B85="","",69) | B85: =IFERROR(INDEX('All Data'!$B$2:$B$419,MATCH(69,Engine!$X$2:$X$419,0))&"","") | C85: =IFERROR(INDEX('All Data'!$C$2:$C$419,MATCH(69,Engine!$X$2:$X$419,0))&"","") | D85: =IFERROR(INDEX('All Data'!$D$2:$D$419,MATCH(69,Engine!$X$2:$X$419,0))&"","") | E85: =IFERROR(INDEX('All Data'!$E$2:$E$419,MATCH(69,Engine!$X$2:$X$419,0))&"","") | F85: =IFERROR(INDEX('All Data'!$F$2:$F$419,MATCH(69,Engine!$X$2:$X$419,0))&"","") | G85: =IFERROR(INDEX('All Data'!$G$2:$G$419,MATCH(69,Engine!$X$2:$X$419,0))&"","") | H85: =IFERROR(INDEX('All Data'!$H$2:$H$419,MATCH(69,Engine!$X$2:$X$419,0))&"","") | I85: =IFERROR(INDEX('All Data'!$I$2:$I$419,MATCH(69,Engine!$X$2:$X$419,0)),"")
A86: =IF($B86="","",70) | B86: =IFERROR(INDEX('All Data'!$B$2:$B$419,MATCH(70,Engine!$X$2:$X$419,0))&"","") | C86: =IFERROR(INDEX('All Data'!$C$2:$C$419,MATCH(70,Engine!$X$2:$X$419,0))&"","") | D86: =IFERROR(INDEX('All Data'!$D$2:$D$419,MATCH(70,Engine!$X$2:$X$419,0))&"","") | E86: =IFERROR(INDEX('All Data'!$E$2:$E$419,MATCH(70,Engine!$X$2:$X$419,0))&"","") | F86: =IFERROR(INDEX('All Data'!$F$2:$F$419,MATCH(70,Engine!$X$2:$X$419,0))&"","") | G86: =IFERROR(INDEX('All Data'!$G$2:$G$419,MATCH(70,Engine!$X$2:$X$419,0))&"","") | H86: =IFERROR(INDEX('All Data'!$H$2:$H$419,MATCH(70,Engine!$X$2:$X$419,0))&"","") | I86: =IFERROR(INDEX('All Data'!$I$2:$I$419,MATCH(70,Engine!$X$2:$X$419,0)),"")
A87: =IF($B87="","",71) | B87: =IFERROR(INDEX('All Data'!$B$2:$B$419,MATCH(71,Engine!$X$2:$X$419,0))&"","") | C87: =IFERROR(INDEX('All Data'!$C$2:$C$419,MATCH(71,Engine!$X$2:$X$419,0))&"","") | D87: =IFERROR(INDEX('All Data'!$D$2:$D$419,MATCH(71,Engine!$X$2:$X$419,0))&"","") | E87: =IFERROR(INDEX('All Data'!$E$2:$E$419,MATCH(71,Engine!$X$2:$X$419,0))&"","") | F87: =IFERROR(INDEX('All Data'!$F$2:$F$419,MATCH(71,Engine!$X$2:$X$419,0))&"","") | G87: =IFERROR(INDEX('All Data'!$G$2:$G$419,MATCH(71,Engine!$X$2:$X$419,0))&"","") | H87: =IFERROR(INDEX('All Data'!$H$2:$H$419,MATCH(71,Engine!$X$2:$X$419,0))&"","") | I87: =IFERROR(INDEX('All Data'!$I$2:$I$419,MATCH(71,Engine!$X$2:$X$419,0)),"")
A88: =IF($B88="","",72) | B88: =IFERROR(INDEX('All Data'!$B$2:$B$419,MATCH(72,Engine!$X$2:$X$419,0))&"","") | C88: =IFERROR(INDEX('All Data'!$C$2:$C$419,MATCH(72,Engine!$X$2:$X$419,0))&"","") | D88: =IFERROR(INDEX('All Data'!$D$2:$D$419,MATCH(72,Engine!$X$2:$X$419,0))&"","") | E88: =IFERROR(INDEX('All Data'!$E$2:$E$419,MATCH(72,Engine!$X$2:$X$419,0))&"","") | F88: =IFERROR(INDEX('All Data'!$F$2:$F$419,MATCH(72,Engine!$X$2:$X$419,0))&"","") | G88: =IFERROR(INDEX('All Data'!$G$2:$G$419,MATCH(72,Engine!$X$2:$X$419,0))&"","") | H88: =IFERROR(INDEX('All Data'!$H$2:$H$419,MATCH(72,Engine!$X$2:$X$419,0))&"","") | I88: =IFERROR(INDEX('All Data'!$I$2:$I$419,MATCH(72,Engine!$X$2:$X$419,0)),"")
A89: =IF($B89="","",73) | B89: =IFERROR(INDEX('All Data'!$B$2:$B$419,MATCH(73,Engine!$X$2:$X$419,0))&"","") | C89: =IFERROR(INDEX('All Data'!$C$2:$C$419,MATCH(73,Engine!$X$2:$X$419,0))&"","") | D89: =IFERROR(INDEX('All Data'!$D$2:$D$419,MATCH(73,Engine!$X$2:$X$419,0))&"","") | E89: =IFERROR(INDEX('All Data'!$E$2:$E$419,MATCH(73,Engine!$X$2:$X$419,0))&"","") | F89: =IFERROR(INDEX('All Data'!$F$2:$F$419,MATCH(73,Engine!$X$2:$X$419,0))&"","") | G89: =IFERROR(INDEX('All Data'!$G$2:$G$419,MATCH(73,Engine!$X$2:$X$419,0))&"","") | H89: =IFERROR(INDEX('All Data'!$H$2:$H$419,MATCH(73,Engine!$X$2:$X$419,0))&"","") | I89: =IFERROR(INDEX('All Data'!$I$2:$I$419,MATCH(73,Engine!$X$2:$X$419,0)),"")
A90: =IF($B90="","",74) | B90: =IFERROR(INDEX('All Data'!$B$2:$B$419,MATCH(74,Engine!$X$2:$X$419,0))&"","") | C90: =IFERROR(INDEX('All Data'!$C$2:$C$419,MATCH(74,Engine!$X$2:$X$419,0))&"","") | D90: =IFERROR(INDEX('All Data'!$D$2:$D$419,MATCH(74,Engine!$X$2:$X$419,0))&"","") | E90: =IFERROR(INDEX('All Data'!$E$2:$E$419,MATCH(74,Engine!$X$2:$X$419,0))&"","") | F90: =IFERROR(INDEX('All Data'!$F$2:$F$419,MATCH(74,Engine!$X$2:$X$419,0))&"","") | G90: =IFERROR(INDEX('All Data'!$G$2:$G$419,MATCH(74,Engine!$X$2:$X$419,0))&"","") | H90: =IFERROR(INDEX('All Data'!$H$2:$H$419,MATCH(74,Engine!$X$2:$X$419,0))&"","") | I90: =IFERROR(INDEX('All Data'!$I$2:$I$419,MATCH(74,Engine!$X$2:$X$419,0)),"")
A91: =IF($B91="","",75) | B91: =IFERROR(INDEX('All Data'!$B$2:$B$419,MATCH(75,Engine!$X$2:$X$419,0))&"","") | C91: =IFERROR(INDEX('All Data'!$C$2:$C$419,MATCH(75,Engine!$X$2:$X$419,0))&"","") | D91: =IFERROR(INDEX('All Data'!$D$2:$D$419,MATCH(75,Engine!$X$2:$X$419,0))&"","") | E91: =IFERROR(INDEX('All Data'!$E$2:$E$419,MATCH(75,Engine!$X$2:$X$419,0))&"","") | F91: =IFERROR(INDEX('All Data'!$F$2:$F$419,MATCH(75,Engine!$X$2:$X$419,0))&"","") | G91: =IFERROR(INDEX('All Data'!$G$2:$G$419,MATCH(75,Engine!$X$2:$X$419,0))&"","") | H91: =IFERROR(INDEX('All Data'!$H$2:$H$419,MATCH(75,Engine!$X$2:$X$419,0))&"","") | I91: =IFERROR(INDEX('All Data'!$I$2:$I$419,MATCH(75,Engine!$X$2:$X$419,0)),"")
A92: =IF($B92="","",76) | B92: =IFERROR(INDEX('All Data'!$B$2:$B$419,MATCH(76,Engine!$X$2:$X$419,0))&"","") | C92: =IFERROR(INDEX('All Data'!$C$2:$C$419,MATCH(76,Engine!$X$2:$X$419,0))&"","") | D92: =IFERROR(INDEX('All Data'!$D$2:$D$419,MATCH(76,Engine!$X$2:$X$419,0))&"","") | E92: =IFERROR(INDEX('All Data'!$E$2:$E$419,MATCH(76,Engine!$X$2:$X$419,0))&"","") | F92: =IFERROR(INDEX('All Data'!$F$2:$F$419,MATCH(76,Engine!$X$2:$X$419,0))&"","") | G92: =IFERROR(INDEX('All Data'!$G$2:$G$419,MATCH(76,Engine!$X$2:$X$419,0))&"","") | H92: =IFERROR(INDEX('All Data'!$H$2:$H$419,MATCH(76,Engine!$X$2:$X$419,0))&"","") | I92: =IFERROR(INDEX('All Data'!$I$2:$I$419,MATCH(76,Engine!$X$2:$X$419,0)),"")
A93: =IF($B93="","",77) | B93: =IFERROR(INDEX('All Data'!$B$2:$B$419,MATCH(77,Engine!$X$2:$X$419,0))&"","") | C93: =IFERROR(INDEX('All Data'!$C$2:$C$419,MATCH(77,Engine!$X$2:$X$419,0))&"","") | D93: =IFERROR(INDEX('All Data'!$D$2:$D$419,MATCH(77,Engine!$X$2:$X$419,0))&"","") | E93: =IFERROR(INDEX('All Data'!$E$2:$E$419,MATCH(77,Engine!$X$2:$X$419,0))&"","") | F93: =IFERROR(INDEX('All Data'!$F$2:$F$419,MATCH(77,Engine!$X$2:$X$419,0))&"","") | G93: =IFERROR(INDEX('All Data'!$G$2:$G$419,MATCH(77,Engine!$X$2:$X$419,0))&"","") | H93: =IFERROR(INDEX('All Data'!$H$2:$H$419,MATCH(77,Engine!$X$2:$X$419,0))&"","") | I93: =IFERROR(INDEX('All Data'!$I$2:$I$419,MATCH(77,Engine!$X$2:$X$419,0)),"")
A94: =IF($B94="","",78) | B94: =IFERROR(INDEX('All Data'!$B$2:$B$419,MATCH(78,Engine!$X$2:$X$419,0))&"","") | C94: =IFERROR(INDEX('All Data'!$C$2:$C$419,MATCH(78,Engine!$X$2:$X$419,0))&"","") | D94: =IFERROR(INDEX('All Data'!$D$2:$D$419,MATCH(78,Engine!$X$2:$X$419,0))&"","") | E94: =IFERROR(INDEX('All Data'!$E$2:$E$419,MATCH(78,Engine!$X$2:$X$419,0))&"","") | F94: =IFERROR(INDEX('All Data'!$F$2:$F$419,MATCH(78,Engine!$X$2:$X$419,0))&"","") | G94: =IFERROR(INDEX('All Data'!$G$2:$G$419,MATCH(78,Engine!$X$2:$X$419,0))&"","") | H94: =IFERROR(INDEX('All Data'!$H$2:$H$419,MATCH(78,Engine!$X$2:$X$419,0))&"","") | I94: =IFERROR(INDEX('All Data'!$I$2:$I$419,MATCH(78,Engine!$X$2:$X$419,0)),"")
A95: =IF($B95="","",79) | B95: =IFERROR(INDEX('All Data'!$B$2:$B$419,MATCH(79,Engine!$X$2:$X$419,0))&"","") | C95: =IFERROR(INDEX('All Data'!$C$2:$C$419,MATCH(79,Engine!$X$2:$X$419,0))&"","") | D95: =IFERROR(INDEX('All Data'!$D$2:$D$419,MATCH(79,Engine!$X$2:$X$419,0))&"","") | E95: =IFERROR(INDEX('All Data'!$E$2:$E$419,MATCH(79,Engine!$X$2:$X$419,0))&"","") | F95: =IFERROR(INDEX('All Data'!$F$2:$F$419,MATCH(79,Engine!$X$2:$X$419,0))&"","") | G95: =IFERROR(INDEX('All Data'!$G$2:$G$419,MATCH(79,Engine!$X$2:$X$419,0))&"","") | H95: =IFERROR(INDEX('All Data'!$H$2:$H$419,MATCH(79,Engine!$X$2:$X$419,0))&"","") | I95: =IFERROR(INDEX('All Data'!$I$2:$I$419,MATCH(79,Engine!$X$2:$X$419,0)),"")
A96: =IF($B96="","",80) | B96: =IFERROR(INDEX('All Data'!$B$2:$B$419,MATCH(80,Engine!$X$2:$X$419,0))&"","") | C96: =IFERROR(INDEX('All Data'!$C$2:$C$419,MATCH(80,Engine!$X$2:$X$419,0))&"","") | D96: =IFERROR(INDEX('All Data'!$D$2:$D$419,MATCH(80,Engine!$X$2:$X$419,0))&"","") | E96: =IFERROR(INDEX('All Data'!$E$2:$E$419,MATCH(80,Engine!$X$2:$X$419,0))&"","") | F96: =IFERROR(INDEX('All Data'!$F$2:$F$419,MATCH(80,Engine!$X$2:$X$419,0))&"","") | G96: =IFERROR(INDEX('All Data'!$G$2:$G$419,MATCH(80,Engine!$X$2:$X$419,0))&"","") | H96: =IFERROR(INDEX('All Data'!$H$2:$H$419,MATCH(80,Engine!$X$2:$X$419,0))&"","") | I96: =IFERROR(INDEX('All Data'!$I$2:$I$419,MATCH(80,Engine!$X$2:$X$419,0)),"")
A97: =IF($B97="","",81) | B97: =IFERROR(INDEX('All Data'!$B$2:$B$419,MATCH(81,Engine!$X$2:$X$419,0))&"","") | C97: =IFERROR(INDEX('All Data'!$C$2:$C$419,MATCH(81,Engine!$X$2:$X$419,0))&"","") | D97: =IFERROR(INDEX('All Data'!$D$2:$D$419,MATCH(81,Engine!$X$2:$X$419,0))&"","") | E97: =IFERROR(INDEX('All Data'!$E$2:$E$419,MATCH(81,Engine!$X$2:$X$419,0))&"","") | F97: =IFERROR(INDEX('All Data'!$F$2:$F$419,MATCH(81,Engine!$X$2:$X$419,0))&"","") | G97: =IFERROR(INDEX('All Data'!$G$2:$G$419,MATCH(81,Engine!$X$2:$X$419,0))&"","") | H97: =IFERROR(INDEX('All Data'!$H$2:$H$419,MATCH(81,Engine!$X$2:$X$419,0))&"","") | I97: =IFERROR(INDEX('All Data'!$I$2:$I$419,MATCH(81,Engine!$X$2:$X$419,0)),"")
A98: =IF($B98="","",82) | B98: =IFERROR(INDEX('All Data'!$B$2:$B$419,MATCH(82,Engine!$X$2:$X$419,0))&"","") | C98: =IFERROR(INDEX('All Data'!$C$2:$C$419,MATCH(82,Engine!$X$2:$X$419,0))&"","") | D98: =IFERROR(INDEX('All Data'!$D$2:$D$419,MATCH(82,Engine!$X$2:$X$419,0))&"","") | E98: =IFERROR(INDEX('All Data'!$E$2:$E$419,MATCH(82,Engine!$X$2:$X$419,0))&"","") | F98: =IFERROR(INDEX('All Data'!$F$2:$F$419,MATCH(82,Engine!$X$2:$X$419,0))&"","") | G98: =IFERROR(INDEX('All Data'!$G$2:$G$419,MATCH(82,Engine!$X$2:$X$419,0))&"","") | H98: =IFERROR(INDEX('All Data'!$H$2:$H$419,MATCH(82,Engine!$X$2:$X$419,0))&"","") | I98: =IFERROR(INDEX('All Data'!$I$2:$I$419,MATCH(82,Engine!$X$2:$X$419,0)),"")
A99: =IF($B99="","",83) | B99: =IFERROR(INDEX('All Data'!$B$2:$B$419,MATCH(83,Engine!$X$2:$X$419,0))&"","") | C99: =IFERROR(INDEX('All Data'!$C$2:$C$419,MATCH(83,Engine!$X$2:$X$419,0))&"","") | D99: =IFERROR(INDEX('All Data'!$D$2:$D$419,MATCH(83,Engine!$X$2:$X$419,0))&"","") | E99: =IFERROR(INDEX('All Data'!$E$2:$E$419,MATCH(83,Engine!$X$2:$X$419,0))&"","") | F99: =IFERROR(INDEX('All Data'!$F$2:$F$419,MATCH(83,Engine!$X$2:$X$419,0))&"","") | G99: =IFERROR(INDEX('All Data'!$G$2:$G$419,MATCH(83,Engine!$X$2:$X$419,0))&"","") | H99: =IFERROR(INDEX('All Data'!$H$2:$H$419,MATCH(83,Engine!$X$2:$X$419,0))&"","") | I99: =IFERROR(INDEX('All Data'!$I$2:$I$419,MATCH(83,Engine!$X$2:$X$419,0)),"")
A100: =IF($B100="","",84) | B100: =IFERROR(INDEX('All Data'!$B$2:$B$419,MATCH(84,Engine!$X$2:$X$419,0))&"","") | C100: =IFERROR(INDEX('All Data'!$C$2:$C$419,MATCH(84,Engine!$X$2:$X$419,0))&"","") | D100: =IFERROR(INDEX('All Data'!$D$2:$D$419,MATCH(84,Engine!$X$2:$X$419,0))&"","") | E100: =IFERROR(INDEX('All Data'!$E$2:$E$419,MATCH(84,Engine!$X$2:$X$419,0))&"","") | F100: =IFERROR(INDEX('All Data'!$F$2:$F$419,MATCH(84,Engine!$X$2:$X$419,0))&"","") | G100: =IFERROR(INDEX('All Data'!$G$2:$G$419,MATCH(84,Engine!$X$2:$X$419,0))&"","") | H100: =IFERROR(INDEX('All Data'!$H$2:$H$419,MATCH(84,Engine!$X$2:$X$419,0))&"","") | I100: =IFERROR(INDEX('All Data'!$I$2:$I$419,MATCH(84,Engine!$X$2:$X$419,0)),"")
A101: =IF($B101="","",85) | B101: =IFERROR(INDEX('All Data'!$B$2:$B$419,MATCH(85,Engine!$X$2:$X$419,0))&"","") | C101: =IFERROR(INDEX('All Data'!$C$2:$C$419,MATCH(85,Engine!$X$2:$X$419,0))&"","") | D101: =IFERROR(INDEX('All Data'!$D$2:$D$419,MATCH(85,Engine!$X$2:$X$419,0))&"","") | E101: =IFERROR(INDEX('All Data'!$E$2:$E$419,MATCH(85,Engine!$X$2:$X$419,0))&"","") | F101: =IFERROR(INDEX('All Data'!$F$2:$F$419,MATCH(85,Engine!$X$2:$X$419,0))&"","") | G101: =IFERROR(INDEX('All Data'!$G$2:$G$419,MATCH(85,Engine!$X$2:$X$419,0))&"","") | H101: =IFERROR(INDEX('All Data'!$H$2:$H$419,MATCH(85,Engine!$X$2:$X$419,0))&"","") | I101: =IFERROR(INDEX('All Data'!$I$2:$I$419,MATCH(85,Engine!$X$2:$X$419,0)),"")
A102: =IF($B102="","",86) | B102: =IFERROR(INDEX('All Data'!$B$2:$B$419,MATCH(86,Engine!$X$2:$X$419,0))&"","") | C102: =IFERROR(INDEX('All Data'!$C$2:$C$419,MATCH(86,Engine!$X$2:$X$419,0))&"","") | D102: =IFERROR(INDEX('All Data'!$D$2:$D$419,MATCH(86,Engine!$X$2:$X$419,0))&"","") | E102: =IFERROR(INDEX('All Data'!$E$2:$E$419,MATCH(86,Engine!$X$2:$X$419,0))&"","") | F102: =IFERROR(INDEX('All Data'!$F$2:$F$419,MATCH(86,Engine!$X$2:$X$419,0))&"","") | G102: =IFERROR(INDEX('All Data'!$G$2:$G$419,MATCH(86,Engine!$X$2:$X$419,0))&"","") | H102: =IFERROR(INDEX('All Data'!$H$2:$H$419,MATCH(86,Engine!$X$2:$X$419,0))&"","") | I102: =IFERROR(INDEX('All Data'!$I$2:$I$419,MATCH(86,Engine!$X$2:$X$419,0)),"")
...

Sheet All Data
A1: ID | B1: Element | C1: Type / group | D1: Construction / frame | E1: Subtype | F1: Region | G1: Year / detail | H1: Regulation / status | I1: U-value (W/m²K) | J1: Notes | K1: Search keywords | L1: Source | M1: Extra search terms
A2: UV-001 | B2: Wall | C2: Solid (Masonry) Wall | D2: Cast concrete wall | F2: Not specified | G2: Internal insulation | I2: 0.83 | K2: wall solid masonry wall cast concrete wall not specified internal insulation cast concrete wall not specified internal insulation 0.83 wall walls | L2: https://buildingperformanceexplained.com/2026/05/06/ncm-default-u-values-existing-uk-buildings/
A3: UV-002 | B3: Wall | C3: Solid (Masonry) Wall | D3: Cob wall | F3: England & Wales | G3: Pre-1982 | I3: 0.8 | K3: wall solid masonry wall cob wall england and wales pre 1982 cob wall england and wales pre 1982 0.8 england wales e and w ew wall walls | L3: https://buildingperformanceexplained.com/2026/05/06/ncm-default-u-values-existing-uk-buildings/
A4: UV-003 | B4: Wall | C4: Solid (Masonry) Wall | D4: Cob wall | F4: England & Wales | G4: 1982 onwards | I4: 0.6 | K4: wall solid masonry wall cob wall england and wales 1982 onwards cob wall england and wales 1982 onwards 0.6 england wales e and w ew wall walls | L4: https://buildingperformanceexplained.com/2026/05/06/ncm-default-u-values-existing-uk-buildings/
A5: UV-004 | B5: Wall | C5: Solid (Masonry) Wall | D5: Cob wall | F5: Not specified | G5: External insulation | I5: 0.39 | K5: wall solid masonry wall cob wall not specified external insulation cob wall not specified external insulation 0.39 wall walls | L5: https://buildingperformanceexplained.com/2026/05/06/ncm-default-u-values-existing-uk-buildings/
A6: UV-005 | B6: Wall | C6: Solid (Masonry) Wall | D6: Cob wall | F6: Not specified | G6: Internal insulation | I6: 0.41 | K6: wall solid masonry wall cob wall not specified internal insulation cob wall not specified internal insulation 0.41 wall walls | L6: https://buildingperformanceexplained.com/2026/05/06/ncm-default-u-values-existing-uk-buildings/
A7: UV-006 | B7: Wall | C7: Solid (Masonry) Wall | D7: Heavy partition wall | F7: Not specified | G7: — | I7: 3.5 | K7: wall solid masonry wall heavy partition wall not specified heavy partition wall not specified 3.5 wall walls | L7: https://buildingperformanceexplained.com/2026/05/06/ncm-default-u-values-existing-uk-buildings/
A8: UV-007 | B8: Wall | C8: Solid (Masonry) Wall | D8: Masonry wall with rainscreen | F8: Not specified | G8: — | I8: 1.7 | K8: wall solid masonry wall masonry wall with rainscreen not specified masonry wall with rainscreen not specified 1.7 wall walls | L8: https://buildingperformanceexplained.com/2026/05/06/ncm-default-u-values-existing-uk-buildings/
A9: UV-008 | B9: Wall | C9: Solid (Masonry) Wall | D9: Solid brick wall, 110mm | F9: England & Wales | G9: Uninsulated | I9: 3.1 | K9: wall solid masonry wall solid brick wall 110mm england and wales uninsulated solid brick wall 110mm england and wales uninsulated 3.1 england wales e and w ew wall walls | L9: https://buildingperformanceexplained.com/2026/05/06/ncm-default-u-values-existing-uk-buildings/
A10: UV-009 | B10: Wall | C10: Solid (Masonry) Wall | D10: Solid brick wall, 110mm | F10: England & Wales | G10: Dry lined | I10: 1.9 | K10: wall solid masonry wall solid brick wall 110mm england and wales dry lined solid brick wall 110mm england and wales dry lined 1.9 england wales e and w ew wall walls | L10: https://buildingperformanceexplained.com/2026/05/06/ncm-default-u-values-existing-uk-buildings/
A11: UV-010 | B11: Wall | C11: Solid (Masonry) Wall | D11: Solid brick wall, 110mm | F11: England & Wales | G11: Insulated | I11: 0.6 | K11: wall solid masonry wall solid brick wall 110mm england and wales insulated solid brick wall 110mm england and wales insulated 0.6 england wales e and w ew wall walls | L11: https://buildingperformanceexplained.com/2026/05/06/ncm-default-u-values-existing-uk-buildings/
A12: UV-011 | B12: Wall | C12: Solid (Masonry) Wall | D12: Solid brick wall, 225mm | F12: Not specified | G12: Pre-1919 uninsulated | I12: 1.7 | K12: wall solid masonry wall solid brick wall 225mm not specified pre 1919 uninsulated solid brick wall 225mm not specified pre 1919 uninsulated 1.7 wall walls | L12: https://buildingperformanceexplained.com/2026/05/06/ncm-default-u-values-existing-uk-buildings/
A13: UV-012 | B13: Wall | C13: Solid (Masonry) Wall | D13: Solid brick wall, 230mm | F13: England & Wales | G13: Dry lined | I13: 1.41 | K13: wall solid masonry wall solid brick wall 230mm england and wales dry lined solid brick wall 230mm england and wales dry lined 1.41 england wales e and w ew wall walls | L13: https://buildingperformanceexplained.com/2026/05/06/ncm-default-u-values-existing-uk-buildings/
... A27: UV-026 | B27: Wall | C27: Solid (Masonry) Wall | D27: Solid wall | F27: England & Wales | G27: 1974-1980 | I27: 1.7 | K27: wall solid masonry wall solid wall england and wales 1974 1980 solid wall england and wales 1974 1980 1.7 england wales e and w ew wall walls | L27: https://buildingperformanceexplained.com/2026/05/06/ncm-default-u-values-existing-uk-buildings/
A28: UV-027 | B28: Wall | C28: Solid (Masonry) Wall | D28: Solid wall | F28: England & Wales | G28: 1980/85 | H28: Part L | I28: 0.6 | K28: wall solid masonry wall solid wall england and wales 1980 85 part l solid wall england and wales 1980 85 part l 0.6 england wales e and w ew wall walls | L28: https://buildingperformanceexplained.com/2026/05/06/ncm-default-u-values-existing-uk-buildings/
A29: UV-028 | B29: Wall | C29: Solid (Masonry) Wall | D29: Solid wall | F29: England & Wales | G29: 1990 | H29: Part L | I29: 0.45 | K29: wall solid masonry wall solid wall england and wales 1990 part l solid wall england and wales 1990 part l 0.45 england wales e and w ew wall walls | L29: https://buildingperformanceexplained.com/2026/05/06/ncm-default-u-values-existing-uk-buildings/
A30: UV-029 | B30: Wall | C30: Solid (Masonry) Wall | D30: Solid wall | F30: England & Wales | G30: 1995 | H30: Part L | I30: 0.45 | K30: wall solid masonry wall solid wall england and wales 1995 part l solid wall england and wales 1995 part l 0.45 england wales e and w ew wall walls | L30: https://buildingperformanceexplained.com/2026/05/06/ncm-default-u-values-existing-uk-buildings/
A31: UV-030 | B31: Wall | C31: Solid (Masonry) Wall | D31: Solid wall | F31: England & Wales | G31: 2002 | H31: Part L | I31: 0.35 | K31: wall solid masonry wall solid wall england and wales 2002 part l solid wall england and wales 2002 part l 0.35 england wales e and w ew wall walls | L31: https://buildingperformanceexplained.com/2026/05/06/ncm-default-u-values-existing-uk-buildings/
A32: UV-031 | B32: Wall | C32: Solid (Masonry) Wall | D32: Solid wall | F32: England & Wales | G32: 2006/2010 | H32: Part L | I32: 0.35 | K32: wall solid masonry wall solid wall england and wales 2006 2010 part l solid wall england and wales 2006 2010 part l 0.35 england wales e and w ew wall walls | L32: https://buildingperformanceexplained.com/2026/05/06/ncm-default-u-values-existing-uk-buildings/
A33: UV-032 | B33: Wall | C33: Solid (Masonry) Wall | D33: Solid wall | F33: Northern Ireland | G33: 2006 | H33: Part F | I33: 0.35 | K33: wall solid masonry wall solid wall northern ireland 2006 part f solid wall northern ireland 2006 part f 0.35 northern ireland ni wall walls | L33: https://buildingperformanceexplained.com/2026/05/06/ncm-default-u-values-existing-uk-buildings/
A34: UV-033 | B34: Wall | C34: Solid (Masonry) Wall | D34: Solid wall | F34: Scotland | G34: 1975-1981 | I34: 1 | K34: wall solid masonry wall solid wall scotland 1975 1981 solid wall scotland 1975 1981 1 scotland sco wall walls | L34: https://buildingperformanceexplained.com/2026/05/06/ncm-default-u-values-existing-uk-buildings/
A35: UV-034 | B35: Wall | C35: Solid (Masonry) Wall | D35: Solid wall | F35: Scotland | G35: 1982-1990 | I35: 0.6 | K35: wall solid masonry wall solid wall scotland 1982 1990 solid wall scotland 1982 1990 0.6 scotland sco wall walls | L35: https://buildingperformanceexplained.com/2026/05/06/ncm-default-u-values-existing-uk-buildings/
A36: UV-035 | B36: Wall | C36: Solid (Masonry) Wall | D36: Solid wall | F36: Scotland | G36: 1991-1996 | I36: 0.45 | K36: wall solid masonry wall solid wall scotland 1991 1996 solid wall scotland 1991 1996 0.45 scotland sco wall walls | L36: https://buildingperformanceexplained.com/2026/05/06/ncm-default-u-values-existing-uk-buildings/
A37: UV-036 | B37: Wall | C37: Solid (Masonry) Wall | D37: Solid wall | F37: Scotland | G37: 1997-2001 | I37: 0.45 | K37: wall solid masonry wall solid wall scotland 1997 2001 solid wall scotland 1997 2001 0.45 scotland sco wall walls | L37: https://buildingperformanceexplained.com/2026/05/06/ncm-default-u-values-existing-uk-buildings/
A38: UV-037 | B38: Wall | C38: Solid (Masonry) Wall | D38: Solid wall | F38: Scotland | G38: 2002 | H38: Part J | I38: 0.3 | K38: wall solid masonry wall solid wall scotland 2002 part j solid wall scotland 2002 part j 0.3 scotland sco wall walls | L38: https://buildingperformanceexplained.com/2026/05/06/ncm-default-u-values-existing-uk-buildings/
A39: UV-038 | B39: Wall | C39: Solid (Masonry) Wall | D39: Solid wall | F39: Scotland | G39: 2007 | H39: Section 6 | I39: 0.25 | K39: wall solid masonry wall solid wall scotland 2007 section 6 solid wall scotland 2007 section 6 0.25 scotland sco wall walls | L39: https://buildingperformanceexplained.com/2026/05/06/ncm-default-u-values-existing-uk-buildings/
A40: UV-039 | B40: Wall | C40: Solid (Masonry) Wall | D40: Solid wall | F40: Not specified | G40: External insulation | I40: 0.33 | K40: wall solid masonry wall solid wall not specified external insulation solid wall not specified external insulation 0.33 wall walls | L40: https://buildingperformanceexplained.com/2026/05/06/ncm-default-u-values-existing-uk-buildings/
A41: UV-040 | B41: Wall | C41: Cavity Wall (Clear) | D41: Clear cavity wall | F41: England & Wales | G41: Pre-1974 | I41: 1.6 | K41: wall cavity wall clear clear cavity wall england and wales pre 1974 clear cavity wall england and wales pre 1974 1.6 england wales e and w ew wall walls | L41: https://buildingperformanceexplained.com/2026/05/06/ncm-default-u-values-existing-uk-buildings/
A42: UV-041 | B42: Wall | C42: Cavity Wall (Clear) | D42: Clear cavity wall | F42: England & Wales | G42: 1974-1980 | I42: 1 | K42: wall cavity wall clear clear cavity wall england and wales 1974 1980 clear cavity wall england and wales 1974 1980 1 england wales e and w ew wall walls | L42: https://buildingperformanceexplained.com/2026/05/06/ncm-default-u-values-existing-uk-buildings/
A43: UV-042 | B43: Wall | C43: Cavity Wall (Clear) | D43: Clear cavity wall | F43: Northern Ireland | G43: 1977 or earlier | I43: 1.7 | K43: wall cavity wall clear clear cavity wall northern ireland 1977 or earlier clear cavity wall northern ireland 1977 or earlier 1.7 northern ireland ni wall walls | L43: https://buildingperformanceexplained.com/2026/05/06/ncm-default-u-values-existing-uk-buildings/
A44: UV-043 | B44: Wall | C44: Cavity Wall (Clear) | D44: Clear cavity wall | F44: Northern Ireland | G44: 1978-1983 | I44: 1 | K44: wall cavity wall clear clear cavity wall northern ireland 1978 1983 clear cavity wall northern ireland 1978 1983 1 northern ireland ni wall walls | L44: https://buildingperformanceexplained.com/2026/05/06/ncm-default-u-values-existing-uk-buildings/
A45: UV-044 | B45: Wall | C45: Cavity Wall (Clear) | D45: Clear cavity wall | F45: Scotland | G45: Pre-1975 | I45: 2.4 | K45: wall cavity wall clear clear cavity wall scotland pre 1975 clear cavity wall scotland pre 1975 2.4 scotland sco wall walls | L45: https://buildingperformanceexplained.com/2026/05/06/ncm-default-u-values-existing-uk-buildings/
A46: UV-045 | B46: Wall | C46: Cavity Wall (Clear) | D46: Clear cavity wall | F46: Scotland | G46: 1975-1981 | I46: 1 | K46: wall cavity wall clear clear cavity wall scotland 1975 1981 clear cavity wall scotland 1975 1981 1 scotland sco wall walls | L46: https://buildingperformanceexplained.com/2026/05/06/ncm-default-u-values-existing-uk-buildings/
A47: UV-046 | B47: Wall | C47: Cavity Wall (Clear) | D47: Clear cavity wall | F47: Scotland | G47: 1982-1990 | I47: 0.6 | K47: wall cavity wall clear clear cavity wall scotland 1982 1990 clear cavity wall scotland 1982 1990 0.6 scotland sco wall walls | L47: https://buildingperformanceexplained.com/2026/05/06/ncm-default-u-values-existing-uk-buildings/
A48: UV-047 | B48: Wall | C48: Cavity Wall (Clear) | D48: Clear cavity wall | F48: Scotland | G48: 1991-1996 | I48: 0.45 | K48: wall cavity wall clear clear cavity wall scotland 1991 1996 clear cavity wall scotland 1991 1996 0.45 scotland sco wall walls | L48: https://buildingperformanceexplained.com/2026/05/06/ncm-default-u-values-existing-uk-buildings/
A49: UV-048 | B49: Wall | C49: Cavity Wall (Clear) | D49: Clear cavity wall | F49: Scotland | G49: 1997-2001 | I49: 0.45 | K49: wall cavity wall clear clear cavity wall scotland 1997 2001 clear cavity wall scotland 1997 2001 0.45 scotland sco wall walls | L49: https://buildingperformanceexplained.com/2026/05/06/ncm-default-u-values-existing-uk-buildings/
A50: UV-049 | B50: Wall | C50: Cavity Wall (Clear) | D50: Clear cavity wall | F50: Scotland | G50: 2002-2006 | I50: 0.3 | K50: wall cavity wall clear clear cavity wall scotland 2002 2006 clear cavity wall scotland 2002 2006 0.3 scotland sco wall walls | L50: https://buildingperformanceexplained.com/2026/05/06/ncm-default-u-values-existing-uk-buildings/
A51: UV-050 | B51: Wall | C51: Cavity Wall (Clear) | D51: Clear cavity wall | F51: Scotland | G51: 2007 | H51: Section 6 | I51: 0.25 | K51: wall cavity wall clear clear cavity wall scotland 2007 section 6 clear cavity wall scotland 2007 section 6 0.25 scotland sco wall walls | L51: https://buildingperformanceexplained.com/2026/05/06/ncm-default-u-values-existing-uk-buildings/
A52: UV-051 | B52: Wall | C52: Cavity Wall (Full Fill) | D52: Cavity wall | F52: England & Wales | G52: 1980/85 | H52: Part L | I52: 0.65 | K52: wall cavity wall full fill cavity wall england and wales 1980 85 part l cavity wall england and wales 1980 85 part l 0.65 england wales e and w ew wall walls | L52: https://buildingperformanceexplained.com/2026/05/06/ncm-default-u-values-existing-uk-buildings/
A53: UV-052 | B53: Wall | C53: Cavity Wall (Full Fill) | D53: Cavity wall | F53: England & Wales | G53: 1990 | H53: Part L | I53: 0.55 | K53: wall cavity wall full fill cavity wall england and wales 1990 part l cavity wall england and wales 1990 part l 0.55 england wales e and w ew wall walls | L53: https://buildingperformanceexplained.com/2026/05/06/ncm-default-u-values-existing-uk-buildings/
A54: UV-053 | B54: Wall | C54: Cavity Wall (Full Fill) | D54: Cavity wall | F54: England & Wales | G54: 1995 | H54: Part L | I54: 0.51 | K54: wall cavity wall full fill cavity wall england and wales 1995 part l cavity wall england and wales 1995 part l 0.51 england wales e and w ew wall walls | L54: https://buildingperformanceexplained.com/2026/05/06/ncm-default-u-values-existing-uk-buildings/
A55: UV-054 | B55: Wall | C55: Cavity Wall (Full Fill) | D55: Cavity wall | F55: England & Wales | G55: 2002 | H55: Part L | I55: 0.35 | K55: wall cavity wall full fill cavity wall england and wales 2002 part l cavity wall england and wales 2002 part l 0.35 england wales e and w ew wall walls | L55: https://buildingperformanceexplained.com/2026/05/06/ncm-default-u-values-existing-uk-buildings/
A56: UV-055 | B56: Wall | C56: Cavity Wall (Full Fill) | D56: Cavity wall | F56: England & Wales | G56: 2006/2010 | H56: Part L | I56: 0.27 | K56: wall cavity wall full fill cavity wall england and wales 2006 2010 part l cavity wall england and wales 2006 2010 part l 0.27 england wales e and w ew wall walls | L56: https://buildingperformanceexplained.com/2026/05/06/ncm-default-u-values-existing-uk-buildings/
A57: UV-056 | B57: Wall | C57: Cavity Wall (Full Fill) | D57: Fully filled cavity wall | F57: Not specified | G57: 50mm min. wool | I57: 0.53 | K57: wall cavity wall full fill fully filled cavity wall not specified 50mm min. wool fully filled cavity wall not specified 50mm min. wool 0.53 wall walls | L57: https://buildingperformanceexplained.com/2026/05/06/ncm-default-u-values-existing-uk-buildings/
A58: UV-057 | B58: Wall | C58: Cavity Wall (Full Fill) | D58: Fully filled cavity wall | F58: Not specified | G58: 75mm min. wool | I58: 0.41 | K58: wall cavity wall full fill fully filled cavity wall not specified 75mm min. wool fully filled cavity wall not specified 75mm min. wool 0.41 wall walls | L58: https://buildingperformanceexplained.com/2026/05/06/ncm-default-u-values-existing-uk-buildings/
A59: UV-058 | B59: Wall | C59: Cavity Wall (Full Fill) | D59: Fully filled cavity wall | F59: Not specified | G59: 100mm min. wool | I59: 0.32 | K59: wall cavity wall full fill fully filled cavity wall not specified 100mm min. wool fully filled cavity wall not specified 100mm min. wool 0.32 wall walls | L59: https://buildingperformanceexplained.com/2026/05/06/ncm-default-u-values-existing-uk-buildings/
A60: UV-059 | B60: Wall | C60: Cavity Wall (Partial Fill) | D60: Cavity wall retro insulation | F60: England & Wales | G60: Retrofit | I60: 0.63 | K60: wall cavity wall partial fill cavity wall retro insulation england and wales retrofit cavity wall retro insulation england and wales retrofit 0.63 england wales e and w ew wall walls | L60: https://buildingperformanceexplained.com/2026/05/06/ncm-default-u-values-existing-uk-buildings/
A61: UV-060 | B61: Wall | C61: Cavity Wall (Partial Fill) | D61: Cavity wall | F61: Northern Ireland | G61: 1984-1991 | I61: 0.6 | K61: wall cavity wall partial fill cavity wall northern ireland 1984 1991 cavity wall northern ireland 1984 1991 0.6 northern ireland ni wall walls | L61: https://buildingperformanceexplained.com/2026/05/06/ncm-default-u-values-existing-uk-buildings/
A62: UV-061 | B62: Wall | C62: Cavity Wall (Partial Fill) | D62: Cavity wall | F62: Northern Ireland | G62: 1992-1999 | I62: 0.55 | K62: wall cavity wall partial fill cavity wall northern ireland 1992 1999 cavity wall northern ireland 1992 1999 0.55 northern ireland ni wall walls | L62: https://buildingperformanceexplained.com/2026/05/06/ncm-default-u-values-existing-uk-buildings/
A63: UV-062 | B63: Wall | C63: Cavity Wall (Partial Fill) | D63: Cavity wall | F63: Northern Ireland | G63: 2000-2005 | I63: 0.45 | K63: wall cavity wall partial fill cavity wall northern ireland 2000 2005 cavity wall northern ireland 2000 2005 0.45 northern ireland ni wall walls | L63: https://buildingperformanceexplained.com/2026/05/06/ncm-default-u-values-existing-uk-buildings/
A64: UV-063 | B64: Wall | C64: Cavity Wall (Partial Fill) | D64: Cavity wall | F64: Northern Ireland | G64: 2006 | H64: Part F | I64: 0.27 | K64: wall cavity wall partial fill cavity wall northern ireland 2006 part f cavity wall northern ireland 2006 part f 0.27 northern ireland ni wall walls | L64: https://buildingperformanceexplained.com/2026/05/06/ncm-default-u-values-existing-uk-buildings/
A65: UV-064 | B65: Wall | C65: Cavity Wall (Partial Fill) | D65: Cavity wall | F65: Scotland | G65: 1982-1990 | I65: 0.6 | K65: wall cavity wall partial fill cavity wall scotland 1982 1990 cavity wall scotland 1982 1990 0.6 scotland sco wall walls | L65: https://buildingperformanceexplained.com/2026/05/06/ncm-default-u-values-existing-uk-buildings/
A66: UV-065 | B66: Wall | C66: Cavity Wall (Partial Fill) | D66: Cavity wall | F66: Scotland | G66: 1991-1996 | I66: 0.45 | K66: wall cavity wall partial fill cavity wall scotland 1991 1996 cavity wall scotland 1991 1996 0.45 scotland sco wall walls | L66: https://buildingperformanceexplained.com/2026/05/06/ncm-default-u-values-existing-uk-buildings/
A67: UV-066 | B67: Wall | C67: Cavity Wall (Partial Fill) | D67: Cavity wall | F67: Scotland | G67: 1997-2001 | I67: 0.45 | K67: wall cavity wall partial fill cavity wall scotland 1997 2001 cavity wall scotland 1997 2001 0.45 scotland sco wall walls | L67: https://buildingperformanceexplained.com/2026/05/06/ncm-default-u-values-existing-uk-buildings/
A68: UV-067 | B68: Wall | C68: Cavity Wall (Partial Fill) | D68: Cavity wall | F68: Scotland | G68: 2002-2006 | I68: 0.3 | K68: wall cavity wall partial fill cavity wall scotland 2002 2006 cavity wall scotland 2002 2006 0.3 scotland sco wall walls | L68: https://buildingperformanceexplained.com/2026/05/06/ncm-default-u-values-existing-uk-buildings/
A69: UV-068 | B69: Wall | C69: Cavity Wall (Partial Fill) | D69: Cavity wall | F69: Scotland | G69: 2007 | H69: Section 6 | I69: 0.25 | K69: wall cavity wall partial fill cavity wall scotland 2007 section 6 cavity wall scotland 2007 section 6 0.25 scotland sco wall walls | L69: https://buildingperformanceexplained.com/2026/05/06/ncm-default-u-values-existing-uk-buildings/
A70: UV-069 | B70: Wall | C70: Cavity Wall (Partial Fill) | D70: Partially filled cavity wall | F70: Not specified | G70: 50mm min. wool | I70: 0.57 | K70: wall cavity wall partial fill partially filled cavity wall not specified 50mm min. wool partially filled cavity wall not specified 50mm min. wool 0.57 wall walls | L70: https://buildingperformanceexplained.com/2026/05/06/ncm-default-u-values-existing-uk-buildings/
A71: UV-070 | B71: Wall | C71: Cavity Wall (Partial Fill) | D71: Partially filled cavity wall | F71: Not specified | G71: 50mm phenolic foam | I71: 0.4 | K71: wall cavity wall partial fill partially filled cavity wall not specified 50mm phenolic foam partially filled cavity wall not specified 50mm phenolic foam 0.4 wall walls | L71: https://buildingperformanceexplained.com/2026/05/06/ncm-default-u-values-existing-uk-buildings/
A72: UV-071 | B72: Wall | C72: Cavity Wall (Partial Fill) | D72: Partially filled cavity wall | F72: Not specified | G72: 50mm polyurethane | I72: 0.31 | K72: wall cavity wall partial fill partially filled cavity wall not specified 50mm polyurethane partially filled cavity wall not specified 50mm polyurethane 0.31 wall walls | L72: https://buildingperformanceexplained.com/2026/05/06/ncm-default-u-values-existing-uk-buildings/
A73: UV-072 | B73: Wall | C73: Cavity Wall (Partial Fill) | D73: Partially filled cavity wall | F73: Not specified | G73: 75mm min. wool | I73: 0.43 | K73: wall cavity wall partial fill partially filled cavity wall not specified 75mm min. wool partially filled cavity wall not specified 75mm min. wool 0.43 wall walls | L73: https://buildingperformanceexplained.com/2026/05/06/ncm-default-u-values-existing-uk-buildings/
A74: UV-073 | B74: Wall | C74: Cavity Wall (Partial Fill) | D74: Partially filled cavity wall | F74: Not specified | G74: 75mm phenolic foam | I74: 0.22 | K74: wall cavity wall partial fill partially filled cavity wall not specified 75mm phenolic foam partially filled cavity wall not specified 75mm phenolic foam 0.22 wall walls | L74: https://buildingperformanceexplained.com/2026/05/06/ncm-default-u-values-existing-uk-buildings/
A75: UV-074 | B75: Wall | C75: Cavity Wall (Partial Fill) | D75: Partially filled cavity wall | F75: Not specified | G75: 75mm polyurethane | I75: 0.23 | K75: wall cavity wall partial fill partially filled cavity wall not specified 75mm polyurethane partially filled cavity wall not specified 75mm polyurethane 0.23 wall walls | L75: https://buildingperformanceexplained.com/2026/05/06/ncm-default-u-values-existing-uk-buildings/
A76: UV-075 | B76: Wall | C76: Cavity Wall (Partial Fill) | D76: Semi-exposed wall | F76: Scotland | G76: 1982-1990 | I76: 0.7 | K76: wall cavity wall partial fill semi exposed wall scotland 1982 1990 semi exposed wall scotland 1982 1990 0.7 scotland sco wall walls | L76: https://buildingperformanceexplained.com/2026/05/06/ncm-default-u-values-existing-uk-buildings/
A77: UV-076 | B77: Wall | C77: Cavity Wall (Partial Fill) | D77: Semi-exposed wall | F77: Scotland | G77: 1991-1996 | I77: 0.6 | K77: wall cavity wall partial fill semi exposed wall scotland 1991 1996 semi exposed wall scotland 1991 1996 0.6 scotland sco wall walls | L77: https://buildingperformanceexplained.com/2026/05/06/ncm-default-u-values-existing-uk-buildings/
A78: UV-077 | B78: Wall | C78: Cavity Wall (Partial Fill) | D78: Semi-exposed wall | F78: Scotland | G78: 1997-2001 | I78: 0.6 | K78: wall cavity wall partial fill semi exposed wall scotland 1997 2001 semi exposed wall scotland 1997 2001 0.6 scotland sco wall walls | L78: https://buildingperformanceexplained.com/2026/05/06/ncm-default-u-values-existing-uk-buildings/
A79: UV-078 | B79: Wall | C79: Non-Structural Wall (Metal) | D79: Steel wall | F79: Not specified | G79: No insulation | I79: 5.7 | K79: wall non structural wall metal steel wall not specified no insulation steel wall not specified no insulation 5.7 wall walls | L79: https://buildingperformanceexplained.com/2026/05/06/ncm-default-u-values-existing-uk-buildings/
A80: UV-079 | B80: Wall | C80: Non-Structural Wall (Metal) | D80: Metal cladding plus internal block | F80: England & Wales | G80: Pre-1980 | H80: Uninsulated | I80: 2.3 | K80: wall non structural wall metal metal cladding plus internal block england and wales pre 1980 uninsulated metal cladding plus internal block england and wales pre 1980 uninsulated 2.3 england wales e and w ew wall walls | L80: https://buildingperformanceexplained.com/2026/05/06/ncm-default-u-values-existing-uk-buildings/
A81: UV-080 | B81: Wall | C81: Non-Structural Wall (Metal) | D81: Metal cladding plus internal block | F81: England & Wales | G81: 1980/85 | H81: Part L | I81: 0.6 | K81: wall non structural wall metal metal cladding plus internal block england and wales 1980 85 part l metal cladding plus internal block england and wales 1980 85 part l 0.6 england wales e and w ew wall walls | L81: https://buildingperformanceexplained.com/2026/05/06/ncm-default-u-values-existing-uk-buildings/
A82: UV-081 | B82: Wall | C82: Non-Structural Wall (Metal) | D82: Metal cladding plus internal block | F82: England & Wales | G82: 1990/95 | H82: Part L | I82: 0.45 | K82: wall non structural wall metal metal cladding plus internal block england and wales 1990 95 part l metal cladding plus internal block england and wales 1990 95 part l 0.45 england wales e and w ew wall walls | L82: https://buildingperformanceexplained.com/2026/05/06/ncm-default-u-values-existing-uk-buildings/
A83: UV-082 | B83: Wall | C83: Non-Structural Wall (Metal) | D83: Metal cladding plus internal block | F83: England & Wales | G83: 2002 | H83: Part L | I83: 0.35 | K83: wall non structural wall metal metal cladding plus internal block england and wales 2002 part l metal cladding plus internal block england and wales 2002 part l 0.35 england wales e and w ew wall walls | L83: https://buildingperformanceexplained.com/2026/05/06/ncm-default-u-values-existing-uk-buildings/
A84: UV-083 | B84: Wall | C84: Non-Structural Wall (Metal) | D84: Metal cladding plus internal block | F84: England & Wales | G84: 2006 | H84: Part L | I84: 0.35 | K84: wall non structural wall metal metal cladding plus internal block england and wales 2006 part l metal cladding plus internal block england and wales 2006 part l 0.35 england wales e and w ew wall walls | L84: https://buildingperformanceexplained.com/2026/05/06/ncm-default-u-values-existing-uk-buildings/
A85: UV-084 | B85: Wall | C85: Non-Structural Wall (Metal) | D85: Metal cladding wall | F85: England & Wales | G85: Pre-1981 | I85: 1.7 | K85: wall non structural wall metal metal cladding wall england and wales pre 1981 metal cladding wall england and wales pre 1981 1.7 england wales e and w ew wall walls | L85: https://buildingperformanceexplained.com/2026/05/06/ncm-default-u-values-existing-uk-buildings/
A86: UV-085 | B86: Wall | C86: Non-Structural Wall (Metal) | D86: Metal cladding wall | F86: England & Wales | G86: 1980/85 | H86: Part L | I86: 0.6 | K86: wall non structural wall metal metal cladding wall england and wales 1980 85 part l metal cladding wall england and wales 1980 85 part l 0.6 england wales e and w ew wall walls | L86: https://buildingperformanceexplained.com/2026/05/06/ncm-default-u-values-existing-uk-buildings/
A87: UV-086 | B87: Wall | C87: Non-Structural Wall (Metal) | D87: Metal cladding wall | F87: England & Wales | G87: 1990 | H87: Part L | I87: 0.45 | K87: wall non structural wall metal metal cladding wall england and wales 1990 part l metal cladding wall england and wales 1990 part l 0.45 england wales e and w ew wall walls | L87: https://buildingperformanceexplained.com/2026/05/06/ncm-default-u-values-existing-uk-buildings/
A88: UV-087 | B88: Wall | C88: Non-Structural Wall (Metal) | D88: Metal cladding wall | F88: England & Wales | G88: 1995 | H88: Part L | I88: 0.45 | K88: wall non structural wall metal metal cladding wall england and wales 1995 part l metal cladding wall england and wales 1995 part l 0.45 england wales e and w ew wall walls | L88: https://buildingperformanceexplained.com/2026/05/06/ncm-default-u-values-existing-uk-buildings/
A89: UV-088 | B89: Wall | C89: Non-Structural Wall (Metal) | D89: Metal cladding wall | F89: England & Wales | G89: 2002 | H89: Part L | I89: 0.35 | K89: wall non structural wall metal metal cladding wall england and wales 2002 part l metal cladding wall england and wales 2002 part l 0.35 england wales e and w ew wall walls | L89: https://buildingperformanceexplained.com/2026/05/06/ncm-default-u-values-existing-uk-buildings/
A90: UV-089 | B90: Wall | C90: Non-Structural Wall (Metal) | D90: Metal cladding wall | F90: England & Wales | G90: 2006/2010 | H90: Part L | I90: 0.35 | K90: wall non structural wall metal metal cladding wall england and wales 2006 2010 part l metal cladding wall england and wales 2006 2010 part l 0.35 england wales e and w ew wall walls | L90: https://buildingperformanceexplained.com/2026/05/06/ncm-default-u-values-existing-uk-buildings/
A91: UV-090 | B91: Wall | C91: Non-Structural Wall (Metal) | D91: Metal cladding wall | F91: Northern Ireland | G91: 2006 | H91: Part F | I91: 0.35 | K91: wall non structural wall metal metal cladding wall northern ireland 2006 part f metal cladding wall northern ireland 2006 part f 0.35 northern ireland ni wall walls | L91: https://buildingperformanceexplained.com/2026/05/06/ncm-default-u-values-existing-uk-buildings/
A92: UV-091 | B92: Wall | C92: Non-Structural Wall (Metal) | D92: Metal cladding wall | F92: Scotland | G92: Pre-1975 | I92: 1.7 | K92: wall non structural wall metal metal cladding wall scotland pre 1975 metal cladding wall scotland pre 1975 1.7 scotland sco wall walls | L92: https://buildingperformanceexplained.com/2026/05/06/ncm-default-u-values-existing-uk-buildings/
A93: UV-092 | B93: Wall | C93: Non-Structural Wall (Metal) | D93: Metal cladding wall | F93: Scotland | G93: 1975-1981 | I93: 1 | K93: wall non structural wall metal metal cladding wall scotland 1975 1981 metal cladding wall scotland 1975 1981 1 scotland sco wall walls | L93: https://buildingperformanceexplained.com/2026/05/06/ncm-default-u-values-existing-uk-buildings/
A94: UV-093 | B94: Wall | C94: Non-Structural Wall (Metal) | D94: Metal cladding wall | F94: Scotland | G94: 1982-1990 | I94: 0.6 | K94: wall non structural wall metal metal cladding wall scotland 1982 1990 metal cladding wall scotland 1982 1990 0.6 scotland sco wall walls | L94: https://buildingperformanceexplained.com/2026/05/06/ncm-default-u-values-existing-uk-buildings/
A95: UV-094 | B95: Wall | C95: Non-Structural Wall (Metal) | D95: Metal cladding wall | F95: Scotland | G95: 1991-1996 | I95: 0.45 | K95: wall non structural wall metal metal cladding wall scotland 1991 1996 metal cladding wall scotland 1991 1996 0.45 scotland sco wall walls | L95: https://buildingperformanceexplained.com/2026/05/06/ncm-default-u-values-existing-uk-buildings/
A96: UV-095 | B96: Wall | C96: Non-Structural Wall (Metal) | D96: Metal cladding wall | F96: Scotland | G96: 1997-2001 | I96: 0.45 | K96: wall non structural wall metal metal cladding wall scotland 1997 2001 metal cladding wall scotland 1997 2001 0.45 scotland sco wall walls | L96: https://buildingperformanceexplained.com/2026/05/06/ncm-default-u-values-existing-uk-buildings/
A97: UV-096 | B97: Wall | C97: Non-Structural Wall (Metal) | D97: Metal cladding wall | F97: Scotland | G97: 2002-2006 | I97: 0.3 | K97: wall non structural wall metal metal cladding wall scotland 2002 2006 metal cladding wall scotland 2002 2006 0.3 scotland sco wall walls | L97: https://buildingperformanceexplained.com/2026/05/06/ncm-default-u-values-existing-uk-buildings/
A98: UV-097 | B98: Wall | C98: Non-Structural Wall (Metal) | D98: Metal cladding wall | F98: Scotland | G98: 2007 | H98: Section 6 | I98: 0.25 | K98: wall non structural wall metal metal cladding wall scotland 2007 section 6 metal cladding wall scotland 2007 section 6 0.25 scotland sco wall walls | L98: https://buildingperformanceexplained.com/2026/05/06/ncm-default-u-values-existing-uk-buildings/
A99: UV-098 | B99: Wall | C99: Non-Structural Wall (Metal) | D99: Metal sheet wall | F99: Not specified | G99: Uninsulated | I99: 5.7 | K99: wall non structural wall metal metal sheet wall not specified uninsulated metal sheet wall not specified uninsulated 5.7 wall walls | L99: https://buildingperformanceexplained.com/2026/05/06/ncm-default-u-values-existing-uk-buildings/
A100: UV-099 | B100: Wall | C100: Timber Frame Wall | D100: Log cabin wall | F100: Not specified | G100: Insulated | I100: 0.4 | K100: wall timber frame wall log cabin wall not specified insulated log cabin wall not specified insulated 0.4 wall walls | L100: https://buildingperformanceexplained.com/2026/05/06/ncm-default-u-values-existing-uk-buildings/ | M100: wood wooden
A101: UV-100 | B101: Wall | C101: Timber Frame Wall | D101: Log cabin wall | F101: Not specified | G101: Uninsulated | I101: 0.76 | K101: wall timber frame wall log cabin wall not specified uninsulated log cabin wall not specified uninsulated 0.76 wall walls | L101: https://buildingperformanceexplained.com/2026/05/06/ncm-default-u-values-existing-uk-buildings/ | M101: wood wooden
A102: UV-101 | B102: Wall | C102: Timber Frame Wall | D102: Stud wall to roof void | F102: England & Wales | G102: 1980/85 | H102: Part L | I102: 0.6 | K102: wall timber frame wall stud wall to roof void england and wales 1980 85 part l stud wall to roof void england and wales 1980 85 part l 0.6 england wales e and w ew wall walls | L102: https://buildingperformanceexplained.com/2026/05/06/ncm-default-u-values-existing-uk-buildings/ | M102: wood wooden
A103: UV-102 | B103: Wall | C103: Timber Frame Wall | D103: Stud wall to roof void | F103: England & Wales | G103: 1990 | H103: Part L | I103: 0.45 | K103: wall timber frame wall stud wall to roof void england and wales 1990 part l stud wall to roof void england and wales 1990 part l 0.45 england wales e and w ew wall walls | L103: https://buildingperformanceexplained.com/2026/05/06/ncm-default-u-values-existing-uk-buildings/ | M103: wood wooden
A104: UV-103 | B104: Wall | C104: Timber Frame Wall | D104: Stud wall to roof void | F104: England & Wales | G104: 1995 | H104: Part L | I104: 0.45 | K104: wall timber frame wall stud wall to roof void england and wales 1995 part l stud wall to roof void england and wales 1995 part l 0.45 england wales e and w ew wall walls | L104: https://buildingperformanceexplained.com/2026/05/06/ncm-default-u-values-existing-uk-buildings/ | M104: wood wooden
A105: UV-104 | B105: Wall | C105: Timber Frame Wall | D105: Stud wall to roof void | F105: England & Wales | G105: 2002 | H105: Part L | I105: 0.35 | K105: wall timber frame wall stud wall to roof void england and wales 2002 part l stud wall to roof void england and wales 2002 part l 0.35 england wales e and w ew wall walls | L105: https://buildingperformanceexplained.com/2026/05/06/ncm-default-u-values-existing-uk-buildings/ | M105: wood wooden
A106: UV-105 | B106: Wall | C106: Timber Frame Wall | D106: Stud wall to roof void | F106: England & Wales | G106: 2006/2010 | H106: Part L | I106: 0.35 | K106: wall timber frame wall stud wall to roof void england and wales 2006 2010 part l stud wall to roof void england and wales 2006 2010 part l 0.35 england wales e and w ew wall walls | L106: https://buildingperformanceexplained.com/2026/05/06/ncm-default-u-values-existing-uk-buildings/ | M106: wood wooden
A107: UV-106 | B107: Wall | C107: Timber Frame Wall | D107: Stud wall to roof void | F107: Not specified | G107: Uninsulated | I107: 1.2 | K107: wall timber frame wall stud wall to roof void not specified uninsulated stud wall to roof void not specified uninsulated 1.2 wall walls | L107: https://buildingperformanceexplained.com/2026/05/06/ncm-default-u-values-existing-uk-buildings/ | M107: wood wooden
A108: UV-107 | B108: Wall | C108: Timber Frame Wall | D108: Stud wall to roof void | F108: Not specified | G108: 25mm quilt | I108: 0.6 | K108: wall timber frame wall stud wall to roof void not specified 25mm quilt stud wall to roof void not specified 25mm quilt 0.6 wall walls | L108: https://buildingperformanceexplained.com/2026/05/06/ncm-default-u-values-existing-uk-buildings/ | M108: wood wooden
A109: UV-108 | B109: Wall | C109: Timber Frame Wall | D109: Stud wall to roof void | F109: Not specified | G109: 50mm quilt | I109: 0.37 | K109: wall timber frame wall stud wall to roof void not specified 50mm quilt stud wall to roof void not specified 50mm quilt 0.37 wall walls | L109: https://buildingperformanceexplained.com/2026/05/06/ncm-default-u-values-existing-uk-buildings/ | M109: wood wooden
A110: UV-109 | B110: Wall | C110: Timber Frame Wall | D110: Stud wall to roof void | F110: Not specified | G110: 75mm quilt | I110: 0.27 | K110: wall timber frame wall stud wall to roof void not specified 75mm quilt stud wall to roof void not specified 75mm quilt 0.27 wall walls | L110: https://buildingperformanceexplained.com/2026/05/06/ncm-default-u-values-existing-uk-buildings/ | M110: wood wooden
A111: UV-110 | B111: Wall | C111: Timber Frame Wall | D111: Stud wall to roof void | F111: Not specified | G111: 100mm quilt | I111: 0.21 | K111: wall timber frame wall stud wall to roof void not specified 100mm quilt stud wall to roof void not specified 100mm quilt 0.21 wall walls | L111: https://buildingperformanceexplained.com/2026/05/06/ncm-default-u-values-existing-uk-buildings/ | M111: wood wooden
A112: UV-111 | B112: Wall | C112: Timber Frame Wall | D112: Stud wall to roof void | F112: Not specified | G112: 150mm quilt | I112: 0.15 | K112: wall timber frame wall stud wall to roof void not specified 150mm quilt stud wall to roof void not specified 150mm quilt 0.15 wall walls | L112: https://buildingperformanceexplained.com/2026/05/06/ncm-default-u-values-existing-uk-buildings/ | M112: wood wooden
A113: UV-112 | B113: Wall | C113: Timber Frame Wall | D113: Stud wall to roof void | F113: Not specified | G113: 200mm quilt | I113: 0.12 | K113: wall timber frame wall stud wall to roof void not specified 200mm quilt stud wall to roof void not specified 200mm quilt 0.12 wall walls | L113: https://buildingperformanceexplained.com/2026/05/06/ncm-default-u-values-existing-uk-buildings/ | M113: wood wooden
...

Sheet Engine
A1: match B | B1: match C | C1: match D | D1: match E | E1: match F | F1: match G | G1: match keyword | H1: Type upstream | K1: Construct upstream | N1: Subtype upstream | Q1: Region upstream | T1: Year upstream | W1: final match | X1: final rank | Z1: =SUM($I$2:$I$419) -> 7 | AB1: =SUM($L$2:$L$419) -> 37 | AD1: =SUM($O$2:$O$419) -> 0 | AF1: =SUM($R$2:$R$419) -> 4 | AH1: =SUM($U$2:$U$419) -> 56 | BA1: =Finder!$B$7 -> Wall | BB1: =IF(OR($BA1="Any",$BA1=""),0,IF(COUNTIF(ElementList,$BA1)=0,1,0)) -> 0
A2: =IF(OR($BA1="Any",$BA1=""),1,IF('All Data'!$B2=$BA1,1,0)) -> 1 | B2: =IF(OR($BA2="Any",$BA2=""),1,IF('All Data'!$C2=$BA2,1,0)) -> 1 | C2: =IF(OR($BA3="Any",$BA3=""),1,IF('All Data'!$D2=$BA3,1,0)) -> 1 | D2: =IF(OR($BA4="Any",$BA4=""),1,IF('All Data'!$E2=$BA4,1,0)) -> 1 | E2: =IF(OR($BA5="Any",$BA5=""),1,IF('All Data'!$F2=$BA5,1,0)) -> 1 | F2: =IF(OR($BA6="Any",$BA6=""),1,IF('All Data'!$G2=$BA6,1,0)) -> 0 | G2: =IF(AND(OR($BA$8="",ISNUMBER(SEARCH($BA$8,'All Data'!$K2&" "&'All Data'!$M2))),OR($BA$9="",ISNUMBER(SEARCH($BA$9,'All Data'!$K2&" "&'All Data'!$M2))),OR($BA$10="",ISNUMBER(SEARCH($BA$10,'All Data'!$K2&" "&'All Data'!$M2))),OR($BA$11="",ISNUMBER(SEARCH($BA$11,'All Data'!$K2&" "&'All Data'!$M2))),OR($BA$12="",ISNUMBER(SEARCH($BA$12,'All Data'!$K2&" "&'All Data'!$M2))),OR($BA$13="",ISNUMBER(SEARCH($BA$13,'All Data'!$K2&" "&'All Data'!$M2))),OR($BA$14="",ISNUMBER(SEARCH($BA$14,'All Data'!$K2&" "&'All Data'!$M2))),OR($BA$15="",ISNUMBER(SEARCH($BA$15,'All Data'!$K2&" "&'All Data'!$M2)))),1,0) -> 1 | H2: =$A2 -> 1 | I2: =IF(AND($H2=1,'All Data'!$C2<>""),1,0) -> 1 | J2: =IF($I2=1,SUM($I$2:I2),"") -> 1 | K2: =$A2*$B2 -> 1 | L2: =IF(AND($K2=1,'All Data'!$D2<>""),1,0) -> 1 | M2: =IF($L2=1,SUM($L$2:L2),"") -> 1 | N2: =$A2*$B2*$C2 -> 1 | O2: =IF(AND($N2=1,'All Data'!$E2<>""),1,0) -> 0 | P2: =IF($O2=1,SUM($O$2:O2),"") | Q2: =$A2*$B2*$C2*$D2 -> 1 | R2: =IF(AND($Q2=1,'All Data'!$F2<>""),1,0) -> 1 | S2: =IF($R2=1,SUM($R$2:R2),"") -> 1 | T2: =$A2*$B2*$C2*$D2*$E2 -> 1 | U2: =IF(AND($T2=1,'All Data'!$G2<>""),1,0) -> 1 | V2: =IF($U2=1,SUM($U$2:U2),"") -> 1 | W2: =$A2*$B2*$C2*$D2*$E2*$F2*$G2 -> 0 | X2: =IF($W2=1,SUM($W$2:W2),"") | Z2: Any | AB2: Any | AD2: Any | AF2: Any | AH2: Any | AJ2: Any | BA2: =Finder!$D$7 -> Any | BB2: =IF(OR($BA2="Any",$BA2=""),0,IF(COUNTIF(TypeList,$BA2)=0,1,0)) -> 0
A3: =IF(OR($BA1="Any",$BA1=""),1,IF('All Data'!$B3=$BA1,1,0)) -> 1 | B3: =IF(OR($BA2="Any",$BA2=""),1,IF('All Data'!$C3=$BA2,1,0)) -> 1 | C3: =IF(OR($BA3="Any",$BA3=""),1,IF('All Data'!$D3=$BA3,1,0)) -> 1 | D3: =IF(OR($BA4="Any",$BA4=""),1,IF('All Data'!$E3=$BA4,1,0)) -> 1 | E3: =IF(OR($BA5="Any",$BA5=""),1,IF('All Data'!$F3=$BA5,1,0)) -> 1 | F3: =IF(OR($BA6="Any",$BA6=""),1,IF('All Data'!$G3=$BA6,1,0)) -> 0 | G3: =IF(AND(OR($BA$8="",ISNUMBER(SEARCH($BA$8,'All Data'!$K3&" "&'All Data'!$M3))),OR($BA$9="",ISNUMBER(SEARCH($BA$9,'All Data'!$K3&" "&'All Data'!$M3))),OR($BA$10="",ISNUMBER(SEARCH($BA$10,'All Data'!$K3&" "&'All Data'!$M3))),OR($BA$11="",ISNUMBER(SEARCH($BA$11,'All Data'!$K3&" "&'All Data'!$M3))),OR($BA$12="",ISNUMBER(SEARCH($BA$12,'All Data'!$K3&" "&'All Data'!$M3))),OR($BA$13="",ISNUMBER(SEARCH($BA$13,'All Data'!$K3&" "&'All Data'!$M3))),OR($BA$14="",ISNUMBER(SEARCH($BA$14,'All Data'!$K3&" "&'All Data'!$M3))),OR($BA$15="",ISNUMBER(SEARCH($BA$15,'All Data'!$K3&" "&'All Data'!$M3)))),1,0) -> 1 | H3: =$A3 -> 1 | I3: =IF(AND($H3=1,'All Data'!$C3<>"",COUNTIFS($H$2:H2,1,'All Data'!$C$2:$C2,'All Data'!$C3)=0),1,0) -> 0 | J3: =IF($I3=1,SUM($I$2:I3),"") | K3: =$A3*$B3 -> 1 | L3: =IF(AND($K3=1,'All Data'!$D3<>"",COUNTIFS($K$2:K2,1,'All Data'!$D$2:$D2,'All Data'!$D3)=0),1,0) -> 1 | M3: =IF($L3=1,SUM($L$2:L3),"") -> 2 | N3: =$A3*$B3*$C3 -> 1 | O3: =IF(AND($N3=1,'All Data'!$E3<>"",COUNTIFS($N$2:N2,1,'All Data'!$E$2:$E2,'All Data'!$E3)=0),1,0) -> 0 | P3: =IF($O3=1,SUM($O$2:O3),"") | Q3: =$A3*$B3*$C3*$D3 -> 1 | R3: =IF(AND($Q3=1,'All Data'!$F3<>"",COUNTIFS($Q$2:Q2,1,'All Data'!$F$2:$F2,'All Data'!$F3)=0),1,0) -> 1 | S3: =IF($R3=1,SUM($R$2:R3),"") -> 2 | T3: =$A3*$B3*$C3*$D3*$E3 -> 1 | U3: =IF(AND($T3=1,'All Data'!$G3<>"",COUNTIFS($T$2:T2,1,'All Data'!$G$2:$G2,'All Data'!$G3)=0),1,0) -> 1 | V3: =IF($U3=1,SUM($U$2:U3),"") -> 2 | W3: =$A3*$B3*$C3*$D3*$E3*$F3*$G3 -> 0 | X3: =IF($W3=1,SUM($W$2:W3),"") | Z3: =IFERROR(INDEX('All Data'!$C$2:$C$419,MATCH(1,$J$2:$J$419,0))&"","") -> Solid (Masonry) Wall | AB3: =IFERROR(INDEX('All Data'!$D$2:$D$419,MATCH(1,$M$2:$M$419,0))&"","") -> Cast concrete wall | AD3: =IFERROR(INDEX('All Data'!$E$2:$E$419,MATCH(1,$P$2:$P$419,0))&"","") | AF3: =IFERROR(INDEX('All Data'!$F$2:$F$419,MATCH(1,$S$2:$S$419,0))&"","") -> Not specified | AH3: =IFERROR(INDEX('All Data'!$G$2:$G$419,MATCH(1,$V$2:$V$419,0))&"","") -> Internal insulation | AJ3: Wall | BA3: =Finder!$F$7 -> Any | BB3: =IF(OR($BA3="Any",$BA3=""),0,IF(COUNTIF(ConstructionList,$BA3)=0,1,0)) -> 0
A4: =IF(OR($BA1="Any",$BA1=""),1,IF('All Data'!$B4=$BA1,1,0)) -> 1 | B4: =IF(OR($BA2="Any",$BA2=""),1,IF('All Data'!$C4=$BA2,1,0)) -> 1 | C4: =IF(OR($BA3="Any",$BA3=""),1,IF('All Data'!$D4=$BA3,1,0)) -> 1 | D4: =IF(OR($BA4="Any",$BA4=""),1,IF('All Data'!$E4=$BA4,1,0)) -> 1 | E4: =IF(OR($BA5="Any",$BA5=""),1,IF('All Data'!$F4=$BA5,1,0)) -> 1 | F4: =IF(OR($BA6="Any",$BA6=""),1,IF('All Data'!$G4=$BA6,1,0)) -> 0 | G4: =IF(AND(OR($BA$8="",ISNUMBER(SEARCH($BA$8,'All Data'!$K4&" "&'All Data'!$M4))),OR($BA$9="",ISNUMBER(SEARCH($BA$9,'All Data'!$K4&" "&'All Data'!$M4))),OR($BA$10="",ISNUMBER(SEARCH($BA$10,'All Data'!$K4&" "&'All Data'!$M4))),OR($BA$11="",ISNUMBER(SEARCH($BA$11,'All Data'!$K4&" "&'All Data'!$M4))),OR($BA$12="",ISNUMBER(SEARCH($BA$12,'All Data'!$K4&" "&'All Data'!$M4))),OR($BA$13="",ISNUMBER(SEARCH($BA$13,'All Data'!$K4&" "&'All Data'!$M4))),OR($BA$14="",ISNUMBER(SEARCH($BA$14,'All Data'!$K4&" "&'All Data'!$M4))),OR($BA$15="",ISNUMBER(SEARCH($BA$15,'All Data'!$K4&" "&'All Data'!$M4)))),1,0) -> 1 | H4: =$A4 -> 1 | I4: =IF(AND($H4=1,'All Data'!$C4<>"",COUNTIFS($H$2:H3,1,'All Data'!$C$2:$C3,'All Data'!$C4)=0),1,0) -> 0 | J4: =IF($I4=1,SUM($I$2:I4),"") | K4: =$A4*$B4 -> 1 | L4: =IF(AND($K4=1,'All Data'!$D4<>"",COUNTIFS($K$2:K3,1,'All Data'!$D$2:$D3,'All Data'!$D4)=0),1,0) -> 0 | M4: =IF($L4=1,SUM($L$2:L4),"") | N4: =$A4*$B4*$C4 -> 1 | O4: =IF(AND($N4=1,'All Data'!$E4<>"",COUNTIFS($N$2:N3,1,'All Data'!$E$2:$E3,'All Data'!$E4)=0),1,0) -> 0 | P4: =IF($O4=1,SUM($O$2:O4),"") | Q4: =$A4*$B4*$C4*$D4 -> 1 | R4: =IF(AND($Q4=1,'All Data'!$F4<>"",COUNTIFS($Q$2:Q3,1,'All Data'!$F$2:$F3,'All Data'!$F4)=0),1,0) -> 0 | S4: =IF($R4=1,SUM($R$2:R4),"") | T4: =$A4*$B4*$C4*$D4*$E4 -> 1 | U4: =IF(AND($T4=1,'All Data'!$G4<>"",COUNTIFS($T$2:T3,1,'All Data'!$G$2:$G3,'All Data'!$G4)=0),1,0) -> 1 | V4: =IF($U4=1,SUM($U$2:U4),"") -> 3 | W4: =$A4*$B4*$C4*$D4*$E4*$F4*$G4 -> 0 | X4: =IF($W4=1,SUM($W$2:W4),"") | Z4: =IFERROR(INDEX('All Data'!$C$2:$C$419,MATCH(2,$J$2:$J$419,0))&"","") -> Cavity Wall (Clear) | AB4: =IFERROR(INDEX('All Data'!$D$2:$D$419,MATCH(2,$M$2:$M$419,0))&"","") -> Cob wall | AD4: =IFERROR(INDEX('All Data'!$E$2:$E$419,MATCH(2,$P$2:$P$419,0))&"","") | AF4: =IFERROR(INDEX('All Data'!$F$2:$F$419,MATCH(2,$S$2:$S$419,0))&"","") -> England & Wales | AH4: =IFERROR(INDEX('All Data'!$G$2:$G$419,MATCH(2,$V$2:$V$419,0))&"","") -> Pre-1982 | AJ4: Roof | BA4: =Finder!$B$10 -> Any | BB4: =IF(OR($BA4="Any",$BA4=""),0,IF(COUNTIF(SubtypeList,$BA4)=0,1,0)) -> 0
A5: =IF(OR($BA1="Any",$BA1=""),1,IF('All Data'!$B5=$BA1,1,0)) -> 1 | B5: =IF(OR($BA2="Any",$BA2=""),1,IF('All Data'!$C5=$BA2,1,0)) -> 1 | C5: =IF(OR($BA3="Any",$BA3=""),1,IF('All Data'!$D5=$BA3,1,0)) -> 1 | D5: =IF(OR($BA4="Any",$BA4=""),1,IF('All Data'!$E5=$BA4,1,0)) -> 1 | E5: =IF(OR($BA5="Any",$BA5=""),1,IF('All Data'!$F5=$BA5,1,0)) -> 1 | F5: =IF(OR($BA6="Any",$BA6=""),1,IF('All Data'!$G5=$BA6,1,0)) -> 0 | G5: =IF(AND(OR($BA$8="",ISNUMBER(SEARCH($BA$8,'All Data'!$K5&" "&'All Data'!$M5))),OR($BA$9="",ISNUMBER(SEARCH($BA$9,'All Data'!$K5&" "&'All Data'!$M5))),OR($BA$10="",ISNUMBER(SEARCH($BA$10,'All Data'!$K5&" "&'All Data'!$M5))),OR($BA$11="",ISNUMBER(SEARCH($BA$11,'All Data'!$K5&" "&'All Data'!$M5))),OR($BA$12="",ISNUMBER(SEARCH($BA$12,'All Data'!$K5&" "&'All Data'!$M5))),OR($BA$13="",ISNUMBER(SEARCH($BA$13,'All Data'!$K5&" "&'All Data'!$M5))),OR($BA$14="",ISNUMBER(SEARCH($BA$14,'All Data'!$K5&" "&'All Data'!$M5))),OR($BA$15="",ISNUMBER(SEARCH($BA$15,'All Data'!$K5&" "&'All Data'!$M5)))),1,0) -> 1 | H5: =$A5 -> 1 | I5: =IF(AND($H5=1,'All Data'!$C5<>"",COUNTIFS($H$2:H4,1,'All Data'!$C$2:$C4,'All Data'!$C5)=0),1,0) -> 0 | J5: =IF($I5=1,SUM($I$2:I5),"") | K5: =$A5*$B5 -> 1 | L5: =IF(AND($K5=1,'All Data'!$D5<>"",COUNTIFS($K$2:K4,1,'All Data'!$D$2:$D4,'All Data'!$D5)=0),1,0) -> 0 | M5: =IF($L5=1,SUM($L$2:L5),"") | N5: =$A5*$B5*$C5 -> 1 | O5: =IF(AND($N5=1,'All Data'!$E5<>"",COUNTIFS($N$2:N4,1,'All Data'!$E$2:$E4,'All Data'!$E5)=0),1,0) -> 0 | P5: =IF($O5=1,SUM($O$2:O5),"") | Q5: =$A5*$B5*$C5*$D5 -> 1 | R5: =IF(AND($Q5=1,'All Data'!$F5<>"",COUNTIFS($Q$2:Q4,1,'All Data'!$F$2:$F4,'All Data'!$F5)=0),1,0) -> 0 | S5: =IF($R5=1,SUM($R$2:R5),"") | T5: =$A5*$B5*$C5*$D5*$E5 -> 1 | U5: =IF(AND($T5=1,'All Data'!$G5<>"",COUNTIFS($T$2:T4,1,'All Data'!$G$2:$G4,'All Data'!$G5)=0),1,0) -> 1 | V5: =IF($U5=1,SUM($U$2:U5),"") -> 4 | W5: =$A5*$B5*$C5*$D5*$E5*$F5*$G5 -> 0 | X5: =IF($W5=1,SUM($W$2:W5),"") | Z5: =IFERROR(INDEX('All Data'!$C$2:$C$419,MATCH(3,$J$2:$J$419,0))&"","") -> Cavity Wall (Full Fill) | AB5: =IFERROR(INDEX('All Data'!$D$2:$D$419,MATCH(3,$M$2:$M$419,0))&"","") -> Heavy partition wall | AD5: =IFERROR(INDEX('All Data'!$E$2:$E$419,MATCH(3,$P$2:$P$419,0))&"","") | AF5: =IFERROR(INDEX('All Data'!$F$2:$F$419,MATCH(3,$S$2:$S$419,0))&"","") -> Northern Ireland | AH5: =IFERROR(INDEX('All Data'!$G$2:$G$419,MATCH(3,$V$2:$V$419,0))&"","") -> 1982 onwards | AJ5: Floor | BA5: =Finder!$D$10 -> Any | BB5: =IF(OR($BA5="Any",$BA5=""),0,IF(COUNTIF(RegionList,$BA5)=0,1,0)) -> 0
A6: =IF(OR($BA1="Any",$BA1=""),1,IF('All Data'!$B6=$BA1,1,0)) -> 1 | B6: =IF(OR($BA2="Any",$BA2=""),1,IF('All Data'!$C6=$BA2,1,0)) -> 1 | C6: =IF(OR($BA3="Any",$BA3=""),1,IF('All Data'!$D6=$BA3,1,0)) -> 1 | D6: =IF(OR($BA4="Any",$BA4=""),1,IF('All Data'!$E6=$BA4,1,0)) -> 1 | E6: =IF(OR($BA5="Any",$BA5=""),1,IF('All Data'!$F6=$BA5,1,0)) -> 1 | F6: =IF(OR($BA6="Any",$BA6=""),1,IF('All Data'!$G6=$BA6,1,0)) -> 0 | G6: =IF(AND(OR($BA$8="",ISNUMBER(SEARCH($BA$8,'All Data'!$K6&" "&'All Data'!$M6))),OR($BA$9="",ISNUMBER(SEARCH($BA$9,'All Data'!$K6&" "&'All Data'!$M6))),OR($BA$10="",ISNUMBER(SEARCH($BA$10,'All Data'!$K6&" "&'All Data'!$M6))),OR($BA$11="",ISNUMBER(SEARCH($BA$11,'All Data'!$K6&" "&'All Data'!$M6))),OR($BA$12="",ISNUMBER(SEARCH($BA$12,'All Data'!$K6&" "&'All Data'!$M6))),OR($BA$13="",ISNUMBER(SEARCH($BA$13,'All Data'!$K6&" "&'All Data'!$M6))),OR($BA$14="",ISNUMBER(SEARCH($BA$14,'All Data'!$K6&" "&'All Data'!$M6))),OR($BA$15="",ISNUMBER(SEARCH($BA$15,'All Data'!$K6&" "&'All Data'!$M6)))),1,0) -> 1 | H6: =$A6 -> 1 | I6: =IF(AND($H6=1,'All Data'!$C6<>"",COUNTIFS($H$2:H5,1,'All Data'!$C$2:$C5,'All Data'!$C6)=0),1,0) -> 0 | J6: =IF($I6=1,SUM($I$2:I6),"") | K6: =$A6*$B6 -> 1 | L6: =IF(AND($K6=1,'All Data'!$D6<>"",COUNTIFS($K$2:K5,1,'All Data'!$D$2:$D5,'All Data'!$D6)=0),1,0) -> 0 | M6: =IF($L6=1,SUM($L$2:L6),"") | N6: =$A6*$B6*$C6 -> 1 | O6: =IF(AND($N6=1,'All Data'!$E6<>"",COUNTIFS($N$2:N5,1,'All Data'!$E$2:$E5,'All Data'!$E6)=0),1,0) -> 0 | P6: =IF($O6=1,SUM($O$2:O6),"") | Q6: =$A6*$B6*$C6*$D6 -> 1 | R6: =IF(AND($Q6=1,'All Data'!$F6<>"",COUNTIFS($Q$2:Q5,1,'All Data'!$F$2:$F5,'All Data'!$F6)=0),1,0) -> 0 | S6: =IF($R6=1,SUM($R$2:R6),"") | T6: =$A6*$B6*$C6*$D6*$E6 -> 1 | U6: =IF(AND($T6=1,'All Data'!$G6<>"",COUNTIFS($T$2:T5,1,'All Data'!$G$2:$G5,'All Data'!$G6)=0),1,0) -> 0 | V6: =IF($U6=1,SUM($U$2:U6),"") | W6: =$A6*$B6*$C6*$D6*$E6*$F6*$G6 -> 0 | X6: =IF($W6=1,SUM($W$2:W6),"") | Z6: =IFERROR(INDEX('All Data'!$C$2:$C$419,MATCH(4,$J$2:$J$419,0))&"","") -> Cavity Wall (Partial Fill) | AB6: =IFERROR(INDEX('All Data'!$D$2:$D$419,MATCH(4,$M$2:$M$419,0))&"","") -> Masonry wall with rainscreen | AD6: =IFERROR(INDEX('All Data'!$E$2:$E$419,MATCH(4,$P$2:$P$419,0))&"","") | AF6: =IFERROR(INDEX('All Data'!$F$2:$F$419,MATCH(4,$S$2:$S$419,0))&"","") -> Scotland | AH6: =IFERROR(INDEX('All Data'!$G$2:$G$419,MATCH(4,$V$2:$V$419,0))&"","") -> External insulation | AJ6: Window / Glazing | BA6: =Finder!$F$10 -> 1990 | BB6: =IF(OR($BA6="Any",$BA6=""),0,IF(COUNTIF(YearList,$BA6)=0,1,0)) -> 0
A7: =IF(OR($BA1="Any",$BA1=""),1,IF('All Data'!$B7=$BA1,1,0)) -> 1 | B7: =IF(OR($BA2="Any",$BA2=""),1,IF('All Data'!$C7=$BA2,1,0)) -> 1 | C7: =IF(OR($BA3="Any",$BA3=""),1,IF('All Data'!$D7=$BA3,1,0)) -> 1 | D7: =IF(OR($BA4="Any",$BA4=""),1,IF('All Data'!$E7=$BA4,1,0)) -> 1 | E7: =IF(OR($BA5="Any",$BA5=""),1,IF('All Data'!$F7=$BA5,1,0)) -> 1 | F7: =IF(OR($BA6="Any",$BA6=""),1,IF('All Data'!$G7=$BA6,1,0)) -> 0 | G7: =IF(AND(OR($BA$8="",ISNUMBER(SEARCH($BA$8,'All Data'!$K7&" "&'All Data'!$M7))),OR($BA$9="",ISNUMBER(SEARCH($BA$9,'All Data'!$K7&" "&'All Data'!$M7))),OR($BA$10="",ISNUMBER(SEARCH($BA$10,'All Data'!$K7&" "&'All Data'!$M7))),OR($BA$11="",ISNUMBER(SEARCH($BA$11,'All Data'!$K7&" "&'All Data'!$M7))),OR($BA$12="",ISNUMBER(SEARCH($BA$12,'All Data'!$K7&" "&'All Data'!$M7))),OR($BA$13="",ISNUMBER(SEARCH($BA$13,'All Data'!$K7&" "&'All Data'!$M7))),OR($BA$14="",ISNUMBER(SEARCH($BA$14,'All Data'!$K7&" "&'All Data'!$M7))),OR($BA$15="",ISNUMBER(SEARCH($BA$15,'All Data'!$K7&" "&'All Data'!$M7)))),1,0) -> 1 | H7: =$A7 -> 1 | I7: =IF(AND($H7=1,'All Data'!$C7<>"",COUNTIFS($H$2:H6,1,'All Data'!$C$2:$C6,'All Data'!$C7)=0),1,0) -> 0 | J7: =IF($I7=1,SUM($I$2:I7),"") | K7: =$A7*$B7 -> 1 | L7: =IF(AND($K7=1,'All Data'!$D7<>"",COUNTIFS($K$2:K6,1,'All Data'!$D$2:$D6,'All Data'!$D7)=0),1,0) -> 1 | M7: =IF($L7=1,SUM($L$2:L7),"") -> 3 | N7: =$A7*$B7*$C7 -> 1 | O7: =IF(AND($N7=1,'All Data'!$E7<>"",COUNTIFS($N$2:N6,1,'All Data'!$E$2:$E6,'All Data'!$E7)=0),1,0) -> 0 | P7: =IF($O7=1,SUM($O$2:O7),"") | Q7: =$A7*$B7*$C7*$D7 -> 1 | R7: =IF(AND($Q7=1,'All Data'!$F7<>"",COUNTIFS($Q$2:Q6,1,'All Data'!$F$2:$F6,'All Data'!$F7)=0),1,0) -> 0 | S7: =IF($R7=1,SUM($R$2:R7),"") | T7: =$A7*$B7*$C7*$D7*$E7 -> 1 | U7: =IF(AND($T7=1,'All Data'!$G7<>"",COUNTIFS($T$2:T6,1,'All Data'!$G$2:$G6,'All Data'!$G7)=0),1,0) -> 1 | V7: =IF($U7=1,SUM($U$2:U7),"") -> 5 | W7: =$A7*$B7*$C7*$D7*$E7*$F7*$G7 -> 0 | X7: =IF($W7=1,SUM($W$2:W7),"") | Z7: =IFERROR(INDEX('All Data'!$C$2:$C$419,MATCH(5,$J$2:$J$419,0))&"","") -> Non-Structural Wall (Metal) | AB7: =IFERROR(INDEX('All Data'!$D$2:$D$419,MATCH(5,$M$2:$M$419,0))&"","") -> Solid brick wall, 110mm | AD7: =IFERROR(INDEX('All Data'!$E$2:$E$419,MATCH(5,$P$2:$P$419,0))&"","") | AF7: =IFERROR(INDEX('All Data'!$F$2:$F$419,MATCH(5,$S$2:$S$419,0))&"","") | AH7: =IFERROR(INDEX('All Data'!$G$2:$G$419,MATCH(5,$V$2:$V$419,0))&"","") -> — | AJ7: Door | BA7: =TRIM(SUBSTITUTE(SUBSTITUTE(SUBSTITUTE(SUBSTITUTE(SUBSTITUTE(SUBSTITUTE(SUBSTITUTE(SUBSTITUTE(SUBSTITUTE(SUBSTITUTE(SUBSTITUTE(SUBSTITUTE(LOWER(Finder!$B$13),"&"," and "),"-"," "),","," "),"/"," "),"("," "),")"," "),"*",""),"?",""),"~",""),"""","")," "," ")," "," ")) | BB7: =SUM($BB$1:$BB$6) -> 0
A8: =IF(OR($BA1="Any",$BA1=""),1,IF('All Data'!$B8=$BA1,1,0)) -> 1 | B8: =IF(OR($BA2="Any",$BA2=""),1,IF('All Data'!$C8=$BA2,1,0)) -> 1 | C8: =IF(OR($BA3="Any",$BA3=""),1,IF('All Data'!$D8=$BA3,1,0)) -> 1 | D8: =IF(OR($BA4="Any",$BA4=""),1,IF('All Data'!$E8=$BA4,1,0)) -> 1 | E8: =IF(OR($BA5="Any",$BA5=""),1,IF('All Data'!$F8=$BA5,1,0)) -> 1 | F8: =IF(OR($BA6="Any",$BA6=""),1,IF('All Data'!$G8=$BA6,1,0)) -> 0 | G8: =IF(AND(OR($BA$8="",ISNUMBER(SEARCH($BA$8,'All Data'!$K8&" "&'All Data'!$M8))),OR($BA$9="",ISNUMBER(SEARCH($BA$9,'All Data'!$K8&" "&'All Data'!$M8))),OR($BA$10="",ISNUMBER(SEARCH($BA$10,'All Data'!$K8&" "&'All Data'!$M8))),OR($BA$11="",ISNUMBER(SEARCH($BA$11,'All Data'!$K8&" "&'All Data'!$M8))),OR($BA$12="",ISNUMBER(SEARCH($BA$12,'All Data'!$K8&" "&'All Data'!$M8))),OR($BA$13="",ISNUMBER(SEARCH($BA$13,'All Data'!$K8&" "&'All Data'!$M8))),OR($BA$14="",ISNUMBER(SEARCH($BA$14,'All Data'!$K8&" "&'All Data'!$M8))),OR($BA$15="",ISNUMBER(SEARCH($BA$15,'All Data'!$K8&" "&'All Data'!$M8)))),1,0) -> 1 | H8: =$A8 -> 1 | I8: =IF(AND($H8=1,'All Data'!$C8<>"",COUNTIFS($H$2:H7,1,'All Data'!$C$2:$C7,'All Data'!$C8)=0),1,0) -> 0 | J8: =IF($I8=1,SUM($I$2:I8),"") | K8: =$A8*$B8 -> 1 | L8: =IF(AND($K8=1,'All Data'!$D8<>"",COUNTIFS($K$2:K7,1,'All Data'!$D$2:$D7,'All Data'!$D8)=0),1,0) -> 1 | M8: =IF($L8=1,SUM($L$2:L8),"") -> 4 | N8: =$A8*$B8*$C8 -> 1 | O8: =IF(AND($N8=1,'All Data'!$E8<>"",COUNTIFS($N$2:N7,1,'All Data'!$E$2:$E7,'All Data'!$E8)=0),1,0) -> 0 | P8: =IF($O8=1,SUM($O$2:O8),"") | Q8: =$A8*$B8*$C8*$D8 -> 1 | R8: =IF(AND($Q8=1,'All Data'!$F8<>"",COUNTIFS($Q$2:Q7,1,'All Data'!$F$2:$F7,'All Data'!$F8)=0),1,0) -> 0 | S8: =IF($R8=1,SUM($R$2:R8),"") | T8: =$A8*$B8*$C8*$D8*$E8 -> 1 | U8: =IF(AND($T8=1,'All Data'!$G8<>"",COUNTIFS($T$2:T7,1,'All Data'!$G$2:$G7,'All Data'!$G8)=0),1,0) -> 0 | V8: =IF($U8=1,SUM($U$2:U8),"") | W8: =$A8*$B8*$C8*$D8*$E8*$F8*$G8 -> 0 | X8: =IF($W8=1,SUM($W$2:W8),"") | Z8: =IFERROR(INDEX('All Data'!$C$2:$C$419,MATCH(6,$J$2:$J$419,0))&"","") -> Timber Frame Wall | AB8: =IFERROR(INDEX('All Data'!$D$2:$D$419,MATCH(6,$M$2:$M$419,0))&"","") -> Solid brick wall, 225mm | AD8: =IFERROR(INDEX('All Data'!$E$2:$E$419,MATCH(6,$P$2:$P$419,0))&"","") | AF8: =IFERROR(INDEX('All Data'!$F$2:$F$419,MATCH(6,$S$2:$S$419,0))&"","") | AH8: =IFERROR(INDEX('All Data'!$G$2:$G$419,MATCH(6,$V$2:$V$419,0))&"","") -> Uninsulated | AJ8: Curtain Wall | BA8: =TRIM(MID(SUBSTITUTE($BA$7," ",REPT(" ",99)),1,99))
A9: =IF(OR($BA1="Any",$BA1=""),1,IF('All Data'!$B9=$BA1,1,0)) -> 1 | B9: =IF(OR($BA2="Any",$BA2=""),1,IF('All Data'!$C9=$BA2,1,0)) -> 1 | C9: =IF(OR($BA3="Any",$BA3=""),1,IF('All Data'!$D9=$BA3,1,0)) -> 1 | D9: =IF(OR($BA4="Any",$BA4=""),1,IF('All Data'!$E9=$BA4,1,0)) -> 1 | E9: =IF(OR($BA5="Any",$BA5=""),1,IF('All Data'!$F9=$BA5,1,0)) -> 1 | F9: =IF(OR($BA6="Any",$BA6=""),1,IF('All Data'!$G9=$BA6,1,0)) -> 0 | G9: =IF(AND(OR($BA$8="",ISNUMBER(SEARCH($BA$8,'All Data'!$K9&" "&'All Data'!$M9))),OR($BA$9="",ISNUMBER(SEARCH($BA$9,'All Data'!$K9&" "&'All Data'!$M9))),OR($BA$10="",ISNUMBER(SEARCH($BA$10,'All Data'!$K9&" "&'All Data'!$M9))),OR($BA$11="",ISNUMBER(SEARCH($BA$11,'All Data'!$K9&" "&'All Data'!$M9))),OR($BA$12="",ISNUMBER(SEARCH($BA$12,'All Data'!$K9&" "&'All Data'!$M9))),OR($BA$13="",ISNUMBER(SEARCH($BA$13,'All Data'!$K9&" "&'All Data'!$M9))),OR($BA$14="",ISNUMBER(SEARCH($BA$14,'All Data'!$K9&" "&'All Data'!$M9))),OR($BA$15="",ISNUMBER(SEARCH($BA$15,'All Data'!$K9&" "&'All Data'!$M9)))),1,0) -> 1 | H9: =$A9 -> 1 | I9: =IF(AND($H9=1,'All Data'!$C9<>"",COUNTIFS($H$2:H8,1,'All Data'!$C$2:$C8,'All Data'!$C9)=0),1,0) -> 0 | J9: =IF($I9=1,SUM($I$2:I9),"") | K9: =$A9*$B9 -> 1 | L9: =IF(AND($K9=1,'All Data'!$D9<>"",COUNTIFS($K$2:K8,1,'All Data'!$D$2:$D8,'All Data'!$D9)=0),1,0) -> 1 | M9: =IF($L9=1,SUM($L$2:L9),"") -> 5 | N9: =$A9*$B9*$C9 -> 1 | O9: =IF(AND($N9=1,'All Data'!$E9<>"",COUNTIFS($N$2:N8,1,'All Data'!$E$2:$E8,'All Data'!$E9)=0),1,0) -> 0 | P9: =IF($O9=1,SUM($O$2:O9),"") | Q9: =$A9*$B9*$C9*$D9 -> 1 | R9: =IF(AND($Q9=1,'All Data'!$F9<>"",COUNTIFS($Q$2:Q8,1,'All Data'!$F$2:$F8,'All Data'!$F9)=0),1,0) -> 0 | S9: =IF($R9=1,SUM($R$2:R9),"") | T9: =$A9*$B9*$C9*$D9*$E9 -> 1 | U9: =IF(AND($T9=1,'All Data'!$G9<>"",COUNTIFS($T$2:T8,1,'All Data'!$G$2:$G8,'All Data'!$G9)=0),1,0) -> 1 | V9: =IF($U9=1,SUM($U$2:U9),"") -> 6 | W9: =$A9*$B9*$C9*$D9*$E9*$F9*$G9 -> 0 | X9: =IF($W9=1,SUM($W$2:W9),"") | Z9: =IFERROR(INDEX('All Data'!$C$2:$C$419,MATCH(7,$J$2:$J$419,0))&"","") -> Light steel framing | AB9: =IFERROR(INDEX('All Data'!$D$2:$D$419,MATCH(7,$M$2:$M$419,0))&"","") -> Solid brick wall, 230mm | AD9: =IFERROR(INDEX('All Data'!$E$2:$E$419,MATCH(7,$P$2:$P$419,0))&"","") | AF9: =IFERROR(INDEX('All Data'!$F$2:$F$419,MATCH(7,$S$2:$S$419,0))&"","") | AH9: =IFERROR(INDEX('All Data'!$G$2:$G$419,MATCH(7,$V$2:$V$419,0))&"","") -> Dry lined | AJ9: Internal Wall | BA9: =TRIM(MID(SUBSTITUTE($BA$7," ",REPT(" ",99)),100,99))
A10: =IF(OR($BA1="Any",$BA1=""),1,IF('All Data'!$B10=$BA1,1,0)) -> 1 | B10: =IF(OR($BA2="Any",$BA2=""),1,IF('All Data'!$C10=$BA2,1,0)) -> 1 | C10: =IF(OR($BA3="Any",$BA3=""),1,IF('All Data'!$D10=$BA3,1,0)) -> 1 | D10: =IF(OR($BA4="Any",$BA4=""),1,IF('All Data'!$E10=$BA4,1,0)) -> 1 | E10: =IF(OR($BA5="Any",$BA5=""),1,IF('All Data'!$F10=$BA5,1,0)) -> 1 | F10: =IF(OR($BA6="Any",$BA6=""),1,IF('All Data'!$G10=$BA6,1,0)) -> 0 | G10: =IF(AND(OR($BA$8="",ISNUMBER(SEARCH($BA$8,'All Data'!$K10&" "&'All Data'!$M10))),OR($BA$9="",ISNUMBER(SEARCH($BA$9,'All Data'!$K10&" "&'All Data'!$M10))),OR($BA$10="",ISNUMBER(SEARCH($BA$10,'All Data'!$K10&" "&'All Data'!$M10))),OR($BA$11="",ISNUMBER(SEARCH($BA$11,'All Data'!$K10&" "&'All Data'!$M10))),OR($BA$12="",ISNUMBER(SEARCH($BA$12,'All Data'!$K10&" "&'All Data'!$M10))),OR($BA$13="",ISNUMBER(SEARCH($BA$13,'All Data'!$K10&" "&'All Data'!$M10))),OR($BA$14="",ISNUMBER(SEARCH($BA$14,'All Data'!$K10&" "&'All Data'!$M10))),OR($BA$15="",ISNUMBER(SEARCH($BA$15,'All Data'!$K10&" "&'All Data'!$M10)))),1,0) -> 1 | H10: =$A10 -> 1 | I10: =IF(AND($H10=1,'All Data'!$C10<>"",COUNTIFS($H$2:H9,1,'All Data'!$C$2:$C9,'All Data'!$C10)=0),1,0) -> 0 | J10: =IF($I10=1,SUM($I$2:I10),"") | K10: =$A10*$B10 -> 1 | L10: =IF(AND($K10=1,'All Data'!$D10<>"",COUNTIFS($K$2:K9,1,'All Data'!$D$2:$D9,'All Data'!$D10)=0),1,0) -> 0 | M10: =IF($L10=1,SUM($L$2:L10),"") | N10: =$A10*$B10*$C10 -> 1 | O10: =IF(AND($N10=1,'All Data'!$E10<>"",COUNTIFS($N$2:N9,1,'All Data'!$E$2:$E9,'All Data'!$E10)=0),1,0) -> 0 | P10: =IF($O10=1,SUM($O$2:O10),"") | Q10: =$A10*$B10*$C10*$D10 -> 1 | R10: =IF(AND($Q10=1,'All Data'!$F10<>"",COUNTIFS($Q$2:Q9,1,'All Data'!$F$2:$F9,'All Data'!$F10)=0),1,0) -> 0 | S10: =IF($R10=1,SUM($R$2:R10),"") | T10: =$A10*$B10*$C10*$D10*$E10 -> 1 | U10: =IF(AND($T10=1,'All Data'!$G10<>"",COUNTIFS($T$2:T9,1,'All Data'!$G$2:$G9,'All Data'!$G10)=0),1,0) -> 1 | V10: =IF($U10=1,SUM($U$2:U10),"") -> 7 | W10: =$A10*$B10*$C10*$D10*$E10*$F10*$G10 -> 0 | X10: =IF($W10=1,SUM($W$2:W10),"") | Z10: =IFERROR(INDEX('All Data'!$C$2:$C$419,MATCH(8,$J$2:$J$419,0))&"","") | AB10: =IFERROR(INDEX('All Data'!$D$2:$D$419,MATCH(8,$M$2:$M$419,0))&"","") -> Solid brick wall, 340mm | AD10: =IFERROR(INDEX('All Data'!$E$2:$E$419,MATCH(8,$P$2:$P$419,0))&"","") | AF10: =IFERROR(INDEX('All Data'!$F$2:$F$419,MATCH(8,$S$2:$S$419,0))&"","") | AH10: =IFERROR(INDEX('All Data'!$G$2:$G$419,MATCH(8,$V$2:$V$419,0))&"","") -> Insulated | BA10: =TRIM(MID(SUBSTITUTE($BA$7," ",REPT(" ",99)),199,99))
A11: =IF(OR($BA1="Any",$BA1=""),1,IF('All Data'!$B11=$BA1,1,0)) -> 1 | B11: =IF(OR($BA2="Any",$BA2=""),1,IF('All Data'!$C11=$BA2,1,0)) -> 1 | C11: =IF(OR($BA3="Any",$BA3=""),1,IF('All Data'!$D11=$BA3,1,0)) -> 1 | D11: =IF(OR($BA4="Any",$BA4=""),1,IF('All Data'!$E11=$BA4,1,0)) -> 1 | E11: =IF(OR($BA5="Any",$BA5=""),1,IF('All Data'!$F11=$BA5,1,0)) -> 1 | F11: =IF(OR($BA6="Any",$BA6=""),1,IF('All Data'!$G11=$BA6,1,0)) -> 0 | G11: =IF(AND(OR($BA$8="",ISNUMBER(SEARCH($BA$8,'All Data'!$K11&" "&'All Data'!$M11))),OR($BA$9="",ISNUMBER(SEARCH($BA$9,'All Data'!$K11&" "&'All Data'!$M11))),OR($BA$10="",ISNUMBER(SEARCH($BA$10,'All Data'!$K11&" "&'All Data'!$M11))),OR($BA$11="",ISNUMBER(SEARCH($BA$11,'All Data'!$K11&" "&'All Data'!$M11))),OR($BA$12="",ISNUMBER(SEARCH($BA$12,'All Data'!$K11&" "&'All Data'!$M11))),OR($BA$13="",ISNUMBER(SEARCH($BA$13,'All Data'!$K11&" "&'All Data'!$M11))),OR($BA$14="",ISNUMBER(SEARCH($BA$14,'All Data'!$K11&" "&'All Data'!$M11))),OR($BA$15="",ISNUMBER(SEARCH($BA$15,'All Data'!$K11&" "&'All Data'!$M11)))),1,0) -> 1 | H11: =$A11 -> 1 | I11: =IF(AND($H11=1,'All Data'!$C11<>"",COUNTIFS($H$2:H10,1,'All Data'!$C$2:$C10,'All Data'!$C11)=0),1,0) -> 0 | J11: =IF($I11=1,SUM($I$2:I11),"") | K11: =$A11*$B11 -> 1 | L11: =IF(AND($K11=1,'All Data'!$D11<>"",COUNTIFS($K$2:K10,1,'All Data'!$D$2:$D10,'All Data'!$D11)=0),1,0) -> 0 | M11: =IF($L11=1,SUM($L$2:L11),"") | N11: =$A11*$B11*$C11 -> 1 | O11: =IF(AND($N11=1,'All Data'!$E11<>"",COUNTIFS($N$2:N10,1,'All Data'!$E$2:$E10,'All Data'!$E11)=0),1,0) -> 0 | P11: =IF($O11=1,SUM($O$2:O11),"") | Q11: =$A11*$B11*$C11*$D11 -> 1 | R11: =IF(AND($Q11=1,'All Data'!$F11<>"",COUNTIFS($Q$2:Q10,1,'All Data'!$F$2:$F10,'All Data'!$F11)=0),1,0) -> 0 | S11: =IF($R11=1,SUM($R$2:R11),"") | T11: =$A11*$B11*$C11*$D11*$E11 -> 1 | U11: =IF(AND($T11=1,'All Data'!$G11<>"",COUNTIFS($T$2:T10,1,'All Data'!$G$2:$G10,'All Data'!$G11)=0),1,0) -> 1 | V11: =IF($U11=1,SUM($U$2:U11),"") -> 8 | W11: =$A11*$B11*$C11*$D11*$E11*$F11*$G11 -> 0 | X11: =IF($W11=1,SUM($W$2:W11),"") | Z11: =IFERROR(INDEX('All Data'!$C$2:$C$419,MATCH(9,$J$2:$J$419,0))&"","") | AB11: =IFERROR(INDEX('All Data'!$D$2:$D$419,MATCH(9,$M$2:$M$419,0))&"","") -> Solid concrete wall | AD11: =IFERROR(INDEX('All Data'!$E$2:$E$419,MATCH(9,$P$2:$P$419,0))&"","") | AF11: =IFERROR(INDEX('All Data'!$F$2:$F$419,MATCH(9,$S$2:$S$419,0))&"","") | AH11: =IFERROR(INDEX('All Data'!$G$2:$G$419,MATCH(9,$V$2:$V$419,0))&"","") -> Pre-1919 uninsulated | BA11: =TRIM(MID(SUBSTITUTE($BA$7," ",REPT(" ",99)),298,99))
A12: =IF(OR($BA1="Any",$BA1=""),1,IF('All Data'!$B12=$BA1,1,0)) -> 1 | B12: =IF(OR($BA2="Any",$BA2=""),1,IF('All Data'!$C12=$BA2,1,0)) -> 1 | C12: =IF(OR($BA3="Any",$BA3=""),1,IF('All Data'!$D12=$BA3,1,0)) -> 1 | D12: =IF(OR($BA4="Any",$BA4=""),1,IF('All Data'!$E12=$BA4,1,0)) -> 1 | E12: =IF(OR($BA5="Any",$BA5=""),1,IF('All Data'!$F12=$BA5,1,0)) -> 1 | F12: =IF(OR($BA6="Any",$BA6=""),1,IF('All Data'!$G12=$BA6,1,0)) -> 0 | G12: =IF(AND(OR($BA$8="",ISNUMBER(SEARCH($BA$8,'All Data'!$K12&" "&'All Data'!$M12))),OR($BA$9="",ISNUMBER(SEARCH($BA$9,'All Data'!$K12&" "&'All Data'!$M12))),OR($BA$10="",ISNUMBER(SEARCH($BA$10,'All Data'!$K12&" "&'All Data'!$M12))),OR($BA$11="",ISNUMBER(SEARCH($BA$11,'All Data'!$K12&" "&'All Data'!$M12))),OR($BA$12="",ISNUMBER(SEARCH($BA$12,'All Data'!$K12&" "&'All Data'!$M12))),OR($BA$13="",ISNUMBER(SEARCH($BA$13,'All Data'!$K12&" "&'All Data'!$M12))),OR($BA$14="",ISNUMBER(SEARCH($BA$14,'All Data'!$K12&" "&'All Data'!$M12))),OR($BA$15="",ISNUMBER(SEARCH($BA$15,'All Data'!$K12&" "&'All Data'!$M12)))),1,0) -> 1 | H12: =$A12 -> 1 | I12: =IF(AND($H12=1,'All Data'!$C12<>"",COUNTIFS($H$2:H11,1,'All Data'!$C$2:$C11,'All Data'!$C12)=0),1,0) -> 0 | J12: =IF($I12=1,SUM($I$2:I12),"") | K12: =$A12*$B12 -> 1 | L12: =IF(AND($K12=1,'All Data'!$D12<>"",COUNTIFS($K$2:K11,1,'All Data'!$D$2:$D11,'All Data'!$D12)=0),1,0) -> 1 | M12: =IF($L12=1,SUM($L$2:L12),"") -> 6 | N12: =$A12*$B12*$C12 -> 1 | O12: =IF(AND($N12=1,'All Data'!$E12<>"",COUNTIFS($N$2:N11,1,'All Data'!$E$2:$E11,'All Data'!$E12)=0),1,0) -> 0 | P12: =IF($O12=1,SUM($O$2:O12),"") | Q12: =$A12*$B12*$C12*$D12 -> 1 | R12: =IF(AND($Q12=1,'All Data'!$F12<>"",COUNTIFS($Q$2:Q11,1,'All Data'!$F$2:$F11,'All Data'!$F12)=0),1,0) -> 0 | S12: =IF($R12=1,SUM($R$2:R12),"") | T12: =$A12*$B12*$C12*$D12*$E12 -> 1 | U12: =IF(AND($T12=1,'All Data'!$G12<>"",COUNTIFS($T$2:T11,1,'All Data'!$G$2:$G11,'All Data'!$G12)=0),1,0) -> 1 | V12: =IF($U12=1,SUM($U$2:U12),"") -> 9 | W12: =$A12*$B12*$C12*$D12*$E12*$F12*$G12 -> 0 | X12: =IF($W12=1,SUM($W$2:W12),"") | Z12: =IFERROR(INDEX('All Data'!$C$2:$C$419,MATCH(10,$J$2:$J$419,0))&"","") | AB12: =IFERROR(INDEX('All Data'!$D$2:$D$419,MATCH(10,$M$2:$M$419,0))&"","") -> Solid no fines concrete wall | AD12: =IFERROR(INDEX('All Data'!$E$2:$E$419,MATCH(10,$P$2:$P$419,0))&"","") | AF12: =IFERROR(INDEX('All Data'!$F$2:$F$419,MATCH(10,$S$2:$S$419,0))&"","") | AH12: =IFERROR(INDEX('All Data'!$G$2:$G$419,MATCH(10,$V$2:$V$419,0))&"","") -> 1974-1980 | BA12: =TRIM(MID(SUBSTITUTE($BA$7," ",REPT(" ",99)),397,99))
A13: =IF(OR($BA1="Any",$BA1=""),1,IF('All Data'!$B13=$BA1,1,0)) -> 1 | B13: =IF(OR($BA2="Any",$BA2=""),1,IF('All Data'!$C13=$BA2,1,0)) -> 1 | C13: =IF(OR($BA3="Any",$BA3=""),1,IF('All Data'!$D13=$BA3,1,0)) -> 1 | D13: =IF(OR($BA4="Any",$BA4=""),1,IF('All Data'!$E13=$BA4,1,0)) -> 1 | E13: =IF(OR($BA5="Any",$BA5=""),1,IF('All Data'!$F13=$BA5,1,0)) -> 1 | F13: =IF(OR($BA6="Any",$BA6=""),1,IF('All Data'!$G13=$BA6,1,0)) -> 0 | G13: =IF(AND(OR($BA$8="",ISNUMBER(SEARCH($BA$8,'All Data'!$K13&" "&'All Data'!$M13))),OR($BA$9="",ISNUMBER(SEARCH($BA$9,'All Data'!$K13&" "&'All Data'!$M13))),OR($BA$10="",ISNUMBER(SEARCH($BA$10,'All Data'!$K13&" "&'All Data'!$M13))),OR($BA$11="",ISNUMBER(SEARCH($BA$11,'All Data'!$K13&" "&'All Data'!$M13))),OR($BA$12="",ISNUMBER(SEARCH($BA$12,'All Data'!$K13&" "&'All Data'!$M13))),OR($BA$13="",ISNUMBER(SEARCH($BA$13,'All Data'!$K13&" "&'All Data'!$M13))),OR($BA$14="",ISNUMBER(SEARCH($BA$14,'All Data'!$K13&" "&'All Data'!$M13))),OR($BA$15="",ISNUMBER(SEARCH($BA$15,'All Data'!$K13&" "&'All Data'!$M13)))),1,0) -> 1 | H13: =$A13 -> 1 | I13: =IF(AND($H13=1,'All Data'!$C13<>"",COUNTIFS($H$2:H12,1,'All Data'!$C$2:$C12,'All Data'!$C13)=0),1,0) -> 0 | J13: =IF($I13=1,SUM($I$2:I13),"") | K13: =$A13*$B13 -> 1 | L13: =IF(AND($K13=1,'All Data'!$D13<>"",COUNTIFS($K$2:K12,1,'All Data'!$D$2:$D12,'All Data'!$D13)=0),1,0) -> 1 | M13: =IF($L13=1,SUM($L$2:L13),"") -> 7 | N13: =$A13*$B13*$C13 -> 1 | O13: =IF(AND($N13=1,'All Data'!$E13<>"",COUNTIFS($N$2:N12,1,'All Data'!$E$2:$E12,'All Data'!$E13)=0),1,0) -> 0 | P13: =IF($O13=1,SUM($O$2:O13),"") | Q13: =$A13*$B13*$C13*$D13 -> 1 | R13: =IF(AND($Q13=1,'All Data'!$F13<>"",COUNTIFS($Q$2:Q12,1,'All Data'!$F$2:$F12,'All Data'!$F13)=0),1,0) -> 0 | S13: =IF($R13=1,SUM($R$2:R13),"") | T13: =$A13*$B13*$C13*$D13*$E13 -> 1 | U13: =IF(AND($T13=1,'All Data'!$G13<>"",COUNTIFS($T$2:T12,1,'All Data'!$G$2:$G12,'All Data'!$G13)=0),1,0) -> 0 | V13: =IF($U13=1,SUM($U$2:U13),"") | W13: =$A13*$B13*$C13*$D13*$E13*$F13*$G13 -> 0 | X13: =IF($W13=1,SUM($W$2:W13),"") | Z13: =IFERROR(INDEX('All Data'!$C$2:$C$419,MATCH(11,$J$2:$J$419,0))&"","") | AB13: =IFERROR(INDEX('All Data'!$D$2:$D$419,MATCH(11,$M$2:$M$419,0))&"","") -> Solid stone wall – Granite or Whin | AD13: =IFERROR(INDEX('All Data'!$E$2:$E$419,MATCH(11,$P$2:$P$419,0))&"","") | AF13: =IFERROR(INDEX('All Data'!$F$2:$F$419,MATCH(11,$S$2:$S$419,0))&"","") | AH13: =IFERROR(INDEX('All Data'!$G$2:$G$419,MATCH(11,$V$2:$V$419,0))&"","") -> 1980/85 | BA13: =TRIM(MID(SUBSTITUTE($BA$7," ",REPT(" ",99)),496,99))
A14: =IF(OR($BA1="Any",$BA1=""),1,IF('All Data'!$B14=$BA1,1,0)) -> 1 | B14: =IF(OR($BA2="Any",$BA2=""),1,IF('All Data'!$C14=$BA2,1,0)) -> 1 | C14: =IF(OR($BA3="Any",$BA3=""),1,IF('All Data'!$D14=$BA3,1,0)) -> 1 | D14: =IF(OR($BA4="Any",$BA4=""),1,IF('All Data'!$E14=$BA4,1,0)) -> 1 | E14: =IF(OR($BA5="Any",$BA5=""),1,IF('All Data'!$F14=$BA5,1,0)) -> 1 | F14: =IF(OR($BA6="Any",$BA6=""),1,IF('All Data'!$G14=$BA6,1,0)) -> 0 | G14: =IF(AND(OR($BA$8="",ISNUMBER(SEARCH($BA$8,'All Data'!$K14&" "&'All Data'!$M14))),OR($BA$9="",ISNUMBER(SEARCH($BA$9,'All Data'!$K14&" "&'All Data'!$M14))),OR($BA$10="",ISNUMBER(SEARCH($BA$10,'All Data'!$K14&" "&'All Data'!$M14))),OR($BA$11="",ISNUMBER(SEARCH($BA$11,'All Data'!$K14&" "&'All Data'!$M14))),OR($BA$12="",ISNUMBER(SEARCH($BA$12,'All Data'!$K14&" "&'All Data'!$M14))),OR($BA$13="",ISNUMBER(SEARCH($BA$13,'All Data'!$K14&" "&'All Data'!$M14))),OR($BA$14="",ISNUMBER(SEARCH($BA$14,'All Data'!$K14&" "&'All Data'!$M14))),OR($BA$15="",ISNUMBER(SEARCH($BA$15,'All Data'!$K14&" "&'All Data'!$M14)))),1,0) -> 1 | H14: =$A14 -> 1 | I14: =IF(AND($H14=1,'All Data'!$C14<>"",COUNTIFS($H$2:H13,1,'All Data'!$C$2:$C13,'All Data'!$C14)=0),1,0) -> 0 | J14: =IF($I14=1,SUM($I$2:I14),"") | K14: =$A14*$B14 -> 1 | L14: =IF(AND($K14=1,'All Data'!$D14<>"",COUNTIFS($K$2:K13,1,'All Data'!$D$2:$D13,'All Data'!$D14)=0),1,0) -> 0 | M14: =IF($L14=1,SUM($L$2:L14),"") | N14: =$A14*$B14*$C14 -> 1 | O14: =IF(AND($N14=1,'All Data'!$E14<>"",COUNTIFS($N$2:N13,1,'All Data'!$E$2:$E13,'All Data'!$E14)=0),1,0) -> 0 | P14: =IF($O14=1,SUM($O$2:O14),"") | Q14: =$A14*$B14*$C14*$D14 -> 1 | R14: =IF(AND($Q14=1,'All Data'!$F14<>"",COUNTIFS($Q$2:Q13,1,'All Data'!$F$2:$F13,'All Data'!$F14)=0),1,0) -> 0 | S14: =IF($R14=1,SUM($R$2:R14),"") | T14: =$A14*$B14*$C14*$D14*$E14 -> 1 | U14: =IF(AND($T14=1,'All Data'!$G14<>"",COUNTIFS($T$2:T13,1,'All Data'!$G$2:$G13,'All Data'!$G14)=0),1,0) -> 0 | V14: =IF($U14=1,SUM($U$2:U14),"") | W14: =$A14*$B14*$C14*$D14*$E14*$F14*$G14 -> 0 | X14: =IF($W14=1,SUM($W$2:W14),"") | Z14: =IFERROR(INDEX('All Data'!$C$2:$C$419,MATCH(12,$J$2:$J$419,0))&"","") | AB14: =IFERROR(INDEX('All Data'!$D$2:$D$419,MATCH(12,$M$2:$M$419,0))&"","") -> Solid stone wall – Sandstone | AD14: =IFERROR(INDEX('All Data'!$E$2:$E$419,MATCH(12,$P$2:$P$419,0))&"","") | AF14: =IFERROR(INDEX('All Data'!$F$2:$F$419,MATCH(12,$S$2:$S$419,0))&"","") | AH14: =IFERROR(INDEX('All Data'!$G$2:$G$419,MATCH(12,$V$2:$V$419,0))&"","") -> 1990 | BA14: =TRIM(MID(SUBSTITUTE($BA$7," ",REPT(" ",99)),595,99))
A15: =IF(OR($BA1="Any",$BA1=""),1,IF('All Data'!$B15=$BA1,1,0)) -> 1 | B15: =IF(OR($BA2="Any",$BA2=""),1,IF('All Data'!$C15=$BA2,1,0)) -> 1 | C15: =IF(OR($BA3="Any",$BA3=""),1,IF('All Data'!$D15=$BA3,1,0)) -> 1 | D15: =IF(OR($BA4="Any",$BA4=""),1,IF('All Data'!$E15=$BA4,1,0)) -> 1 | E15: =IF(OR($BA5="Any",$BA5=""),1,IF('All Data'!$F15=$BA5,1,0)) -> 1 | F15: =IF(OR($BA6="Any",$BA6=""),1,IF('All Data'!$G15=$BA6,1,0)) -> 0 | G15: =IF(AND(OR($BA$8="",ISNUMBER(SEARCH($BA$8,'All Data'!$K15&" "&'All Data'!$M15))),OR($BA$9="",ISNUMBER(SEARCH($BA$9,'All Data'!$K15&" "&'All Data'!$M15))),OR($BA$10="",ISNUMBER(SEARCH($BA$10,'All Data'!$K15&" "&'All Data'!$M15))),OR($BA$11="",ISNUMBER(SEARCH($BA$11,'All Data'!$K15&" "&'All Data'!$M15))),OR($BA$12="",ISNUMBER(SEARCH($BA$12,'All Data'!$K15&" "&'All Data'!$M15))),OR($BA$13="",ISNUMBER(SEARCH($BA$13,'All Data'!$K15&" "&'All Data'!$M15))),OR($BA$14="",ISNUMBER(SEARCH($BA$14,'All Data'!$K15&" "&'All Data'!$M15))),OR($BA$15="",ISNUMBER(SEARCH($BA$15,'All Data'!$K15&" "&'All Data'!$M15)))),1,0) -> 1 | H15: =$A15 -> 1 | I15: =IF(AND($H15=1,'All Data'!$C15<>"",COUNTIFS($H$2:H14,1,'All Data'!$C$2:$C14,'All Data'!$C15)=0),1,0) -> 0 | J15: =IF($I15=1,SUM($I$2:I15),"") | K15: =$A15*$B15 -> 1 | L15: =IF(AND($K15=1,'All Data'!$D15<>"",COUNTIFS($K$2:K14,1,'All Data'!$D$2:$D14,'All Data'!$D15)=0),1,0) -> 1 | M15: =IF($L15=1,SUM($L$2:L15),"") -> 8 | N15: =$A15*$B15*$C15 -> 1 | O15: =IF(AND($N15=1,'All Data'!$E15<>"",COUNTIFS($N$2:N14,1,'All Data'!$E$2:$E14,'All Data'!$E15)=0),1,0) -> 0 | P15: =IF($O15=1,SUM($O$2:O15),"") | Q15: =$A15*$B15*$C15*$D15 -> 1 | R15: =IF(AND($Q15=1,'All Data'!$F15<>"",COUNTIFS($Q$2:Q14,1,'All Data'!$F$2:$F14,'All Data'!$F15)=0),1,0) -> 0 | S15: =IF($R15=1,SUM($R$2:R15),"") | T15: =$A15*$B15*$C15*$D15*$E15 -> 1 | U15: =IF(AND($T15=1,'All Data'!$G15<>"",COUNTIFS($T$2:T14,1,'All Data'!$G$2:$G14,'All Data'!$G15)=0),1,0) -> 0 | V15: =IF($U15=1,SUM($U$2:U15),"") | W15: =$A15*$B15*$C15*$D15*$E15*$F15*$G15 -> 0 | X15: =IF($W15=1,SUM($W$2:W15),"") | Z15: =IFERROR(INDEX('All Data'!$C$2:$C$419,MATCH(13,$J$2:$J$419,0))&"","") | AB15: =IFERROR(INDEX('All Data'!$D$2:$D$419,MATCH(13,$M$2:$M$419,0))&"","") -> Solid wall | AD15: =IFERROR(INDEX('All Data'!$E$2:$E$419,MATCH(13,$P$2:$P$419,0))&"","") | AF15: =IFERROR(INDEX('All Data'!$F$2:$F$419,MATCH(13,$S$2:$S$419,0))&"","") | AH15: =IFERROR(INDEX('All Data'!$G$2:$G$419,MATCH(13,$V$2:$V$419,0))&"","") -> 1995 | BA15: =TRIM(MID(SUBSTITUTE($BA$7," ",REPT(" ",99)),694,99))
A16: =IF(OR($BA1="Any",$BA1=""),1,IF('All Data'!$B16=$BA1,1,0)) -> 1 | B16: =IF(OR($BA2="Any",$BA2=""),1,IF('All Data'!$C16=$BA2,1,0)) -> 1 | C16: =IF(OR($BA3="Any",$BA3=""),1,IF('All Data'!$D16=$BA3,1,0)) -> 1 | D16: =IF(OR($BA4="Any",$BA4=""),1,IF('All Data'!$E16=$BA4,1,0)) -> 1 | E16: =IF(OR($BA5="Any",$BA5=""),1,IF('All Data'!$F16=$BA5,1,0)) -> 1 | F16: =IF(OR($BA6="Any",$BA6=""),1,IF('All Data'!$G16=$BA6,1,0)) -> 0 | G16: =IF(AND(OR($BA$8="",ISNUMBER(SEARCH($BA$8,'All Data'!$K16&" "&'All Data'!$M16))),OR($BA$9="",ISNUMBER(SEARCH($BA$9,'All Data'!$K16&" "&'All Data'!$M16))),OR($BA$10="",ISNUMBER(SEARCH($BA$10,'All Data'!$K16&" "&'All Data'!$M16))),OR($BA$11="",ISNUMBER(SEARCH($BA$11,'All Data'!$K16&" "&'All Data'!$M16))),OR($BA$12="",ISNUMBER(SEARCH($BA$12,'All Data'!$K16&" "&'All Data'!$M16))),OR($BA$13="",ISNUMBER(SEARCH($BA$13,'All Data'!$K16&" "&'All Data'!$M16))),OR($BA$14="",ISNUMBER(SEARCH($BA$14,'All Data'!$K16&" "&'All Data'!$M16))),OR($BA$15="",ISNUMBER(SEARCH($BA$15,'All Data'!$K16&" "&'All Data'!$M16)))),1,0) -> 1 | H16: =$A16 -> 1 | I16: =IF(AND($H16=1,'All Data'!$C16<>"",COUNTIFS($H$2:H15,1,'All Data'!$C$2:$C15,'All Data'!$C16)=0),1,0) -> 0 | J16: =IF($I16=1,SUM($I$2:I16),"") | K16: =$A16*$B16 -> 1 | L16: =IF(AND($K16=1,'All Data'!$D16<>"",COUNTIFS($K$2:K15,1,'All Data'!$D$2:$D15,'All Data'!$D16)=0),1,0) -> 0 | M16: =IF($L16=1,SUM($L$2:L16),"") | N16: =$A16*$B16*$C16 -> 1 | O16: =IF(AND($N16=1,'All Data'!$E16<>"",COUNTIFS($N$2:N15,1,'All Data'!$E$2:$E15,'All Data'!$E16)=0),1,0) -> 0 | P16: =IF($O16=1,SUM($O$2:O16),"") | Q16: =$A16*$B16*$C16*$D16 -> 1 | R16: =IF(AND($Q16=1,'All Data'!$F16<>"",COUNTIFS($Q$2:Q15,1,'All Data'!$F$2:$F15,'All Data'!$F16)=0),1,0) -> 0 | S16: =IF($R16=1,SUM($R$2:R16),"") | T16: =$A16*$B16*$C16*$D16*$E16 -> 1 | U16: =IF(AND($T16=1,'All Data'!$G16<>"",COUNTIFS($T$2:T15,1,'All Data'!$G$2:$G15,'All Data'!$G16)=0),1,0) -> 0 | V16: =IF($U16=1,SUM($U$2:U16),"") | W16: =$A16*$B16*$C16*$D16*$E16*$F16*$G16 -> 0 | X16: =IF($W16=1,SUM($W$2:W16),"") | Z16: =IFERROR(INDEX('All Data'!$C$2:$C$419,MATCH(14,$J$2:$J$419,0))&"","") | AB16: =IFERROR(INDEX('All Data'!$D$2:$D$419,MATCH(14,$M$2:$M$419,0))&"","") -> Clear cavity wall | AD16: =IFERROR(INDEX('All Data'!$E$2:$E$419,MATCH(14,$P$2:$P$419,0))&"","") | AF16: =IFERROR(INDEX('All Data'!$F$2:$F$419,MATCH(14,$S$2:$S$419,0))&"","") | AH16: =IFERROR(INDEX('All Data'!$G$2:$G$419,MATCH(14,$V$2:$V$419,0))&"","") -> 2002 | BA16: =TRIM(MID(SUBSTITUTE($BA$7," ",REPT(" ",99)),793,99))
A17: =IF(OR($BA1="Any",$BA1=""),1,IF('All Data'!$B17=$BA1,1,0)) -> 1 | B17: =IF(OR($BA2="Any",$BA2=""),1,IF('All Data'!$C17=$BA2,1,0)) -> 1 | C17: =IF(OR($BA3="Any",$BA3=""),1,IF('All Data'!$D17=$BA3,1,0)) -> 1 | D17: =IF(OR($BA4="Any",$BA4=""),1,IF('All Data'!$E17=$BA4,1,0)) -> 1 | E17: =IF(OR($BA5="Any",$BA5=""),1,IF('All Data'!$F17=$BA5,1,0)) -> 1 | F17: =IF(OR($BA6="Any",$BA6=""),1,IF('All Data'!$G17=$BA6,1,0)) -> 0 | G17: =IF(AND(OR($BA$8="",ISNUMBER(SEARCH($BA$8,'All Data'!$K17&" "&'All Data'!$M17))),OR($BA$9="",ISNUMBER(SEARCH($BA$9,'All Data'!$K17&" "&'All Data'!$M17))),OR($BA$10="",ISNUMBER(SEARCH($BA$10,'All Data'!$K17&" "&'All Data'!$M17))),OR($BA$11="",ISNUMBER(SEARCH($BA$11,'All Data'!$K17&" "&'All Data'!$M17))),OR($BA$12="",ISNUMBER(SEARCH($BA$12,'All Data'!$K17&" "&'All Data'!$M17))),OR($BA$13="",ISNUMBER(SEARCH($BA$13,'All Data'!$K17&" "&'All Data'!$M17))),OR($BA$14="",ISNUMBER(SEARCH($BA$14,'All Data'!$K17&" "&'All Data'!$M17))),OR($BA$15="",ISNUMBER(SEARCH($BA$15,'All Data'!$K17&" "&'All Data'!$M17)))),1,0) -> 1 | H17: =$A17 -> 1 | I17: =IF(AND($H17=1,'All Data'!$C17<>"",COUNTIFS($H$2:H16,1,'All Data'!$C$2:$C16,'All Data'!$C17)=0),1,0) -> 0 | J17: =IF($I17=1,SUM($I$2:I17),"") | K17: =$A17*$B17 -> 1 | L17: =IF(AND($K17=1,'All Data'!$D17<>"",COUNTIFS($K$2:K16,1,'All Data'!$D$2:$D16,'All Data'!$D17)=0),1,0) -> 0 | M17: =IF($L17=1,SUM($L$2:L17),"") | N17: =$A17*$B17*$C17 -> 1 | O17: =IF(AND($N17=1,'All Data'!$E17<>"",COUNTIFS($N$2:N16,1,'All Data'!$E$2:$E16,'All Data'!$E17)=0),1,0) -> 0 | P17: =IF($O17=1,SUM($O$2:O17),"") | Q17: =$A17*$B17*$C17*$D17 -> 1 | R17: =IF(AND($Q17=1,'All Data'!$F17<>"",COUNTIFS($Q$2:Q16,1,'All Data'!$F$2:$F16,'All Data'!$F17)=0),1,0) -> 0 | S17: =IF($R17=1,SUM($R$2:R17),"") | T17: =$A17*$B17*$C17*$D17*$E17 -> 1 | U17: =IF(AND($T17=1,'All Data'!$G17<>"",COUNTIFS($T$2:T16,1,'All Data'!$G$2:$G16,'All Data'!$G17)=0),1,0) -> 0 | V17: =IF($U17=1,SUM($U$2:U17),"") | W17: =$A17*$B17*$C17*$D17*$E17*$F17*$G17 -> 0 | X17: =IF($W17=1,SUM($W$2:W17),"") | Z17: =IFERROR(INDEX('All Data'!$C$2:$C$419,MATCH(15,$J$2:$J$419,0))&"","") | AB17: =IFERROR(INDEX('All Data'!$D$2:$D$419,MATCH(15,$M$2:$M$419,0))&"","") -> Cavity wall | AD17: =IFERROR(INDEX('All Data'!$E$2:$E$419,MATCH(15,$P$2:$P$419,0))&"","") | AF17: =IFERROR(INDEX('All Data'!$F$2:$F$419,MATCH(15,$S$2:$S$419,0))&"","") | AH17: =IFERROR(INDEX('All Data'!$G$2:$G$419,MATCH(15,$V$2:$V$419,0))&"","") -> 2006/2010
A18: =IF(OR($BA1="Any",$BA1=""),1,IF('All Data'!$B18=$BA1,1,0)) -> 1 | B18: =IF(OR($BA2="Any",$BA2=""),1,IF('All Data'!$C18=$BA2,1,0)) -> 1 | C18: =IF(OR($BA3="Any",$BA3=""),1,IF('All Data'!$D18=$BA3,1,0)) -> 1 | D18: =IF(OR($BA4="Any",$BA4=""),1,IF('All Data'!$E18=$BA4,1,0)) -> 1 | E18: =IF(OR($BA5="Any",$BA5=""),1,IF('All Data'!$F18=$BA5,1,0)) -> 1 | F18: =IF(OR($BA6="Any",$BA6=""),1,IF('All Data'!$G18=$BA6,1,0)) -> 0 | G18: =IF(AND(OR($BA$8="",ISNUMBER(SEARCH($BA$8,'All Data'!$K18&" "&'All Data'!$M18))),OR($BA$9="",ISNUMBER(SEARCH($BA$9,'All Data'!$K18&" "&'All Data'!$M18))),OR($BA$10="",ISNUMBER(SEARCH($BA$10,'All Data'!$K18&" "&'All Data'!$M18))),OR($BA$11="",ISNUMBER(SEARCH($BA$11,'All Data'!$K18&" "&'All Data'!$M18))),OR($BA$12="",ISNUMBER(SEARCH($BA$12,'All Data'!$K18&" "&'All Data'!$M18))),OR($BA$13="",ISNUMBER(SEARCH($BA$13,'All Data'!$K18&" "&'All Data'!$M18))),OR($BA$14="",ISNUMBER(SEARCH($BA$14,'All Data'!$K18&" "&'All Data'!$M18))),OR($BA$15="",ISNUMBER(SEARCH($BA$15,'All Data'!$K18&" "&'All Data'!$M18)))),1,0) -> 1 | H18: =$A18 -> 1 | I18: =IF(AND($H18=1,'All Data'!$C18<>"",COUNTIFS($H$2:H17,1,'All Data'!$C$2:$C17,'All Data'!$C18)=0),1,0) -> 0 | J18: =IF($I18=1,SUM($I$2:I18),"") | K18: =$A18*$B18 -> 1 | L18: =IF(AND($K18=1,'All Data'!$D18<>"",COUNTIFS($K$2:K17,1,'All Data'!$D$2:$D17,'All Data'!$D18)=0),1,0) -> 1 | M18: =IF($L18=1,SUM($L$2:L18),"") -> 9 | N18: =$A18*$B18*$C18 -> 1 | O18: =IF(AND($N18=1,'All Data'!$E18<>"",COUNTIFS($N$2:N17,1,'All Data'!$E$2:$E17,'All Data'!$E18)=0),1,0) -> 0 | P18: =IF($O18=1,SUM($O$2:O18),"") | Q18: =$A18*$B18*$C18*$D18 -> 1 | R18: =IF(AND($Q18=1,'All Data'!$F18<>"",COUNTIFS($Q$2:Q17,1,'All Data'!$F$2:$F17,'All Data'!$F18)=0),1,0) -> 0 | S18: =IF($R18=1,SUM($R$2:R18),"") | T18: =$A18*$B18*$C18*$D18*$E18 -> 1 | U18: =IF(AND($T18=1,'All Data'!$G18<>"",COUNTIFS($T$2:T17,1,'All Data'!$G$2:$G17,'All Data'!$G18)=0),1,0) -> 0 | V18: =IF($U18=1,SUM($U$2:U18),"") | W18: =$A18*$B18*$C18*$D18*$E18*$F18*$G18 -> 0 | X18: =IF($W18=1,SUM($W$2:W18),"") | Z18: =IFERROR(INDEX('All Data'!$C$2:$C$419,MATCH(16,$J$2:$J$419,0))&"","") | AB18: =IFERROR(INDEX('All Data'!$D$2:$D$419,MATCH(16,$M$2:$M$419,0))&"","") -> Fully filled cavity wall | AD18: =IFERROR(INDEX('All Data'!$E$2:$E$419,MATCH(16,$P$2:$P$419,0))&"","") | AF18: =IFERROR(INDEX('All Data'!$F$2:$F$419,MATCH(16,$S$2:$S$419,0))&"","") | AH18: =IFERROR(INDEX('All Data'!$G$2:$G$419,MATCH(16,$V$2:$V$419,0))&"","") -> 2006
A19: =IF(OR($BA1="Any",$BA1=""),1,IF('All Data'!$B19=$BA1,1,0)) -> 1 | B19: =IF(OR($BA2="Any",$BA2=""),1,IF('All Data'!$C19=$BA2,1,0)) -> 1 | C19: =IF(OR($BA3="Any",$BA3=""),1,IF('All Data'!$D19=$BA3,1,0)) -> 1 | D19: =IF(OR($BA4="Any",$BA4=""),1,IF('All Data'!$E19=$BA4,1,0)) -> 1 | E19: =IF(OR($BA5="Any",$BA5=""),1,IF('All Data'!$F19=$BA5,1,0)) -> 1 | F19: =IF(OR($BA6="Any",$BA6=""),1,IF('All Data'!$G19=$BA6,1,0)) -> 0 | G19: =IF(AND(OR($BA$8="",ISNUMBER(SEARCH($BA$8,'All Data'!$K19&" "&'All Data'!$M19))),OR($BA$9="",ISNUMBER(SEARCH($BA$9,'All Data'!$K19&" "&'All Data'!$M19))),OR($BA$10="",ISNUMBER(SEARCH($BA$10,'All Data'!$K19&" "&'All Data'!$M19))),OR($BA$11="",ISNUMBER(SEARCH($BA$11,'All Data'!$K19&" "&'All Data'!$M19))),OR($BA$12="",ISNUMBER(SEARCH($BA$12,'All Data'!$K19&" "&'All Data'!$M19))),OR($BA$13="",ISNUMBER(SEARCH($BA$13,'All Data'!$K19&" "&'All Data'!$M19))),OR($BA$14="",ISNUMBER(SEARCH($BA$14,'All Data'!$K19&" "&'All Data'!$M19))),OR($BA$15="",ISNUMBER(SEARCH($BA$15,'All Data'!$K19&" "&'All Data'!$M19)))),1,0) -> 1 | H19: =$A19 -> 1 | I19: =IF(AND($H19=1,'All Data'!$C19<>"",COUNTIFS($H$2:H18,1,'All Data'!$C$2:$C18,'All Data'!$C19)=0),1,0) -> 0 | J19: =IF($I19=1,SUM($I$2:I19),"") | K19: =$A19*$B19 -> 1 | L19: =IF(AND($K19=1,'All Data'!$D19<>"",COUNTIFS($K$2:K18,1,'All Data'!$D$2:$D18,'All Data'!$D19)=0),1,0) -> 0 | M19: =IF($L19=1,SUM($L$2:L19),"") | N19: =$A19*$B19*$C19 -> 1 | O19: =IF(AND($N19=1,'All Data'!$E19<>"",COUNTIFS($N$2:N18,1,'All Data'!$E$2:$E18,'All Data'!$E19)=0),1,0) -> 0 | P19: =IF($O19=1,SUM($O$2:O19),"") | Q19: =$A19*$B19*$C19*$D19 -> 1 | R19: =IF(AND($Q19=1,'All Data'!$F19<>"",COUNTIFS($Q$2:Q18,1,'All Data'!$F$2:$F18,'All Data'!$F19)=0),1,0) -> 0 | S19: =IF($R19=1,SUM($R$2:R19),"") | T19: =$A19*$B19*$C19*$D19*$E19 -> 1 | U19: =IF(AND($T19=1,'All Data'!$G19<>"",COUNTIFS($T$2:T18,1,'All Data'!$G$2:$G18,'All Data'!$G19)=0),1,0) -> 0 | V19: =IF($U19=1,SUM($U$2:U19),"") | W19: =$A19*$B19*$C19*$D19*$E19*$F19*$G19 -> 0 | X19: =IF($W19=1,SUM($W$2:W19),"") | Z19: =IFERROR(INDEX('All Data'!$C$2:$C$419,MATCH(17,$J$2:$J$419,0))&"","") | AB19: =IFERROR(INDEX('All Data'!$D$2:$D$419,MATCH(17,$M$2:$M$419,0))&"","") -> Cavity wall retro insulation | AD19: =IFERROR(INDEX('All Data'!$E$2:$E$419,MATCH(17,$P$2:$P$419,0))&"","") | AF19: =IFERROR(INDEX('All Data'!$F$2:$F$419,MATCH(17,$S$2:$S$419,0))&"","") | AH19: =IFERROR(INDEX('All Data'!$G$2:$G$419,MATCH(17,$V$2:$V$419,0))&"","") -> 1975-1981
A20: =IF(OR($BA1="Any",$BA1=""),1,IF('All Data'!$B20=$BA1,1,0)) -> 1 | B20: =IF(OR($BA2="Any",$BA2=""),1,IF('All Data'!$C20=$BA2,1,0)) -> 1 | C20: =IF(OR($BA3="Any",$BA3=""),1,IF('All Data'!$D20=$BA3,1,0)) -> 1 | D20: =IF(OR($BA4="Any",$BA4=""),1,IF('All Data'!$E20=$BA4,1,0)) -> 1 | E20: =IF(OR($BA5="Any",$BA5=""),1,IF('All Data'!$F20=$BA5,1,0)) -> 1 | F20: =IF(OR($BA6="Any",$BA6=""),1,IF('All Data'!$G20=$BA6,1,0)) -> 0 | G20: =IF(AND(OR($BA$8="",ISNUMBER(SEARCH($BA$8,'All Data'!$K20&" "&'All Data'!$M20))),OR($BA$9="",ISNUMBER(SEARCH($BA$9,'All Data'!$K20&" "&'All Data'!$M20))),OR($BA$10="",ISNUMBER(SEARCH($BA$10,'All Data'!$K20&" "&'All Data'!$M20))),OR($BA$11="",ISNUMBER(SEARCH($BA$11,'All Data'!$K20&" "&'All Data'!$M20))),OR($BA$12="",ISNUMBER(SEARCH($BA$12,'All Data'!$K20&" "&'All Data'!$M20))),OR($BA$13="",ISNUMBER(SEARCH($BA$13,'All Data'!$K20&" "&'All Data'!$M20))),OR($BA$14="",ISNUMBER(SEARCH($BA$14,'All Data'!$K20&" "&'All Data'!$M20))),OR($BA$15="",ISNUMBER(SEARCH($BA$15,'All Data'!$K20&" "&'All Data'!$M20)))),1,0) -> 1 | H20: =$A20 -> 1 | I20: =IF(AND($H20=1,'All Data'!$C20<>"",COUNTIFS($H$2:H19,1,'All Data'!$C$2:$C19,'All Data'!$C20)=0),1,0) -> 0 | J20: =IF($I20=1,SUM($I$2:I20),"") | K20: =$A20*$B20 -> 1 | L20: =IF(AND($K20=1,'All Data'!$D20<>"",COUNTIFS($K$2:K19,1,'All Data'!$D$2:$D19,'All Data'!$D20)=0),1,0) -> 1 | M20: =IF($L20=1,SUM($L$2:L20),"") -> 10 | N20: =$A20*$B20*$C20 -> 1 | O20: =IF(AND($N20=1,'All Data'!$E20<>"",COUNTIFS($N$2:N19,1,'All Data'!$E$2:$E19,'All Data'!$E20)=0),1,0) -> 0 | P20: =IF($O20=1,SUM($O$2:O20),"") | Q20: =$A20*$B20*$C20*$D20 -> 1 | R20: =IF(AND($Q20=1,'All Data'!$F20<>"",COUNTIFS($Q$2:Q19,1,'All Data'!$F$2:$F19,'All Data'!$F20)=0),1,0) -> 0 | S20: =IF($R20=1,SUM($R$2:R20),"") | T20: =$A20*$B20*$C20*$D20*$E20 -> 1 | U20: =IF(AND($T20=1,'All Data'!$G20<>"",COUNTIFS($T$2:T19,1,'All Data'!$G$2:$G19,'All Data'!$G20)=0),1,0) -> 0 | V20: =IF($U20=1,SUM($U$2:U20),"") | W20: =$A20*$B20*$C20*$D20*$E20*$F20*$G20 -> 0 | X20: =IF($W20=1,SUM($W$2:W20),"") | Z20: =IFERROR(INDEX('All Data'!$C$2:$C$419,MATCH(18,$J$2:$J$419,0))&"","") | AB20: =IFERROR(INDEX('All Data'!$D$2:$D$419,MATCH(18,$M$2:$M$419,0))&"","") -> Partially filled cavity wall | AD20: =IFERROR(INDEX('All Data'!$E$2:$E$419,MATCH(18,$P$2:$P$419,0))&"","") | AF20: =IFERROR(INDEX('All Data'!$F$2:$F$419,MATCH(18,$S$2:$S$419,0))&"","") | AH20: =IFERROR(INDEX('All Data'!$G$2:$G$419,MATCH(18,$V$2:$V$419,0))&"","") -> 1982-1990
A21: =IF(OR($BA1="Any",$BA1=""),1,IF('All Data'!$B21=$BA1,1,0)) -> 1 | B21: =IF(OR($BA2="Any",$BA2=""),1,IF('All Data'!$C21=$BA2,1,0)) -> 1 | C21: =IF(OR($BA3="Any",$BA3=""),1,IF('All Data'!$D21=$BA3,1,0)) -> 1 | D21: =IF(OR($BA4="Any",$BA4=""),1,IF('All Data'!$E21=$BA4,1,0)) -> 1 | E21: =IF(OR($BA5="Any",$BA5=""),1,IF('All Data'!$F21=$BA5,1,0)) -> 1 | F21: =IF(OR($BA6="Any",$BA6=""),1,IF('All Data'!$G21=$BA6,1,0)) -> 0 | G21: =IF(AND(OR($BA$8="",ISNUMBER(SEARCH($BA$8,'All Data'!$K21&" "&'All Data'!$M21))),OR($BA$9="",ISNUMBER(SEARCH($BA$9,'All Data'!$K21&" "&'All Data'!$M21))),OR($BA$10="",ISNUMBER(SEARCH($BA$10,'All Data'!$K21&" "&'All Data'!$M21))),OR($BA$11="",ISNUMBER(SEARCH($BA$11,'All Data'!$K21&" "&'All Data'!$M21))),OR($BA$12="",ISNUMBER(SEARCH($BA$12,'All Data'!$K21&" "&'All Data'!$M21))),OR($BA$13="",ISNUMBER(SEARCH($BA$13,'All Data'!$K21&" "&'All Data'!$M21))),OR($BA$14="",ISNUMBER(SEARCH($BA$14,'All Data'!$K21&" "&'All Data'!$M21))),OR($BA$15="",ISNUMBER(SEARCH($BA$15,'All Data'!$K21&" "&'All Data'!$M21)))),1,0) -> 1 | H21: =$A21 -> 1 | I21: =IF(AND($H21=1,'All Data'!$C21<>"",COUNTIFS($H$2:H20,1,'All Data'!$C$2:$C20,'All Data'!$C21)=0),1,0) -> 0 | J21: =IF($I21=1,SUM($I$2:I21),"") | K21: =$A21*$B21 -> 1 | L21: =IF(AND($K21=1,'All Data'!$D21<>"",COUNTIFS($K$2:K20,1,'All Data'!$D$2:$D20,'All Data'!$D21)=0),1,0) -> 1 | M21: =IF($L21=1,SUM($L$2:L21),"") -> 11 | N21: =$A21*$B21*$C21 -> 1 | O21: =IF(AND($N21=1,'All Data'!$E21<>"",COUNTIFS($N$2:N20,1,'All Data'!$E$2:$E20,'All Data'!$E21)=0),1,0) -> 0 | P21: =IF($O21=1,SUM($O$2:O21),"") | Q21: =$A21*$B21*$C21*$D21 -> 1 | R21: =IF(AND($Q21=1,'All Data'!$F21<>"",COUNTIFS($Q$2:Q20,1,'All Data'!$F$2:$F20,'All Data'!$F21)=0),1,0) -> 0 | S21: =IF($R21=1,SUM($R$2:R21),"") | T21: =$A21*$B21*$C21*$D21*$E21 -> 1 | U21: =IF(AND($T21=1,'All Data'!$G21<>"",COUNTIFS($T$2:T20,1,'All Data'!$G$2:$G20,'All Data'!$G21)=0),1,0) -> 0 | V21: =IF($U21=1,SUM($U$2:U21),"") | W21: =$A21*$B21*$C21*$D21*$E21*$F21*$G21 -> 0 | X21: =IF($W21=1,SUM($W$2:W21),"") | Z21: =IFERROR(INDEX('All Data'!$C$2:$C$419,MATCH(19,$J$2:$J$419,0))&"","") | AB21: =IFERROR(INDEX('All Data'!$D$2:$D$419,MATCH(19,$M$2:$M$419,0))&"","") -> Semi-exposed wall | AD21: =IFERROR(INDEX('All Data'!$E$2:$E$419,MATCH(19,$P$2:$P$419,0))&"","") | AF21: =IFERROR(INDEX('All Data'!$F$2:$F$419,MATCH(19,$S$2:$S$419,0))&"","") | AH21: =IFERROR(INDEX('All Data'!$G$2:$G$419,MATCH(19,$V$2:$V$419,0))&"","") -> 1991-1996
A22: =IF(OR($BA1="Any",$BA1=""),1,IF('All Data'!$B22=$BA1,1,0)) -> 1 | B22: =IF(OR($BA2="Any",$BA2=""),1,IF('All Data'!$C22=$BA2,1,0)) -> 1 | C22: =IF(OR($BA3="Any",$BA3=""),1,IF('All Data'!$D22=$BA3,1,0)) -> 1 | D22: =IF(OR($BA4="Any",$BA4=""),1,IF('All Data'!$E22=$BA4,1,0)) -> 1 | E22: =IF(OR($BA5="Any",$BA5=""),1,IF('All Data'!$F22=$BA5,1,0)) -> 1 | F22: =IF(OR($BA6="Any",$BA6=""),1,IF('All Data'!$G22=$BA6,1,0)) -> 0 | G22: =IF(AND(OR($BA$8="",ISNUMBER(SEARCH($BA$8,'All Data'!$K22&" "&'All Data'!$M22))),OR($BA$9="",ISNUMBER(SEARCH($BA$9,'All Data'!$K22&" "&'All Data'!$M22))),OR($BA$10="",ISNUMBER(SEARCH($BA$10,'All Data'!$K22&" "&'All Data'!$M22))),OR($BA$11="",ISNUMBER(SEARCH($BA$11,'All Data'!$K22&" "&'All Data'!$M22))),OR($BA$12="",ISNUMBER(SEARCH($BA$12,'All Data'!$K22&" "&'All Data'!$M22))),OR($BA$13="",ISNUMBER(SEARCH($BA$13,'All Data'!$K22&" "&'All Data'!$M22))),OR($BA$14="",ISNUMBER(SEARCH($BA$14,'All Data'!$K22&" "&'All Data'!$M22))),OR($BA$15="",ISNUMBER(SEARCH($BA$15,'All Data'!$K22&" "&'All Data'!$M22)))),1,0) -> 1 | H22: =$A22 -> 1 | I22: =IF(AND($H22=1,'All Data'!$C22<>"",COUNTIFS($H$2:H21,1,'All Data'!$C$2:$C21,'All Data'!$C22)=0),1,0) -> 0 | J22: =IF($I22=1,SUM($I$2:I22),"") | K22: =$A22*$B22 -> 1 | L22: =IF(AND($K22=1,'All Data'!$D22<>"",COUNTIFS($K$2:K21,1,'All Data'!$D$2:$D21,'All Data'!$D22)=0),1,0) -> 0 | M22: =IF($L22=1,SUM($L$2:L22),"") | N22: =$A22*$B22*$C22 -> 1 | O22: =IF(AND($N22=1,'All Data'!$E22<>"",COUNTIFS($N$2:N21,1,'All Data'!$E$2:$E21,'All Data'!$E22)=0),1,0) -> 0 | P22: =IF($O22=1,SUM($O$2:O22),"") | Q22: =$A22*$B22*$C22*$D22 -> 1 | R22: =IF(AND($Q22=1,'All Data'!$F22<>"",COUNTIFS($Q$2:Q21,1,'All Data'!$F$2:$F21,'All Data'!$F22)=0),1,0) -> 0 | S22: =IF($R22=1,SUM($R$2:R22),"") | T22: =$A22*$B22*$C22*$D22*$E22 -> 1 | U22: =IF(AND($T22=1,'All Data'!$G22<>"",COUNTIFS($T$2:T21,1,'All Data'!$G$2:$G21,'All Data'!$G22)=0),1,0) -> 0 | V22: =IF($U22=1,SUM($U$2:U22),"") | W22: =$A22*$B22*$C22*$D22*$E22*$F22*$G22 -> 0 | X22: =IF($W22=1,SUM($W$2:W22),"") | Z22: =IFERROR(INDEX('All Data'!$C$2:$C$419,MATCH(20,$J$2:$J$419,0))&"","") | AB22: =IFERROR(INDEX('All Data'!$D$2:$D$419,MATCH(20,$M$2:$M$419,0))&"","") -> Steel wall | AD22: =IFERROR(INDEX('All Data'!$E$2:$E$419,MATCH(20,$P$2:$P$419,0))&"","") | AF22: =IFERROR(INDEX('All Data'!$F$2:$F$419,MATCH(20,$S$2:$S$419,0))&"","") | AH22: =IFERROR(INDEX('All Data'!$G$2:$G$419,MATCH(20,$V$2:$V$419,0))&"","") -> 1997-2001
A23: =IF(OR($BA1="Any",$BA1=""),1,IF('All Data'!$B23=$BA1,1,0)) -> 1 | B23: =IF(OR($BA2="Any",$BA2=""),1,IF('All Data'!$C23=$BA2,1,0)) -> 1 | C23: =IF(OR($BA3="Any",$BA3=""),1,IF('All Data'!$D23=$BA3,1,0)) -> 1 | D23: =IF(OR($BA4="Any",$BA4=""),1,IF('All Data'!$E23=$BA4,1,0)) -> 1 | E23: =IF(OR($BA5="Any",$BA5=""),1,IF('All Data'!$F23=$BA5,1,0)) -> 1 | F23: =IF(OR($BA6="Any",$BA6=""),1,IF('All Data'!$G23=$BA6,1,0)) -> 0 | G23: =IF(AND(OR($BA$8="",ISNUMBER(SEARCH($BA$8,'All Data'!$K23&" "&'All Data'!$M23))),OR($BA$9="",ISNUMBER(SEARCH($BA$9,'All Data'!$K23&" "&'All Data'!$M23))),OR($BA$10="",ISNUMBER(SEARCH($BA$10,'All Data'!$K23&" "&'All Data'!$M23))),OR($BA$11="",ISNUMBER(SEARCH($BA$11,'All Data'!$K23&" "&'All Data'!$M23))),OR($BA$12="",ISNUMBER(SEARCH($BA$12,'All Data'!$K23&" "&'All Data'!$M23))),OR($BA$13="",ISNUMBER(SEARCH($BA$13,'All Data'!$K23&" "&'All Data'!$M23))),OR($BA$14="",ISNUMBER(SEARCH($BA$14,'All Data'!$K23&" "&'All Data'!$M23))),OR($BA$15="",ISNUMBER(SEARCH($BA$15,'All Data'!$K23&" "&'All Data'!$M23)))),1,0) -> 1 | H23: =$A23 -> 1 | I23: =IF(AND($H23=1,'All Data'!$C23<>"",COUNTIFS($H$2:H22,1,'All Data'!$C$2:$C22,'All Data'!$C23)=0),1,0) -> 0 | J23: =IF($I23=1,SUM($I$2:I23),"") | K23: =$A23*$B23 -> 1 | L23: =IF(AND($K23=1,'All Data'!$D23<>"",COUNTIFS($K$2:K22,1,'All Data'!$D$2:$D22,'All Data'!$D23)=0),1,0) -> 0 | M23: =IF($L23=1,SUM($L$2:L23),"") | N23: =$A23*$B23*$C23 -> 1 | O23: =IF(AND($N23=1,'All Data'!$E23<>"",COUNTIFS($N$2:N22,1,'All Data'!$E$2:$E22,'All Data'!$E23)=0),1,0) -> 0 | P23: =IF($O23=1,SUM($O$2:O23),"") | Q23: =$A23*$B23*$C23*$D23 -> 1 | R23: =IF(AND($Q23=1,'All Data'!$F23<>"",COUNTIFS($Q$2:Q22,1,'All Data'!$F$2:$F22,'All Data'!$F23)=0),1,0) -> 0 | S23: =IF($R23=1,SUM($R$2:R23),"") | T23: =$A23*$B23*$C23*$D23*$E23 -> 1 | U23: =IF(AND($T23=1,'All Data'!$G23<>"",COUNTIFS($T$2:T22,1,'All Data'!$G$2:$G22,'All Data'!$G23)=0),1,0) -> 0 | V23: =IF($U23=1,SUM($U$2:U23),"") | W23: =$A23*$B23*$C23*$D23*$E23*$F23*$G23 -> 0 | X23: =IF($W23=1,SUM($W$2:W23),"") | Z23: =IFERROR(INDEX('All Data'!$C$2:$C$419,MATCH(21,$J$2:$J$419,0))&"","") | AB23: =IFERROR(INDEX('All Data'!$D$2:$D$419,MATCH(21,$M$2:$M$419,0))&"","") -> Metal cladding plus internal block | AD23: =IFERROR(INDEX('All Data'!$E$2:$E$419,MATCH(21,$P$2:$P$419,0))&"","") | AF23: =IFERROR(INDEX('All Data'!$F$2:$F$419,MATCH(21,$S$2:$S$419,0))&"","") | AH23: =IFERROR(INDEX('All Data'!$G$2:$G$419,MATCH(21,$V$2:$V$419,0))&"","") -> 2007
A24: =IF(OR($BA1="Any",$BA1=""),1,IF('All Data'!$B24=$BA1,1,0)) -> 1 | B24: =IF(OR($BA2="Any",$BA2=""),1,IF('All Data'!$C24=$BA2,1,0)) -> 1 | C24: =IF(OR($BA3="Any",$BA3=""),1,IF('All Data'!$D24=$BA3,1,0)) -> 1 | D24: =IF(OR($BA4="Any",$BA4=""),1,IF('All Data'!$E24=$BA4,1,0)) -> 1 | E24: =IF(OR($BA5="Any",$BA5=""),1,IF('All Data'!$F24=$BA5,1,0)) -> 1 | F24: =IF(OR($BA6="Any",$BA6=""),1,IF('All Data'!$G24=$BA6,1,0)) -> 0 | G24: =IF(AND(OR($BA$8="",ISNUMBER(SEARCH($BA$8,'All Data'!$K24&" "&'All Data'!$M24))),OR($BA$9="",ISNUMBER(SEARCH($BA$9,'All Data'!$K24&" "&'All Data'!$M24))),OR($BA$10="",ISNUMBER(SEARCH($BA$10,'All Data'!$K24&" "&'All Data'!$M24))),OR($BA$11="",ISNUMBER(SEARCH($BA$11,'All Data'!$K24&" "&'All Data'!$M24))),OR($BA$12="",ISNUMBER(SEARCH($BA$12,'All Data'!$K24&" "&'All Data'!$M24))),OR($BA$13="",ISNUMBER(SEARCH($BA$13,'All Data'!$K24&" "&'All Data'!$M24))),OR($BA$14="",ISNUMBER(SEARCH($BA$14,'All Data'!$K24&" "&'All Data'!$M24))),OR($BA$15="",ISNUMBER(SEARCH($BA$15,'All Data'!$K24&" "&'All Data'!$M24)))),1,0) -> 1 | H24: =$A24 -> 1 | I24: =IF(AND($H24=1,'All Data'!$C24<>"",COUNTIFS($H$2:H23,1,'All Data'!$C$2:$C23,'All Data'!$C24)=0),1,0) -> 0 | J24: =IF($I24=1,SUM($I$2:I24),"") | K24: =$A24*$B24 -> 1 | L24: =IF(AND($K24=1,'All Data'!$D24<>"",COUNTIFS($K$2:K23,1,'All Data'!$D$2:$D23,'All Data'!$D24)=0),1,0) -> 1 | M24: =IF($L24=1,SUM($L$2:L24),"") -> 12 | N24: =$A24*$B24*$C24 -> 1 | O24: =IF(AND($N24=1,'All Data'!$E24<>"",COUNTIFS($N$2:N23,1,'All Data'!$E$2:$E23,'All Data'!$E24)=0),1,0) -> 0 | P24: =IF($O24=1,SUM($O$2:O24),"") | Q24: =$A24*$B24*$C24*$D24 -> 1 | R24: =IF(AND($Q24=1,'All Data'!$F24<>"",COUNTIFS($Q$2:Q23,1,'All Data'!$F$2:$F23,'All Data'!$F24)=0),1,0) -> 0 | S24: =IF($R24=1,SUM($R$2:R24),"") | T24: =$A24*$B24*$C24*$D24*$E24 -> 1 | U24: =IF(AND($T24=1,'All Data'!$G24<>"",COUNTIFS($T$2:T23,1,'All Data'!$G$2:$G23,'All Data'!$G24)=0),1,0) -> 0 | V24: =IF($U24=1,SUM($U$2:U24),"") | W24: =$A24*$B24*$C24*$D24*$E24*$F24*$G24 -> 0 | X24: =IF($W24=1,SUM($W$2:W24),"") | Z24: =IFERROR(INDEX('All Data'!$C$2:$C$419,MATCH(22,$J$2:$J$419,0))&"","") | AB24: =IFERROR(INDEX('All Data'!$D$2:$D$419,MATCH(22,$M$2:$M$419,0))&"","") -> Metal cladding wall | AD24: =IFERROR(INDEX('All Data'!$E$2:$E$419,MATCH(22,$P$2:$P$419,0))&"","") | AF24: =IFERROR(INDEX('All Data'!$F$2:$F$419,MATCH(22,$S$2:$S$419,0))&"","") | AH24: =IFERROR(INDEX('All Data'!$G$2:$G$419,MATCH(22,$V$2:$V$419,0))&"","") -> Pre-1974
A25: =IF(OR($BA1="Any",$BA1=""),1,IF('All Data'!$B25=$BA1,1,0)) -> 1 | B25: =IF(OR($BA2="Any",$BA2=""),1,IF('All Data'!$C25=$BA2,1,0)) -> 1 | C25: =IF(OR($BA3="Any",$BA3=""),1,IF('All Data'!$D25=$BA3,1,0)) -> 1 | D25: =IF(OR($BA4="Any",$BA4=""),1,IF('All Data'!$E25=$BA4,1,0)) -> 1 | E25: =IF(OR($BA5="Any",$BA5=""),1,IF('All Data'!$F25=$BA5,1,0)) -> 1 | F25: =IF(OR($BA6="Any",$BA6=""),1,IF('All Data'!$G25=$BA6,1,0)) -> 0 | G25: =IF(AND(OR($BA$8="",ISNUMBER(SEARCH($BA$8,'All Data'!$K25&" "&'All Data'!$M25))),OR($BA$9="",ISNUMBER(SEARCH($BA$9,'All Data'!$K25&" "&'All Data'!$M25))),OR($BA$10="",ISNUMBER(SEARCH($BA$10,'All Data'!$K25&" "&'All Data'!$M25))),OR($BA$11="",ISNUMBER(SEARCH($BA$11,'All Data'!$K25&" "&'All Data'!$M25))),OR($BA$12="",ISNUMBER(SEARCH($BA$12,'All Data'!$K25&" "&'All Data'!$M25))),OR($BA$13="",ISNUMBER(SEARCH($BA$13,'All Data'!$K25&" "&'All Data'!$M25))),OR($BA$14="",ISNUMBER(SEARCH($BA$14,'All Data'!$K25&" "&'All Data'!$M25))),OR($BA$15="",ISNUMBER(SEARCH($BA$15,'All Data'!$K25&" "&'All Data'!$M25)))),1,0) -> 1 | H25: =$A25 -> 1 | I25: =IF(AND($H25=1,'All Data'!$C25<>"",COUNTIFS($H$2:H24,1,'All Data'!$C$2:$C24,'All Data'!$C25)=0),1,0) -> 0 | J25: =IF($I25=1,SUM($I$2:I25),"") | K25: =$A25*$B25 -> 1 | L25: =IF(AND($K25=1,'All Data'!$D25<>"",COUNTIFS($K$2:K24,1,'All Data'!$D$2:$D24,'All Data'!$D25)=0),1,0) -> 0 | M25: =IF($L25=1,SUM($L$2:L25),"") | N25: =$A25*$B25*$C25 -> 1 | O25: =IF(AND($N25=1,'All Data'!$E25<>"",COUNTIFS($N$2:N24,1,'All Data'!$E$2:$E24,'All Data'!$E25)=0),1,0) -> 0 | P25: =IF($O25=1,SUM($O$2:O25),"") | Q25: =$A25*$B25*$C25*$D25 -> 1 | R25: =IF(AND($Q25=1,'All Data'!$F25<>"",COUNTIFS($Q$2:Q24,1,'All Data'!$F$2:$F24,'All Data'!$F25)=0),1,0) -> 0 | S25: =IF($R25=1,SUM($R$2:R25),"") | T25: =$A25*$B25*$C25*$D25*$E25 -> 1 | U25: =IF(AND($T25=1,'All Data'!$G25<>"",COUNTIFS($T$2:T24,1,'All Data'!$G$2:$G24,'All Data'!$G25)=0),1,0) -> 0 | V25: =IF($U25=1,SUM($U$2:U25),"") | W25: =$A25*$B25*$C25*$D25*$E25*$F25*$G25 -> 0 | X25: =IF($W25=1,SUM($W$2:W25),"") | Z25: =IFERROR(INDEX('All Data'!$C$2:$C$419,MATCH(23,$J$2:$J$419,0))&"","") | AB25: =IFERROR(INDEX('All Data'!$D$2:$D$419,MATCH(23,$M$2:$M$419,0))&"","") -> Metal sheet wall | AD25: =IFERROR(INDEX('All Data'!$E$2:$E$419,MATCH(23,$P$2:$P$419,0))&"","") | AF25: =IFERROR(INDEX('All Data'!$F$2:$F$419,MATCH(23,$S$2:$S$419,0))&"","") | AH25: =IFERROR(INDEX('All Data'!$G$2:$G$419,MATCH(23,$V$2:$V$419,0))&"","") -> 1977 or earlier
A26: =IF(OR($BA1="Any",$BA1=""),1,IF('All Data'!$B26=$BA1,1,0)) -> 1 | B26: =IF(OR($BA2="Any",$BA2=""),1,IF('All Data'!$C26=$BA2,1,0)) -> 1 | C26: =IF(OR($BA3="Any",$BA3=""),1,IF('All Data'!$D26=$BA3,1,0)) -> 1 | D26: =IF(OR($BA4="Any",$BA4=""),1,IF('All Data'!$E26=$BA4,1,0)) -> 1 | E26: =IF(OR($BA5="Any",$BA5=""),1,IF('All Data'!$F26=$BA5,1,0)) -> 1 | F26: =IF(OR($BA6="Any",$BA6=""),1,IF('All Data'!$G26=$BA6,1,0)) -> 0 | G26: =IF(AND(OR($BA$8="",ISNUMBER(SEARCH($BA$8,'All Data'!$K26&" "&'All Data'!$M26))),OR($BA$9="",ISNUMBER(SEARCH($BA$9,'All Data'!$K26&" "&'All Data'!$M26))),OR($BA$10="",ISNUMBER(SEARCH($BA$10,'All Data'!$K26&" "&'All Data'!$M26))),OR($BA$11="",ISNUMBER(SEARCH($BA$11,'All Data'!$K26&" "&'All Data'!$M26))),OR($BA$12="",ISNUMBER(SEARCH($BA$12,'All Data'!$K26&" "&'All Data'!$M26))),OR($BA$13="",ISNUMBER(SEARCH($BA$13,'All Data'!$K26&" "&'All Data'!$M26))),OR($BA$14="",ISNUMBER(SEARCH($BA$14,'All Data'!$K26&" "&'All Data'!$M26))),OR($BA$15="",ISNUMBER(SEARCH($BA$15,'All Data'!$K26&" "&'All Data'!$M26)))),1,0) -> 1 | H26: =$A26 -> 1 | I26: =IF(AND($H26=1,'All Data'!$C26<>"",COUNTIFS($H$2:H25,1,'All Data'!$C$2:$C25,'All Data'!$C26)=0),1,0) -> 0 | J26: =IF($I26=1,SUM($I$2:I26),"") | K26: =$A26*$B26 -> 1 | L26: =IF(AND($K26=1,'All Data'!$D26<>"",COUNTIFS($K$2:K25,1,'All Data'!$D$2:$D25,'All Data'!$D26)=0),1,0) -> 0 | M26: =IF($L26=1,SUM($L$2:L26),"") | N26: =$A26*$B26*$C26 -> 1 | O26: =IF(AND($N26=1,'All Data'!$E26<>"",COUNTIFS($N$2:N25,1,'All Data'!$E$2:$E25,'All Data'!$E26)=0),1,0) -> 0 | P26: =IF($O26=1,SUM($O$2:O26),"") | Q26: =$A26*$B26*$C26*$D26 -> 1 | R26: =IF(AND($Q26=1,'All Data'!$F26<>"",COUNTIFS($Q$2:Q25,1,'All Data'!$F$2:$F25,'All Data'!$F26)=0),1,0) -> 0 | S26: =IF($R26=1,SUM($R$2:R26),"") | T26: =$A26*$B26*$C26*$D26*$E26 -> 1 | U26: =IF(AND($T26=1,'All Data'!$G26<>"",COUNTIFS($T$2:T25,1,'All Data'!$G$2:$G25,'All Data'!$G26)=0),1,0) -> 0 | V26: =IF($U26=1,SUM($U$2:U26),"") | W26: =$A26*$B26*$C26*$D26*$E26*$F26*$G26 -> 0 | X26: =IF($W26=1,SUM($W$2:W26),"") | Z26: =IFERROR(INDEX('All Data'!$C$2:$C$419,MATCH(24,$J$2:$J$419,0))&"","") | AB26: =IFERROR(INDEX('All Data'!$D$2:$D$419,MATCH(24,$M$2:$M$419,0))&"","") -> Log cabin wall | AD26: =IFERROR(INDEX('All Data'!$E$2:$E$419,MATCH(24,$P$2:$P$419,0))&"","") | AF26: =IFERROR(INDEX('All Data'!$F$2:$F$419,MATCH(24,$S$2:$S$419,0))&"","") | AH26: =IFERROR(INDEX('All Data'!$G$2:$G$419,MATCH(24,$V$2:$V$419,0))&"","") -> 1978-1983
A27: =IF(OR($BA1="Any",$BA1=""),1,IF('All Data'!$B27=$BA1,1,0)) -> 1 | B27: =IF(OR($BA2="Any",$BA2=""),1,IF('All Data'!$C27=$BA2,1,0)) -> 1 | C27: =IF(OR($BA3="Any",$BA3=""),1,IF('All Data'!$D27=$BA3,1,0)) -> 1 | D27: =IF(OR($BA4="Any",$BA4=""),1,IF('All Data'!$E27=$BA4,1,0)) -> 1 | E27: =IF(OR($BA5="Any",$BA5=""),1,IF('All Data'!$F27=$BA5,1,0)) -> 1 | F27: =IF(OR($BA6="Any",$BA6=""),1,IF('All Data'!$G27=$BA6,1,0)) -> 0 | G27: =IF(AND(OR($BA$8="",ISNUMBER(SEARCH($BA$8,'All Data'!$K27&" "&'All Data'!$M27))),OR($BA$9="",ISNUMBER(SEARCH($BA$9,'All Data'!$K27&" "&'All Data'!$M27))),OR($BA$10="",ISNUMBER(SEARCH($BA$10,'All Data'!$K27&" "&'All Data'!$M27))),OR($BA$11="",ISNUMBER(SEARCH($BA$11,'All Data'!$K27&" "&'All Data'!$M27))),OR($BA$12="",ISNUMBER(SEARCH($BA$12,'All Data'!$K27&" "&'All Data'!$M27))),OR($BA$13="",ISNUMBER(SEARCH($BA$13,'All Data'!$K27&" "&'All Data'!$M27))),OR($BA$14="",ISNUMBER(SEARCH($BA$14,'All Data'!$K27&" "&'All Data'!$M27))),OR($BA$15="",ISNUMBER(SEARCH($BA$15,'All Data'!$K27&" "&'All Data'!$M27)))),1,0) -> 1 | H27: =$A27 -> 1 | I27: =IF(AND($H27=1,'All Data'!$C27<>"",COUNTIFS($H$2:H26,1,'All Data'!$C$2:$C26,'All Data'!$C27)=0),1,0) -> 0 | J27: =IF($I27=1,SUM($I$2:I27),"") | K27: =$A27*$B27 -> 1 | L27: =IF(AND($K27=1,'All Data'!$D27<>"",COUNTIFS($K$2:K26,1,'All Data'!$D$2:$D26,'All Data'!$D27)=0),1,0) -> 1 | M27: =IF($L27=1,SUM($L$2:L27),"") -> 13 | N27: =$A27*$B27*$C27 -> 1 | O27: =IF(AND($N27=1,'All Data'!$E27<>"",COUNTIFS($N$2:N26,1,'All Data'!$E$2:$E26,'All Data'!$E27)=0),1,0) -> 0 | P27: =IF($O27=1,SUM($O$2:O27),"") | Q27: =$A27*$B27*$C27*$D27 -> 1 | R27: =IF(AND($Q27=1,'All Data'!$F27<>"",COUNTIFS($Q$2:Q26,1,'All Data'!$F$2:$F26,'All Data'!$F27)=0),1,0) -> 0 | S27: =IF($R27=1,SUM($R$2:R27),"") | T27: =$A27*$B27*$C27*$D27*$E27 -> 1 | U27: =IF(AND($T27=1,'All Data'!$G27<>"",COUNTIFS($T$2:T26,1,'All Data'!$G$2:$G26,'All Data'!$G27)=0),1,0) -> 1 | V27: =IF($U27=1,SUM($U$2:U27),"") -> 10 | W27: =$A27*$B27*$C27*$D27*$E27*$F27*$G27 -> 0 | X27: =IF($W27=1,SUM($W$2:W27),"") | Z27: =IFERROR(INDEX('All Data'!$C$2:$C$419,MATCH(25,$J$2:$J$419,0))&"","") | AB27: =IFERROR(INDEX('All Data'!$D$2:$D$419,MATCH(25,$M$2:$M$419,0))&"","") -> Stud wall to roof void | AD27: =IFERROR(INDEX('All Data'!$E$2:$E$419,MATCH(25,$P$2:$P$419,0))&"","") | AF27: =IFERROR(INDEX('All Data'!$F$2:$F$419,MATCH(25,$S$2:$S$419,0))&"","") | AH27: =IFERROR(INDEX('All Data'!$G$2:$G$419,MATCH(25,$V$2:$V$419,0))&"","") -> Pre-1975
A28: =IF(OR($BA1="Any",$BA1=""),1,IF('All Data'!$B28=$BA1,1,0)) -> 1 | B28: =IF(OR($BA2="Any",$BA2=""),1,IF('All Data'!$C28=$BA2,1,0)) -> 1 | C28: =IF(OR($BA3="Any",$BA3=""),1,IF('All Data'!$D28=$BA3,1,0)) -> 1 | D28: =IF(OR($BA4="Any",$BA4=""),1,IF('All Data'!$E28=$BA4,1,0)) -> 1 | E28: =IF(OR($BA5="Any",$BA5=""),1,IF('All Data'!$F28=$BA5,1,0)) -> 1 | F28: =IF(OR($BA6="Any",$BA6=""),1,IF('All Data'!$G28=$BA6,1,0)) -> 0 | G28: =IF(AND(OR($BA$8="",ISNUMBER(SEARCH($BA$8,'All Data'!$K28&" "&'All Data'!$M28))),OR($BA$9="",ISNUMBER(SEARCH($BA$9,'All Data'!$K28&" "&'All Data'!$M28))),OR($BA$10="",ISNUMBER(SEARCH($BA$10,'All Data'!$K28&" "&'All Data'!$M28))),OR($BA$11="",ISNUMBER(SEARCH($BA$11,'All Data'!$K28&" "&'All Data'!$M28))),OR($BA$12="",ISNUMBER(SEARCH($BA$12,'All Data'!$K28&" "&'All Data'!$M28))),OR($BA$13="",ISNUMBER(SEARCH($BA$13,'All Data'!$K28&" "&'All Data'!$M28))),OR($BA$14="",ISNUMBER(SEARCH($BA$14,'All Data'!$K28&" "&'All Data'!$M28))),OR($BA$15="",ISNUMBER(SEARCH($BA$15,'All Data'!$K28&" "&'All Data'!$M28)))),1,0) -> 1 | H28: =$A28 -> 1 | I28: =IF(AND($H28=1,'All Data'!$C28<>"",COUNTIFS($H$2:H27,1,'All Data'!$C$2:$C27,'All Data'!$C28)=0),1,0) -> 0 | J28: =IF($I28=1,SUM($I$2:I28),"") | K28: =$A28*$B28 -> 1 | L28: =IF(AND($K28=1,'All Data'!$D28<>"",COUNTIFS($K$2:K27,1,'All Data'!$D$2:$D27,'All Data'!$D28)=0),1,0) -> 0 | M28: =IF($L28=1,SUM($L$2:L28),"") | N28: =$A28*$B28*$C28 -> 1 | O28: =IF(AND($N28=1,'All Data'!$E28<>"",COUNTIFS($N$2:N27,1,'All Data'!$E$2:$E27,'All Data'!$E28)=0),1,0) -> 0 | P28: =IF($O28=1,SUM($O$2:O28),"") | Q28: =$A28*$B28*$C28*$D28 -> 1 | R28: =IF(AND($Q28=1,'All Data'!$F28<>"",COUNTIFS($Q$2:Q27,1,'All Data'!$F$2:$F27,'All Data'!$F28)=0),1,0) -> 0 | S28: =IF($R28=1,SUM($R$2:R28),"") | T28: =$A28*$B28*$C28*$D28*$E28 -> 1 | U28: =IF(AND($T28=1,'All Data'!$G28<>"",COUNTIFS($T$2:T27,1,'All Data'!$G$2:$G27,'All Data'!$G28)=0),1,0) -> 1 | V28: =IF($U28=1,SUM($U$2:U28),"") -> 11 | W28: =$A28*$B28*$C28*$D28*$E28*$F28*$G28 -> 0 | X28: =IF($W28=1,SUM($W$2:W28),"") | Z28: =IFERROR(INDEX('All Data'!$C$2:$C$419,MATCH(26,$J$2:$J$419,0))&"","") | AB28: =IFERROR(INDEX('All Data'!$D$2:$D$419,MATCH(26,$M$2:$M$419,0))&"","") -> Thin lightweight partition wall | AD28: =IFERROR(INDEX('All Data'!$E$2:$E$419,MATCH(26,$P$2:$P$419,0))&"","") | AF28: =IFERROR(INDEX('All Data'!$F$2:$F$419,MATCH(26,$S$2:$S$419,0))&"","") | AH28: =IFERROR(INDEX('All Data'!$G$2:$G$419,MATCH(26,$V$2:$V$419,0))&"","") -> 2002-2006
A29: =IF(OR($BA1="Any",$BA1=""),1,IF('All Data'!$B29=$BA1,1,0)) -> 1 | B29: =IF(OR($BA2="Any",$BA2=""),1,IF('All Data'!$C29=$BA2,1,0)) -> 1 | C29: =IF(OR($BA3="Any",$BA3=""),1,IF('All Data'!$D29=$BA3,1,0)) -> 1 | D29: =IF(OR($BA4="Any",$BA4=""),1,IF('All Data'!$E29=$BA4,1,0)) -> 1 | E29: =IF(OR($BA5="Any",$BA5=""),1,IF('All Data'!$F29=$BA5,1,0)) -> 1 | F29: =IF(OR($BA6="Any",$BA6=""),1,IF('All Data'!$G29=$BA6,1,0)) -> 1 | G29: =IF(AND(OR($BA$8="",ISNUMBER(SEARCH($BA$8,'All Data'!$K29&" "&'All Data'!$M29))),OR($BA$9="",ISNUMBER(SEARCH($BA$9,'All Data'!$K29&" "&'All Data'!$M29))),OR($BA$10="",ISNUMBER(SEARCH($BA$10,'All Data'!$K29&" "&'All Data'!$M29))),OR($BA$11="",ISNUMBER(SEARCH($BA$11,'All Data'!$K29&" "&'All Data'!$M29))),OR($BA$12="",ISNUMBER(SEARCH($BA$12,'All Data'!$K29&" "&'All Data'!$M29))),OR($BA$13="",ISNUMBER(SEARCH($BA$13,'All Data'!$K29&" "&'All Data'!$M29))),OR($BA$14="",ISNUMBER(SEARCH($BA$14,'All Data'!$K29&" "&'All Data'!$M29))),OR($BA$15="",ISNUMBER(SEARCH($BA$15,'All Data'!$K29&" "&'All Data'!$M29)))),1,0) -> 1 | H29: =$A29 -> 1 | I29: =IF(AND($H29=1,'All Data'!$C29<>"",COUNTIFS($H$2:H28,1,'All Data'!$C$2:$C28,'All Data'!$C29)=0),1,0) -> 0 | J29: =IF($I29=1,SUM($I$2:I29),"") | K29: =$A29*$B29 -> 1 | L29: =IF(AND($K29=1,'All Data'!$D29<>"",COUNTIFS($K$2:K28,1,'All Data'!$D$2:$D28,'All Data'!$D29)=0),1,0) -> 0 | M29: =IF($L29=1,SUM($L$2:L29),"") | N29: =$A29*$B29*$C29 -> 1 | O29: =IF(AND($N29=1,'All Data'!$E29<>"",COUNTIFS($N$2:N28,1,'All Data'!$E$2:$E28,'All Data'!$E29)=0),1,0) -> 0 | P29: =IF($O29=1,SUM($O$2:O29),"") | Q29: =$A29*$B29*$C29*$D29 -> 1 | R29: =IF(AND($Q29=1,'All Data'!$F29<>"",COUNTIFS($Q$2:Q28,1,'All Data'!$F$2:$F28,'All Data'!$F29)=0),1,0) -> 0 | S29: =IF($R29=1,SUM($R$2:R29),"") | T29: =$A29*$B29*$C29*$D29*$E29 -> 1 | U29: =IF(AND($T29=1,'All Data'!$G29<>"",COUNTIFS($T$2:T28,1,'All Data'!$G$2:$G28,'All Data'!$G29)=0),1,0) -> 1 | V29: =IF($U29=1,SUM($U$2:U29),"") -> 12 | W29: =$A29*$B29*$C29*$D29*$E29*$F29*$G29 -> 1 | X29: =IF($W29=1,SUM($W$2:W29),"") -> 1 | Z29: =IFERROR(INDEX('All Data'!$C$2:$C$419,MATCH(27,$J$2:$J$419,0))&"","") | AB29: =IFERROR(INDEX('All Data'!$D$2:$D$419,MATCH(27,$M$2:$M$419,0))&"","") -> Timber frame wall | AD29: =IFERROR(INDEX('All Data'!$E$2:$E$419,MATCH(27,$P$2:$P$419,0))&"","") | AF29: =IFERROR(INDEX('All Data'!$F$2:$F$419,MATCH(27,$S$2:$S$419,0))&"","") | AH29: =IFERROR(INDEX('All Data'!$G$2:$G$419,MATCH(27,$V$2:$V$419,0))&"","") -> 50mm min. wool
A30: =IF(OR($BA1="Any",$BA1=""),1,IF('All Data'!$B30=$BA1,1,0)) -> 1 | B30: =IF(OR($BA2="Any",$BA2=""),1,IF('All Data'!$C30=$BA2,1,0)) -> 1 | C30: =IF(OR($BA3="Any",$BA3=""),1,IF('All Data'!$D30=$BA3,1,0)) -> 1 | D30: =IF(OR($BA4="Any",$BA4=""),1,IF('All Data'!$E30=$BA4,1,0)) -> 1 | E30: =IF(OR($BA5="Any",$BA5=""),1,IF('All Data'!$F30=$BA5,1,0)) -> 1 | F30: =IF(OR($BA6="Any",$BA6=""),1,IF('All Data'!$G30=$BA6,1,0)) -> 0 | G30: =IF(AND(OR($BA$8="",ISNUMBER(SEARCH($BA$8,'All Data'!$K30&" "&'All Data'!$M30))),OR($BA$9="",ISNUMBER(SEARCH($BA$9,'All Data'!$K30&" "&'All Data'!$M30))),OR($BA$10="",ISNUMBER(SEARCH($BA$10,'All Data'!$K30&" "&'All Data'!$M30))),OR($BA$11="",ISNUMBER(SEARCH($BA$11,'All Data'!$K30&" "&'All Data'!$M30))),OR($BA$12="",ISNUMBER(SEARCH($BA$12,'All Data'!$K30&" "&'All Data'!$M30))),OR($BA$13="",ISNUMBER(SEARCH($BA$13,'All Data'!$K30&" "&'All Data'!$M30))),OR($BA$14="",ISNUMBER(SEARCH($BA$14,'All Data'!$K30&" "&'All Data'!$M30))),OR($BA$15="",ISNUMBER(SEARCH($BA$15,'All Data'!$K30&" "&'All Data'!$M30)))),1,0) -> 1 | H30: =$A30 -> 1 | I30: =IF(AND($H30=1,'All Data'!$C30<>"",COUNTIFS($H$2:H29,1,'All Data'!$C$2:$C29,'All Data'!$C30)=0),1,0) -> 0 | J30: =IF($I30=1,SUM($I$2:I30),"") | K30: =$A30*$B30 -> 1 | L30: =IF(AND($K30=1,'All Data'!$D30<>"",COUNTIFS($K$2:K29,1,'All Data'!$D$2:$D29,'All Data'!$D30)=0),1,0) -> 0 | M30: =IF($L30=1,SUM($L$2:L30),"") | N30: =$A30*$B30*$C30 -> 1 | O30: =IF(AND($N30=1,'All Data'!$E30<>"",COUNTIFS($N$2:N29,1,'All Data'!$E$2:$E29,'All Data'!$E30)=0),1,0) -> 0 | P30: =IF($O30=1,SUM($O$2:O30),"") | Q30: =$A30*$B30*$C30*$D30 -> 1 | R30: =IF(AND($Q30=1,'All Data'!$F30<>"",COUNTIFS($Q$2:Q29,1,'All Data'!$F$2:$F29,'All Data'!$F30)=0),1,0) -> 0 | S30: =IF($R30=1,SUM($R$2:R30),"") | T30: =$A30*$B30*$C30*$D30*$E30 -> 1 | U30: =IF(AND($T30=1,'All Data'!$G30<>"",COUNTIFS($T$2:T29,1,'All Data'!$G$2:$G29,'All Data'!$G30)=0),1,0) -> 1 | V30: =IF($U30=1,SUM($U$2:U30),"") -> 13 | W30: =$A30*$B30*$C30*$D30*$E30*$F30*$G30 -> 0 | X30: =IF($W30=1,SUM($W$2:W30),"") | Z30: =IFERROR(INDEX('All Data'!$C$2:$C$419,MATCH(28,$J$2:$J$419,0))&"","") | AB30: =IFERROR(INDEX('All Data'!$D$2:$D$419,MATCH(28,$M$2:$M$419,0))&"","") -> Timber framed (masonry inner leaf) | AD30: =IFERROR(INDEX('All Data'!$E$2:$E$419,MATCH(28,$P$2:$P$419,0))&"","") | AF30: =IFERROR(INDEX('All Data'!$F$2:$F$419,MATCH(28,$S$2:$S$419,0))&"","") | AH30: =IFERROR(INDEX('All Data'!$G$2:$G$419,MATCH(28,$V$2:$V$419,0))&"","") -> 75mm min. wool
A31: =IF(OR($BA1="Any",$BA1=""),1,IF('All Data'!$B31=$BA1,1,0)) -> 1 | B31: =IF(OR($BA2="Any",$BA2=""),1,IF('All Data'!$C31=$BA2,1,0)) -> 1 | C31: =IF(OR($BA3="Any",$BA3=""),1,IF('All Data'!$D31=$BA3,1,0)) -> 1 | D31: =IF(OR($BA4="Any",$BA4=""),1,IF('All Data'!$E31=$BA4,1,0)) -> 1 | E31: =IF(OR($BA5="Any",$BA5=""),1,IF('All Data'!$F31=$BA5,1,0)) -> 1 | F31: =IF(OR($BA6="Any",$BA6=""),1,IF('All Data'!$G31=$BA6,1,0)) -> 0 | G31: =IF(AND(OR($BA$8="",ISNUMBER(SEARCH($BA$8,'All Data'!$K31&" "&'All Data'!$M31))),OR($BA$9="",ISNUMBER(SEARCH($BA$9,'All Data'!$K31&" "&'All Data'!$M31))),OR($BA$10="",ISNUMBER(SEARCH($BA$10,'All Data'!$K31&" "&'All Data'!$M31))),OR($BA$11="",ISNUMBER(SEARCH($BA$11,'All Data'!$K31&" "&'All Data'!$M31))),OR($BA$12="",ISNUMBER(SEARCH($BA$12,'All Data'!$K31&" "&'All Data'!$M31))),OR($BA$13="",ISNUMBER(SEARCH($BA$13,'All Data'!$K31&" "&'All Data'!$M31))),OR($BA$14="",ISNUMBER(SEARCH($BA$14,'All Data'!$K31&" "&'All Data'!$M31))),OR($BA$15="",ISNUMBER(SEARCH($BA$15,'All Data'!$K31&" "&'All Data'!$M31)))),1,0) -> 1 | H31: =$A31 -> 1 | I31: =IF(AND($H31=1,'All Data'!$C31<>"",COUNTIFS($H$2:H30,1,'All Data'!$C$2:$C30,'All Data'!$C31)=0),1,0) -> 0 | J31: =IF($I31=1,SUM($I$2:I31),"") | K31: =$A31*$B31 -> 1 | L31: =IF(AND($K31=1,'All Data'!$D31<>"",COUNTIFS($K$2:K30,1,'All Data'!$D$2:$D30,'All Data'!$D31)=0),1,0) -> 0 | M31: =IF($L31=1,SUM($L$2:L31),"") | N31: =$A31*$B31*$C31 -> 1 | O31: =IF(AND($N31=1,'All Data'!$E31<>"",COUNTIFS($N$2:N30,1,'All Data'!$E$2:$E30,'All Data'!$E31)=0),1,0) -> 0 | P31: =IF($O31=1,SUM($O$2:O31),"") | Q31: =$A31*$B31*$C31*$D31 -> 1 | R31: =IF(AND($Q31=1,'All Data'!$F31<>"",COUNTIFS($Q$2:Q30,1,'All Data'!$F$2:$F30,'All Data'!$F31)=0),1,0) -> 0 | S31: =IF($R31=1,SUM($R$2:R31),"") | T31: =$A31*$B31*$C31*$D31*$E31 -> 1 | U31: =IF(AND($T31=1,'All Data'!$G31<>"",COUNTIFS($T$2:T30,1,'All Data'!$G$2:$G30,'All Data'!$G31)=0),1,0) -> 1 | V31: =IF($U31=1,SUM($U$2:U31),"") -> 14 | W31: =$A31*$B31*$C31*$D31*$E31*$F31*$G31 -> 0 | X31: =IF($W31=1,SUM($W$2:W31),"") | Z31: =IFERROR(INDEX('All Data'!$C$2:$C$419,MATCH(29,$J$2:$J$419,0))&"","") | AB31: =IFERROR(INDEX('All Data'!$D$2:$D$419,MATCH(29,$M$2:$M$419,0))&"","") -> Timber framed (masonry outer leaf) | AD31: =IFERROR(INDEX('All Data'!$E$2:$E$419,MATCH(29,$P$2:$P$419,0))&"","") | AF31: =IFERROR(INDEX('All Data'!$F$2:$F$419,MATCH(29,$S$2:$S$419,0))&"","") | AH31: =IFERROR(INDEX('All Data'!$G$2:$G$419,MATCH(29,$V$2:$V$419,0))&"","") -> 100mm min. wool
A32: =IF(OR($BA1="Any",$BA1=""),1,IF('All Data'!$B32=$BA1,1,0)) -> 1 | B32: =IF(OR($BA2="Any",$BA2=""),1,IF('All Data'!$C32=$BA2,1,0)) -> 1 | C32: =IF(OR($BA3="Any",$BA3=""),1,IF('All Data'!$D32=$BA3,1,0)) -> 1 | D32: =IF(OR($BA4="Any",$BA4=""),1,IF('All Data'!$E32=$BA4,1,0)) -> 1 | E32: =IF(OR($BA5="Any",$BA5=""),1,IF('All Data'!$F32=$BA5,1,0)) -> 1 | F32: =IF(OR($BA6="Any",$BA6=""),1,IF('All Data'!$G32=$BA6,1,0)) -> 0 | G32: =IF(AND(OR($BA$8="",ISNUMBER(SEARCH($BA$8,'All Data'!$K32&" "&'All Data'!$M32))),OR($BA$9="",ISNUMBER(SEARCH($BA$9,'All Data'!$K32&" "&'All Data'!$M32))),OR($BA$10="",ISNUMBER(SEARCH($BA$10,'All Data'!$K32&" "&'All Data'!$M32))),OR($BA$11="",ISNUMBER(SEARCH($BA$11,'All Data'!$K32&" "&'All Data'!$M32))),OR($BA$12="",ISNUMBER(SEARCH($BA$12,'All Data'!$K32&" "&'All Data'!$M32))),OR($BA$13="",ISNUMBER(SEARCH($BA$13,'All Data'!$K32&" "&'All Data'!$M32))),OR($BA$14="",ISNUMBER(SEARCH($BA$14,'All Data'!$K32&" "&'All Data'!$M32))),OR($BA$15="",ISNUMBER(SEARCH($BA$15,'All Data'!$K32&" "&'All Data'!$M32)))),1,0) -> 1 | H32: =$A32 -> 1 | I32: =IF(AND($H32=1,'All Data'!$C32<>"",COUNTIFS($H$2:H31,1,'All Data'!$C$2:$C31,'All Data'!$C32)=0),1,0) -> 0 | J32: =IF($I32=1,SUM($I$2:I32),"") | K32: =$A32*$B32 -> 1 | L32: =IF(AND($K32=1,'All Data'!$D32<>"",COUNTIFS($K$2:K31,1,'All Data'!$D$2:$D31,'All Data'!$D32)=0),1,0) -> 0 | M32: =IF($L32=1,SUM($L$2:L32),"") | N32: =$A32*$B32*$C32 -> 1 | O32: =IF(AND($N32=1,'All Data'!$E32<>"",COUNTIFS($N$2:N31,1,'All Data'!$E$2:$E31,'All Data'!$E32)=0),1,0) -> 0 | P32: =IF($O32=1,SUM($O$2:O32),"") | Q32: =$A32*$B32*$C32*$D32 -> 1 | R32: =IF(AND($Q32=1,'All Data'!$F32<>"",COUNTIFS($Q$2:Q31,1,'All Data'!$F$2:$F31,'All Data'!$F32)=0),1,0) -> 0 | S32: =IF($R32=1,SUM($R$2:R32),"") | T32: =$A32*$B32*$C32*$D32*$E32 -> 1 | U32: =IF(AND($T32=1,'All Data'!$G32<>"",COUNTIFS($T$2:T31,1,'All Data'!$G$2:$G31,'All Data'!$G32)=0),1,0) -> 1 | V32: =IF($U32=1,SUM($U$2:U32),"") -> 15 | W32: =$A32*$B32*$C32*$D32*$E32*$F32*$G32 -> 0 | X32: =IF($W32=1,SUM($W$2:W32),"") | Z32: =IFERROR(INDEX('All Data'!$C$2:$C$419,MATCH(30,$J$2:$J$419,0))&"","") | AB32: =IFERROR(INDEX('All Data'!$D$2:$D$419,MATCH(30,$M$2:$M$419,0))&"","") -> Timber framed (no solid leaf) | AD32: =IFERROR(INDEX('All Data'!$E$2:$E$419,MATCH(30,$P$2:$P$419,0))&"","") | AF32: =IFERROR(INDEX('All Data'!$F$2:$F$419,MATCH(30,$S$2:$S$419,0))&"","") | AH32: =IFERROR(INDEX('All Data'!$G$2:$G$419,MATCH(30,$V$2:$V$419,0))&"","") -> Retrofit
A33: =IF(OR($BA1="Any",$BA1=""),1,IF('All Data'!$B33=$BA1,1,0)) -> 1 | B33: =IF(OR($BA2="Any",$BA2=""),1,IF('All Data'!$C33=$BA2,1,0)) -> 1 | C33: =IF(OR($BA3="Any",$BA3=""),1,IF('All Data'!$D33=$BA3,1,0)) -> 1 | D33: =IF(OR($BA4="Any",$BA4=""),1,IF('All Data'!$E33=$BA4,1,0)) -> 1 | E33: =IF(OR($BA5="Any",$BA5=""),1,IF('All Data'!$F33=$BA5,1,0)) -> 1 | F33: =IF(OR($BA6="Any",$BA6=""),1,IF('All Data'!$G33=$BA6,1,0)) -> 0 | G33: =IF(AND(OR($BA$8="",ISNUMBER(SEARCH($BA$8,'All Data'!$K33&" "&'All Data'!$M33))),OR($BA$9="",ISNUMBER(SEARCH($BA$9,'All Data'!$K33&" "&'All Data'!$M33))),OR($BA$10="",ISNUMBER(SEARCH($BA$10,'All Data'!$K33&" "&'All Data'!$M33))),OR($BA$11="",ISNUMBER(SEARCH($BA$11,'All Data'!$K33&" "&'All Data'!$M33))),OR($BA$12="",ISNUMBER(SEARCH($BA$12,'All Data'!$K33&" "&'All Data'!$M33))),OR($BA$13="",ISNUMBER(SEARCH($BA$13,'All Data'!$K33&" "&'All Data'!$M33))),OR($BA$14="",ISNUMBER(SEARCH($BA$14,'All Data'!$K33&" "&'All Data'!$M33))),OR($BA$15="",ISNUMBER(SEARCH($BA$15,'All Data'!$K33&" "&'All Data'!$M33)))),1,0) -> 1 | H33: =$A33 -> 1 | I33: =IF(AND($H33=1,'All Data'!$C33<>"",COUNTIFS($H$2:H32,1,'All Data'!$C$2:$C32,'All Data'!$C33)=0),1,0) -> 0 | J33: =IF($I33=1,SUM($I$2:I33),"") | K33: =$A33*$B33 -> 1 | L33: =IF(AND($K33=1,'All Data'!$D33<>"",COUNTIFS($K$2:K32,1,'All Data'!$D$2:$D32,'All Data'!$D33)=0),1,0) -> 0 | M33: =IF($L33=1,SUM($L$2:L33),"") | N33: =$A33*$B33*$C33 -> 1 | O33: =IF(AND($N33=1,'All Data'!$E33<>"",COUNTIFS($N$2:N32,1,'All Data'!$E$2:$E32,'All Data'!$E33)=0),1,0) -> 0 | P33: =IF($O33=1,SUM($O$2:O33),"") | Q33: =$A33*$B33*$C33*$D33 -> 1 | R33: =IF(AND($Q33=1,'All Data'!$F33<>"",COUNTIFS($Q$2:Q32,1,'All Data'!$F$2:$F32,'All Data'!$F33)=0),1,0) -> 1 | S33: =IF($R33=1,SUM($R$2:R33),"") -> 3 | T33: =$A33*$B33*$C33*$D33*$E33 -> 1 | U33: =IF(AND($T33=1,'All Data'!$G33<>"",COUNTIFS($T$2:T32,1,'All Data'!$G$2:$G32,'All Data'!$G33)=0),1,0) -> 1 | V33: =IF($U33=1,SUM($U$2:U33),"") -> 16 | W33: =$A33*$B33*$C33*$D33*$E33*$F33*$G33 -> 0 | X33: =IF($W33=1,SUM($W$2:W33),"") | Z33: =IFERROR(INDEX('All Data'!$C$2:$C$419,MATCH(31,$J$2:$J$419,0))&"","") | AB33: =IFERROR(INDEX('All Data'!$D$2:$D$419,MATCH(31,$M$2:$M$419,0))&"","") -> Non-transpired solar panel, thickness 100mm | AD33: =IFERROR(INDEX('All Data'!$E$2:$E$419,MATCH(31,$P$2:$P$419,0))&"","") | AF33: =IFERROR(INDEX('All Data'!$F$2:$F$419,MATCH(31,$S$2:$S$419,0))&"","") | AH33: =IFERROR(INDEX('All Data'!$G$2:$G$419,MATCH(31,$V$2:$V$419,0))&"","") -> 1984-1991
A34: =IF(OR($BA1="Any",$BA1=""),1,IF('All Data'!$B34=$BA1,1,0)) -> 1 | B34: =IF(OR($BA2="Any",$BA2=""),1,IF('All Data'!$C34=$BA2,1,0)) -> 1 | C34: =IF(OR($BA3="Any",$BA3=""),1,IF('All Data'!$D34=$BA3,1,0)) -> 1 | D34: =IF(OR($BA4="Any",$BA4=""),1,IF('All Data'!$E34=$BA4,1,0)) -> 1 | E34: =IF(OR($BA5="Any",$BA5=""),1,IF('All Data'!$F34=$BA5,1,0)) -> 1 | F34: =IF(OR($BA6="Any",$BA6=""),1,IF('All Data'!$G34=$BA6,1,0)) -> 0 | G34: =IF(AND(OR($BA$8="",ISNUMBER(SEARCH($BA$8,'All Data'!$K34&" "&'All Data'!$M34))),OR($BA$9="",ISNUMBER(SEARCH($BA$9,'All Data'!$K34&" "&'All Data'!$M34))),OR($BA$10="",ISNUMBER(SEARCH($BA$10,'All Data'!$K34&" "&'All Data'!$M34))),OR($BA$11="",ISNUMBER(SEARCH($BA$11,'All Data'!$K34&" "&'All Data'!$M34))),OR($BA$12="",ISNUMBER(SEARCH($BA$12,'All Data'!$K34&" "&'All Data'!$M34))),OR($BA$13="",ISNUMBER(SEARCH($BA$13,'All Data'!$K34&" "&'All Data'!$M34))),OR($BA$14="",ISNUMBER(SEARCH($BA$14,'All Data'!$K34&" "&'All Data'!$M34))),OR($BA$15="",ISNUMBER(SEARCH($BA$15,'All Data'!$K34&" "&'All Data'!$M34)))),1,0) -> 1 | H34: =$A34 -> 1 | I34: =IF(AND($H34=1,'All Data'!$C34<>"",COUNTIFS($H$2:H33,1,'All Data'!$C$2:$C33,'All Data'!$C34)=0),1,0) -> 0 | J34: =IF($I34=1,SUM($I$2:I34),"") | K34: =$A34*$B34 -> 1 | L34: =IF(AND($K34=1,'All Data'!$D34<>"",COUNTIFS($K$2:K33,1,'All Data'!$D$2:$D33,'All Data'!$D34)=0),1,0) -> 0 | M34: =IF($L34=1,SUM($L$2:L34),"") | N34: =$A34*$B34*$C34 -> 1 | O34: =IF(AND($N34=1,'All Data'!$E34<>"",COUNTIFS($N$2:N33,1,'All Data'!$E$2:$E33,'All Data'!$E34)=0),1,0) -> 0 | P34: =IF($O34=1,SUM($O$2:O34),"") | Q34: =$A34*$B34*$C34*$D34 -> 1 | R34: =IF(AND($Q34=1,'All Data'!$F34<>"",COUNTIFS($Q$2:Q33,1,'All Data'!$F$2:$F33,'All Data'!$F34)=0),1,0) -> 1 | S34: =IF($R34=1,SUM($R$2:R34),"") -> 4 | T34: =$A34*$B34*$C34*$D34*$E34 -> 1 | U34: =IF(AND($T34=1,'All Data'!$G34<>"",COUNTIFS($T$2:T33,1,'All Data'!$G$2:$G33,'All Data'!$G34)=0),1,0) -> 1 | V34: =IF($U34=1,SUM($U$2:U34),"") -> 17 | W34: =$A34*$B34*$C34*$D34*$E34*$F34*$G34 -> 0 | X34: =IF($W34=1,SUM($W$2:W34),"") | Z34: =IFERROR(INDEX('All Data'!$C$2:$C$419,MATCH(32,$J$2:$J$419,0))&"","") | AB34: =IFERROR(INDEX('All Data'!$D$2:$D$419,MATCH(32,$M$2:$M$419,0))&"","") -> Non-transpired solar panel, thickness 68mm | AD34: =IFERROR(INDEX('All Data'!$E$2:$E$419,MATCH(32,$P$2:$P$419,0))&"","") | AF34: =IFERROR(INDEX('All Data'!$F$2:$F$419,MATCH(32,$S$2:$S$419,0))&"","") | AH34: =IFERROR(INDEX('All Data'!$G$2:$G$419,MATCH(32,$V$2:$V$419,0))&"","") -> 1992-1999
A35: =IF(OR($BA1="Any",$BA1=""),1,IF('All Data'!$B35=$BA1,1,0)) -> 1 | B35: =IF(OR($BA2="Any",$BA2=""),1,IF('All Data'!$C35=$BA2,1,0)) -> 1 | C35: =IF(OR($BA3="Any",$BA3=""),1,IF('All Data'!$D35=$BA3,1,0)) -> 1 | D35: =IF(OR($BA4="Any",$BA4=""),1,IF('All Data'!$E35=$BA4,1,0)) -> 1 | E35: =IF(OR($BA5="Any",$BA5=""),1,IF('All Data'!$F35=$BA5,1,0)) -> 1 | F35: =IF(OR($BA6="Any",$BA6=""),1,IF('All Data'!$G35=$BA6,1,0)) -> 0 | G35: =IF(AND(OR($BA$8="",ISNUMBER(SEARCH($BA$8,'All Data'!$K35&" "&'All Data'!$M35))),OR($BA$9="",ISNUMBER(SEARCH($BA$9,'All Data'!$K35&" "&'All Data'!$M35))),OR($BA$10="",ISNUMBER(SEARCH($BA$10,'All Data'!$K35&" "&'All Data'!$M35))),OR($BA$11="",ISNUMBER(SEARCH($BA$11,'All Data'!$K35&" "&'All Data'!$M35))),OR($BA$12="",ISNUMBER(SEARCH($BA$12,'All Data'!$K35&" "&'All Data'!$M35))),OR($BA$13="",ISNUMBER(SEARCH($BA$13,'All Data'!$K35&" "&'All Data'!$M35))),OR($BA$14="",ISNUMBER(SEARCH($BA$14,'All Data'!$K35&" "&'All Data'!$M35))),OR($BA$15="",ISNUMBER(SEARCH($BA$15,'All Data'!$K35&" "&'All Data'!$M35)))),1,0) -> 1 | H35: =$A35 -> 1 | I35: =IF(AND($H35=1,'All Data'!$C35<>"",COUNTIFS($H$2:H34,1,'All Data'!$C$2:$C34,'All Data'!$C35)=0),1,0) -> 0 | J35: =IF($I35=1,SUM($I$2:I35),"") | K35: =$A35*$B35 -> 1 | L35: =IF(AND($K35=1,'All Data'!$D35<>"",COUNTIFS($K$2:K34,1,'All Data'!$D$2:$D34,'All Data'!$D35)=0),1,0) -> 0 | M35: =IF($L35=1,SUM($L$2:L35),"") | N35: =$A35*$B35*$C35 -> 1 | O35: =IF(AND($N35=1,'All Data'!$E35<>"",COUNTIFS($N$2:N34,1,'All Data'!$E$2:$E34,'All Data'!$E35)=0),1,0) -> 0 | P35: =IF($O35=1,SUM($O$2:O35),"") | Q35: =$A35*$B35*$C35*$D35 -> 1 | R35: =IF(AND($Q35=1,'All Data'!$F35<>"",COUNTIFS($Q$2:Q34,1,'All Data'!$F$2:$F34,'All Data'!$F35)=0),1,0) -> 0 | S35: =IF($R35=1,SUM($R$2:R35),"") | T35: =$A35*$B35*$C35*$D35*$E35 -> 1 | U35: =IF(AND($T35=1,'All Data'!$G35<>"",COUNTIFS($T$2:T34,1,'All Data'!$G$2:$G34,'All Data'!$G35)=0),1,0) -> 1 | V35: =IF($U35=1,SUM($U$2:U35),"") -> 18 | W35: =$A35*$B35*$C35*$D35*$E35*$F35*$G35 -> 0 | X35: =IF($W35=1,SUM($W$2:W35),"") | Z35: =IFERROR(INDEX('All Data'!$C$2:$C$419,MATCH(33,$J$2:$J$419,0))&"","") | AB35: =IFERROR(INDEX('All Data'!$D$2:$D$419,MATCH(33,$M$2:$M$419,0))&"","") -> Non-transpired solar panel, thickness 80mm | AD35: =IFERROR(INDEX('All Data'!$E$2:$E$419,MATCH(33,$P$2:$P$419,0))&"","") | AF35: =IFERROR(INDEX('All Data'!$F$2:$F$419,MATCH(33,$S$2:$S$419,0))&"","") | AH35: =IFERROR(INDEX('All Data'!$G$2:$G$419,MATCH(33,$V$2:$V$419,0))&"","") -> 2000-2005
A36: =IF(OR($BA1="Any",$BA1=""),1,IF('All Data'!$B36=$BA1,1,0)) -> 1 | B36: =IF(OR($BA2="Any",$BA2=""),1,IF('All Data'!$C36=$BA2,1,0)) -> 1 | C36: =IF(OR($BA3="Any",$BA3=""),1,IF('All Data'!$D36=$BA3,1,0)) -> 1 | D36: =IF(OR($BA4="Any",$BA4=""),1,IF('All Data'!$E36=$BA4,1,0)) -> 1 | E36: =IF(OR($BA5="Any",$BA5=""),1,IF('All Data'!$F36=$BA5,1,0)) -> 1 | F36: =IF(OR($BA6="Any",$BA6=""),1,IF('All Data'!$G36=$BA6,1,0)) -> 0 | G36: =IF(AND(OR($BA$8="",ISNUMBER(SEARCH($BA$8,'All Data'!$K36&" "&'All Data'!$M36))),OR($BA$9="",ISNUMBER(SEARCH($BA$9,'All Data'!$K36&" "&'All Data'!$M36))),OR($BA$10="",ISNUMBER(SEARCH($BA$10,'All Data'!$K36&" "&'All Data'!$M36))),OR($BA$11="",ISNUMBER(SEARCH($BA$11,'All Data'!$K36&" "&'All Data'!$M36))),OR($BA$12="",ISNUMBER(SEARCH($BA$12,'All Data'!$K36&" "&'All Data'!$M36))),OR($BA$13="",ISNUMBER(SEARCH($BA$13,'All Data'!$K36&" "&'All Data'!$M36))),OR($BA$14="",ISNUMBER(SEARCH($BA$14,'All Data'!$K36&" "&'All Data'!$M36))),OR($BA$15="",ISNUMBER(SEARCH($BA$15,'All Data'!$K36&" "&'All Data'!$M36)))),1,0) -> 1 | H36: =$A36 -> 1 | I36: =IF(AND($H36=1,'All Data'!$C36<>"",COUNTIFS($H$2:H35,1,'All Data'!$C$2:$C35,'All Data'!$C36)=0),1,0) -> 0 | J36: =IF($I36=1,SUM($I$2:I36),"") | K36: =$A36*$B36 -> 1 | L36: =IF(AND($K36=1,'All Data'!$D36<>"",COUNTIFS($K$2:K35,1,'All Data'!$D$2:$D35,'All Data'!$D36)=0),1,0) -> 0 | M36: =IF($L36=1,SUM($L$2:L36),"") | N36: =$A36*$B36*$C36 -> 1 | O36: =IF(AND($N36=1,'All Data'!$E36<>"",COUNTIFS($N$2:N35,1,'All Data'!$E$2:$E35,'All Data'!$E36)=0),1,0) -> 0 | P36: =IF($O36=1,SUM($O$2:O36),"") | Q36: =$A36*$B36*$C36*$D36 -> 1 | R36: =IF(AND($Q36=1,'All Data'!$F36<>"",COUNTIFS($Q$2:Q35,1,'All Data'!$F$2:$F35,'All Data'!$F36)=0),1,0) -> 0 | S36: =IF($R36=1,SUM($R$2:R36),"") | T36: =$A36*$B36*$C36*$D36*$E36 -> 1 | U36: =IF(AND($T36=1,'All Data'!$G36<>"",COUNTIFS($T$2:T35,1,'All Data'!$G$2:$G35,'All Data'!$G36)=0),1,0) -> 1 | V36: =IF($U36=1,SUM($U$2:U36),"") -> 19 | W36: =$A36*$B36*$C36*$D36*$E36*$F36*$G36 -> 0 | X36: =IF($W36=1,SUM($W$2:W36),"") | Z36: =IFERROR(INDEX('All Data'!$C$2:$C$419,MATCH(34,$J$2:$J$419,0))&"","") | AB36: =IFERROR(INDEX('All Data'!$D$2:$D$419,MATCH(34,$M$2:$M$419,0))&"","") -> Steel frame wall-50mm exp. polystyrene | AD36: =IFERROR(INDEX('All Data'!$E$2:$E$419,MATCH(34,$P$2:$P$419,0))&"","") | AF36: =IFERROR(INDEX('All Data'!$F$2:$F$419,MATCH(34,$S$2:$S$419,0))&"","") | AH36: =IFERROR(INDEX('All Data'!$G$2:$G$419,MATCH(34,$V$2:$V$419,0))&"","") -> 50mm phenolic foam
A37: =IF(OR($BA1="Any",$BA1=""),1,IF('All Data'!$B37=$BA1,1,0)) -> 1 | B37: =IF(OR($BA2="Any",$BA2=""),1,IF('All Data'!$C37=$BA2,1,0)) -> 1 | C37: =IF(OR($BA3="Any",$BA3=""),1,IF('All Data'!$D37=$BA3,1,0)) -> 1 | D37: =IF(OR($BA4="Any",$BA4=""),1,IF('All Data'!$E37=$BA4,1,0)) -> 1 | E37: =IF(OR($BA5="Any",$BA5=""),1,IF('All Data'!$F37=$BA5,1,0)) -> 1 | F37: =IF(OR($BA6="Any",$BA6=""),1,IF('All Data'!$G37=$BA6,1,0)) -> 0 | G37: =IF(AND(OR($BA$8="",ISNUMBER(SEARCH($BA$8,'All Data'!$K37&" "&'All Data'!$M37))),OR($BA$9="",ISNUMBER(SEARCH($BA$9,'All Data'!$K37&" "&'All Data'!$M37))),OR($BA$10="",ISNUMBER(SEARCH($BA$10,'All Data'!$K37&" "&'All Data'!$M37))),OR($BA$11="",ISNUMBER(SEARCH($BA$11,'All Data'!$K37&" "&'All Data'!$M37))),OR($BA$12="",ISNUMBER(SEARCH($BA$12,'All Data'!$K37&" "&'All Data'!$M37))),OR($BA$13="",ISNUMBER(SEARCH($BA$13,'All Data'!$K37&" "&'All Data'!$M37))),OR($BA$14="",ISNUMBER(SEARCH($BA$14,'All Data'!$K37&" "&'All Data'!$M37))),OR($BA$15="",ISNUMBER(SEARCH($BA$15,'All Data'!$K37&" "&'All Data'!$M37)))),1,0) -> 1 | H37: =$A37 -> 1 | I37: =IF(AND($H37=1,'All Data'!$C37<>"",COUNTIFS($H$2:H36,1,'All Data'!$C$2:$C36,'All Data'!$C37)=0),1,0) -> 0 | J37: =IF($I37=1,SUM($I$2:I37),"") | K37: =$A37*$B37 -> 1 | L37: =IF(AND($K37=1,'All Data'!$D37<>"",COUNTIFS($K$2:K36,1,'All Data'!$D$2:$D36,'All Data'!$D37)=0),1,0) -> 0 | M37: =IF($L37=1,SUM($L$2:L37),"") | N37: =$A37*$B37*$C37 -> 1 | O37: =IF(AND($N37=1,'All Data'!$E37<>"",COUNTIFS($N$2:N36,1,'All Data'!$E$2:$E36,'All Data'!$E37)=0),1,0) -> 0 | P37: =IF($O37=1,SUM($O$2:O37),"") | Q37: =$A37*$B37*$C37*$D37 -> 1 | R37: =IF(AND($Q37=1,'All Data'!$F37<>"",COUNTIFS($Q$2:Q36,1,'All Data'!$F$2:$F36,'All Data'!$F37)=0),1,0) -> 0 | S37: =IF($R37=1,SUM($R$2:R37),"") | T37: =$A37*$B37*$C37*$D37*$E37 -> 1 | U37: =IF(AND($T37=1,'All Data'!$G37<>"",COUNTIFS($T$2:T36,1,'All Data'!$G$2:$G36,'All Data'!$G37)=0),1,0) -> 1 | V37: =IF($U37=1,SUM($U$2:U37),"") -> 20 | W37: =$A37*$B37*$C37*$D37*$E37*$F37*$G37 -> 0 | X37: =IF($W37=1,SUM($W$2:W37),"") | Z37: =IFERROR(INDEX('All Data'!$C$2:$C$419,MATCH(35,$J$2:$J$419,0))&"","") | AB37: =IFERROR(INDEX('All Data'!$D$2:$D$419,MATCH(35,$M$2:$M$419,0))&"","") -> Steel frame wall-50mm polyurethane | AD37: =IFERROR(INDEX('All Data'!$E$2:$E$419,MATCH(35,$P$2:$P$419,0))&"","") | AF37: =IFERROR(INDEX('All Data'!$F$2:$F$419,MATCH(35,$S$2:$S$419,0))&"","") | AH37: =IFERROR(INDEX('All Data'!$G$2:$G$419,MATCH(35,$V$2:$V$419,0))&"","") -> 50mm polyurethane
A38: =IF(OR($BA1="Any",$BA1=""),1,IF('All Data'!$B38=$BA1,1,0)) -> 1 | B38: =IF(OR($BA2="Any",$BA2=""),1,IF('All Data'!$C38=$BA2,1,0)) -> 1 | C38: =IF(OR($BA3="Any",$BA3=""),1,IF('All Data'!$D38=$BA3,1,0)) -> 1 | D38: =IF(OR($BA4="Any",$BA4=""),1,IF('All Data'!$E38=$BA4,1,0)) -> 1 | E38: =IF(OR($BA5="Any",$BA5=""),1,IF('All Data'!$F38=$BA5,1,0)) -> 1 | F38: =IF(OR($BA6="Any",$BA6=""),1,IF('All Data'!$G38=$BA6,1,0)) -> 0 | G38: =IF(AND(OR($BA$8="",ISNUMBER(SEARCH($BA$8,'All Data'!$K38&" "&'All Data'!$M38))),OR($BA$9="",ISNUMBER(SEARCH($BA$9,'All Data'!$K38&" "&'All Data'!$M38))),OR($BA$10="",ISNUMBER(SEARCH($BA$10,'All Data'!$K38&" "&'All Data'!$M38))),OR($BA$11="",ISNUMBER(SEARCH($BA$11,'All Data'!$K38&" "&'All Data'!$M38))),OR($BA$12="",ISNUMBER(SEARCH($BA$12,'All Data'!$K38&" "&'All Data'!$M38))),OR($BA$13="",ISNUMBER(SEARCH($BA$13,'All Data'!$K38&" "&'All Data'!$M38))),OR($BA$14="",ISNUMBER(SEARCH($BA$14,'All Data'!$K38&" "&'All Data'!$M38))),OR($BA$15="",ISNUMBER(SEARCH($BA$15,'All Data'!$K38&" "&'All Data'!$M38)))),1,0) -> 1 | H38: =$A38 -> 1 | I38: =IF(AND($H38=1,'All Data'!$C38<>"",COUNTIFS($H$2:H37,1,'All Data'!$C$2:$C37,'All Data'!$C38)=0),1,0) -> 0 | J38: =IF($I38=1,SUM($I$2:I38),"") | K38: =$A38*$B38 -> 1 | L38: =IF(AND($K38=1,'All Data'!$D38<>"",COUNTIFS($K$2:K37,1,'All Data'!$D$2:$D37,'All Data'!$D38)=0),1,0) -> 0 | M38: =IF($L38=1,SUM($L$2:L38),"") | N38: =$A38*$B38*$C38 -> 1 | O38: =IF(AND($N38=1,'All Data'!$E38<>"",COUNTIFS($N$2:N37,1,'All Data'!$E$2:$E37,'All Data'!$E38)=0),1,0) -> 0 | P38: =IF($O38=1,SUM($O$2:O38),"") | Q38: =$A38*$B38*$C38*$D38 -> 1 | R38: =IF(AND($Q38=1,'All Data'!$F38<>"",COUNTIFS($Q$2:Q37,1,'All Data'!$F$2:$F37,'All Data'!$F38)=0),1,0) -> 0 | S38: =IF($R38=1,SUM($R$2:R38),"") | T38: =$A38*$B38*$C38*$D38*$E38 -> 1 | U38: =IF(AND($T38=1,'All Data'!$G38<>"",COUNTIFS($T$2:T37,1,'All Data'!$G$2:$G37,'All Data'!$G38)=0),1,0) -> 0 | V38: =IF($U38=1,SUM($U$2:U38),"") | W38: =$A38*$B38*$C38*$D38*$E38*$F38*$G38 -> 0 | X38: =IF($W38=1,SUM($W$2:W38),"") | Z38: =IFERROR(INDEX('All Data'!$C$2:$C$419,MATCH(36,$J$2:$J$419,0))&"","") | AB38: =IFERROR(INDEX('All Data'!$D$2:$D$419,MATCH(36,$M$2:$M$419,0))&"","") -> Steel frame wall-75mm exp. polystyrene | AD38: =IFERROR(INDEX('All Data'!$E$2:$E$419,MATCH(36,$P$2:$P$419,0))&"","") | AF38: =IFERROR(INDEX('All Data'!$F$2:$F$419,MATCH(36,$S$2:$S$419,0))&"","") | AH38: =IFERROR(INDEX('All Data'!$G$2:$G$419,MATCH(36,$V$2:$V$419,0))&"","") -> 75mm phenolic foam
A39: =IF(OR($BA1="Any",$BA1=""),1,IF('All Data'!$B39=$BA1,1,0)) -> 1 | B39: =IF(OR($BA2="Any",$BA2=""),1,IF('All Data'!$C39=$BA2,1,0)) -> 1 | C39: =IF(OR($BA3="Any",$BA3=""),1,IF('All Data'!$D39=$BA3,1,0)) -> 1 | D39: =IF(OR($BA4="Any",$BA4=""),1,IF('All Data'!$E39=$BA4,1,0)) -> 1 | E39: =IF(OR($BA5="Any",$BA5=""),1,IF('All Data'!$F39=$BA5,1,0)) -> 1 | F39: =IF(OR($BA6="Any",$BA6=""),1,IF('All Data'!$G39=$BA6,1,0)) -> 0 | G39: =IF(AND(OR($BA$8="",ISNUMBER(SEARCH($BA$8,'All Data'!$K39&" "&'All Data'!$M39))),OR($BA$9="",ISNUMBER(SEARCH($BA$9,'All Data'!$K39&" "&'All Data'!$M39))),OR($BA$10="",ISNUMBER(SEARCH($BA$10,'All Data'!$K39&" "&'All Data'!$M39))),OR($BA$11="",ISNUMBER(SEARCH($BA$11,'All Data'!$K39&" "&'All Data'!$M39))),OR($BA$12="",ISNUMBER(SEARCH($BA$12,'All Data'!$K39&" "&'All Data'!$M39))),OR($BA$13="",ISNUMBER(SEARCH($BA$13,'All Data'!$K39&" "&'All Data'!$M39))),OR($BA$14="",ISNUMBER(SEARCH($BA$14,'All Data'!$K39&" "&'All Data'!$M39))),OR($BA$15="",ISNUMBER(SEARCH($BA$15,'All Data'!$K39&" "&'All Data'!$M39)))),1,0) -> 1 | H39: =$A39 -> 1 | I39: =IF(AND($H39=1,'All Data'!$C39<>"",COUNTIFS($H$2:H38,1,'All Data'!$C$2:$C38,'All Data'!$C39)=0),1,0) -> 0 | J39: =IF($I39=1,SUM($I$2:I39),"") | K39: =$A39*$B39 -> 1 | L39: =IF(AND($K39=1,'All Data'!$D39<>"",COUNTIFS($K$2:K38,1,'All Data'!$D$2:$D38,'All Data'!$D39)=0),1,0) -> 0 | M39: =IF($L39=1,SUM($L$2:L39),"") | N39: =$A39*$B39*$C39 -> 1 | O39: =IF(AND($N39=1,'All Data'!$E39<>"",COUNTIFS($N$2:N38,1,'All Data'!$E$2:$E38,'All Data'!$E39)=0),1,0) -> 0 | P39: =IF($O39=1,SUM($O$2:O39),"") | Q39: =$A39*$B39*$C39*$D39 -> 1 | R39: =IF(AND($Q39=1,'All Data'!$F39<>"",COUNTIFS($Q$2:Q38,1,'All Data'!$F$2:$F38,'All Data'!$F39)=0),1,0) -> 0 | S39: =IF($R39=1,SUM($R$2:R39),"") | T39: =$A39*$B39*$C39*$D39*$E39 -> 1 | U39: =IF(AND($T39=1,'All Data'!$G39<>"",COUNTIFS($T$2:T38,1,'All Data'!$G$2:$G38,'All Data'!$G39)=0),1,0) -> 1 | V39: =IF($U39=1,SUM($U$2:U39),"") -> 21 | W39: =$A39*$B39*$C39*$D39*$E39*$F39*$G39 -> 0 | X39: =IF($W39=1,SUM($W$2:W39),"") | Z39: =IFERROR(INDEX('All Data'!$C$2:$C$419,MATCH(37,$J$2:$J$419,0))&"","") | AB39: =IFERROR(INDEX('All Data'!$D$2:$D$419,MATCH(37,$M$2:$M$419,0))&"","") -> Steel frame wall-75mm polyurethane | AD39: =IFERROR(INDEX('All Data'!$E$2:$E$419,MATCH(37,$P$2:$P$419,0))&"","") | AF39: =IFERROR(INDEX('All Data'!$F$2:$F$419,MATCH(37,$S$2:$S$419,0))&"","") | AH39: =IFERROR(INDEX('All Data'!$G$2:$G$419,MATCH(37,$V$2:$V$419,0))&"","") -> 75mm polyurethane
A40: =IF(OR($BA1="Any",$BA1=""),1,IF('All Data'!$B40=$BA1,1,0)) -> 1 | B40: =IF(OR($BA2="Any",$BA2=""),1,IF('All Data'!$C40=$BA2,1,0)) -> 1 | C40: =IF(OR($BA3="Any",$BA3=""),1,IF('All Data'!$D40=$BA3,1,0)) -> 1 | D40: =IF(OR($BA4="Any",$BA4=""),1,IF('All Data'!$E40=$BA4,1,0)) -> 1 | E40: =IF(OR($BA5="Any",$BA5=""),1,IF('All Data'!$F40=$BA5,1,0)) -> 1 | F40: =IF(OR($BA6="Any",$BA6=""),1,IF('All Data'!$G40=$BA6,1,0)) -> 0 | G40: =IF(AND(OR($BA$8="",ISNUMBER(SEARCH($BA$8,'All Data'!$K40&" "&'All Data'!$M40))),OR($BA$9="",ISNUMBER(SEARCH($BA$9,'All Data'!$K40&" "&'All Data'!$M40))),OR($BA$10="",ISNUMBER(SEARCH($BA$10,'All Data'!$K40&" "&'All Data'!$M40))),OR($BA$11="",ISNUMBER(SEARCH($BA$11,'All Data'!$K40&" "&'All Data'!$M40))),OR($BA$12="",ISNUMBER(SEARCH($BA$12,'All Data'!$K40&" "&'All Data'!$M40))),OR($BA$13="",ISNUMBER(SEARCH($BA$13,'All Data'!$K40&" "&'All Data'!$M40))),OR($BA$14="",ISNUMBER(SEARCH($BA$14,'All Data'!$K40&" "&'All Data'!$M40))),OR($BA$15="",ISNUMBER(SEARCH($BA$15,'All Data'!$K40&" "&'All Data'!$M40)))),1,0) -> 1 | H40: =$A40 -> 1 | I40: =IF(AND($H40=1,'All Data'!$C40<>"",COUNTIFS($H$2:H39,1,'All Data'!$C$2:$C39,'All Data'!$C40)=0),1,0) -> 0 | J40: =IF($I40=1,SUM($I$2:I40),"") | K40: =$A40*$B40 -> 1 | L40: =IF(AND($K40=1,'All Data'!$D40<>"",COUNTIFS($K$2:K39,1,'All Data'!$D$2:$D39,'All Data'!$D40)=0),1,0) -> 0 | M40: =IF($L40=1,SUM($L$2:L40),"") | N40: =$A40*$B40*$C40 -> 1 | O40: =IF(AND($N40=1,'All Data'!$E40<>"",COUNTIFS($N$2:N39,1,'All Data'!$E$2:$E39,'All Data'!$E40)=0),1,0) -> 0 | P40: =IF($O40=1,SUM($O$2:O40),"") | Q40: =$A40*$B40*$C40*$D40 -> 1 | R40: =IF(AND($Q40=1,'All Data'!$F40<>"",COUNTIFS($Q$2:Q39,1,'All Data'!$F$2:$F39,'All Data'!$F40)=0),1,0) -> 0 | S40: =IF($R40=1,SUM($R$2:R40),"") | T40: =$A40*$B40*$C40*$D40*$E40 -> 1 | U40: =IF(AND($T40=1,'All Data'!$G40<>"",COUNTIFS($T$2:T39,1,'All Data'!$G$2:$G39,'All Data'!$G40)=0),1,0) -> 0 | V40: =IF($U40=1,SUM($U$2:U40),"") | W40: =$A40*$B40*$C40*$D40*$E40*$F40*$G40 -> 0 | X40: =IF($W40=1,SUM($W$2:W40),"") | Z40: =IFERROR(INDEX('All Data'!$C$2:$C$419,MATCH(38,$J$2:$J$419,0))&"","") | AB40: =IFERROR(INDEX('All Data'!$D$2:$D$419,MATCH(38,$M$2:$M$419,0))&"","") | AD40: =IFERROR(INDEX('All Data'!$E$2:$E$419,MATCH(38,$P$2:$P$419,0))&"","") | AF40: =IFERROR(INDEX('All Data'!$F$2:$F$419,MATCH(38,$S$2:$S$419,0))&"","") | AH40: =IFERROR(INDEX('All Data'!$G$2:$G$419,MATCH(38,$V$2:$V$419,0))&"","") -> No insulation
A41: =IF(OR($BA1="Any",$BA1=""),1,IF('All Data'!$B41=$BA1,1,0)) -> 1 | B41: =IF(OR($BA2="Any",$BA2=""),1,IF('All Data'!$C41=$BA2,1,0)) -> 1 | C41: =IF(OR($BA3="Any",$BA3=""),1,IF('All Data'!$D41=$BA3,1,0)) -> 1 | D41: =IF(OR($BA4="Any",$BA4=""),1,IF('All Data'!$E41=$BA4,1,0)) -> 1 | E41: =IF(OR($BA5="Any",$BA5=""),1,IF('All Data'!$F41=$BA5,1,0)) -> 1 | F41: =IF(OR($BA6="Any",$BA6=""),1,IF('All Data'!$G41=$BA6,1,0)) -> 0 | G41: =IF(AND(OR($BA$8="",ISNUMBER(SEARCH($BA$8,'All Data'!$K41&" "&'All Data'!$M41))),OR($BA$9="",ISNUMBER(SEARCH($BA$9,'All Data'!$K41&" "&'All Data'!$M41))),OR($BA$10="",ISNUMBER(SEARCH($BA$10,'All Data'!$K41&" "&'All Data'!$M41))),OR($BA$11="",ISNUMBER(SEARCH($BA$11,'All Data'!$K41&" "&'All Data'!$M41))),OR($BA$12="",ISNUMBER(SEARCH($BA$12,'All Data'!$K41&" "&'All Data'!$M41))),OR($BA$13="",ISNUMBER(SEARCH($BA$13,'All Data'!$K41&" "&'All Data'!$M41))),OR($BA$14="",ISNUMBER(SEARCH($BA$14,'All Data'!$K41&" "&'All Data'!$M41))),OR($BA$15="",ISNUMBER(SEARCH($BA$15,'All Data'!$K41&" "&'All Data'!$M41)))),1,0) -> 1 | H41: =$A41 -> 1 | I41: =IF(AND($H41=1,'All Data'!$C41<>"",COUNTIFS($H$2:H40,1,'All Data'!$C$2:$C40,'All Data'!$C41)=0),1,0) -> 1 | J41: =IF($I41=1,SUM($I$2:I41),"") -> 2 | K41: =$A41*$B41 -> 1 | L41: =IF(AND($K41=1,'All Data'!$D41<>"",COUNTIFS($K$2:K40,1,'All Data'!$D$2:$D40,'All Data'!$D41)=0),1,0) -> 1 | M41: =IF($L41=1,SUM($L$2:L41),"") -> 14 | N41: =$A41*$B41*$C41 -> 1 | O41: =IF(AND($N41=1,'All Data'!$E41<>"",COUNTIFS($N$2:N40,1,'All Data'!$E$2:$E40,'All Data'!$E41)=0),1,0) -> 0 | P41: =IF($O41=1,SUM($O$2:O41),"") | Q41: =$A41*$B41*$C41*$D41 -> 1 | R41: =IF(AND($Q41=1,'All Data'!$F41<>"",COUNTIFS($Q$2:Q40,1,'All Data'!$F$2:$F40,'All Data'!$F41)=0),1,0) -> 0 | S41: =IF($R41=1,SUM($R$2:R41),"") | T41: =$A41*$B41*$C41*$D41*$E41 -> 1 | U41: =IF(AND($T41=1,'All Data'!$G41<>"",COUNTIFS($T$2:T40,1,'All Data'!$G$2:$G40,'All Data'!$G41)=0),1,0) -> 1 | V41: =IF($U41=1,SUM($U$2:U41),"") -> 22 | W41: =$A41*$B41*$C41*$D41*$E41*$F41*$G41 -> 0 | X41: =IF($W41=1,SUM($W$2:W41),"") | Z41: =IFERROR(INDEX('All Data'!$C$2:$C$419,MATCH(39,$J$2:$J$419,0))&"","") | AB41: =IFERROR(INDEX('All Data'!$D$2:$D$419,MATCH(39,$M$2:$M$419,0))&"","") | AD41: =IFERROR(INDEX('All Data'!$E$2:$E$419,MATCH(39,$P$2:$P$419,0))&"","") | AF41: =IFERROR(INDEX('All Data'!$F$2:$F$419,MATCH(39,$S$2:$S$419,0))&"","") | AH41: =IFERROR(INDEX('All Data'!$G$2:$G$419,MATCH(39,$V$2:$V$419,0))&"","") -> Pre-1980
